BEGIN:VCALENDAR
VERSION:2.0
PRODID:-//The Improv Shop - ECPv6.15.16//NONSGML v1.0//EN
CALSCALE:GREGORIAN
METHOD:PUBLISH
X-ORIGINAL-URL:https://theimprovshop.com
X-WR-CALDESC:Events for The Improv Shop
REFRESH-INTERVAL;VALUE=DURATION:PT1H
X-Robots-Tag:noindex
X-PUBLISHED-TTL:PT1H
BEGIN:VTIMEZONE
TZID:America/Chicago
BEGIN:DAYLIGHT
TZOFFSETFROM:-0600
TZOFFSETTO:-0500
TZNAME:CDT
DTSTART:20250309T080000
END:DAYLIGHT
BEGIN:STANDARD
TZOFFSETFROM:-0500
TZOFFSETTO:-0600
TZNAME:CST
DTSTART:20251102T070000
END:STANDARD
BEGIN:DAYLIGHT
TZOFFSETFROM:-0600
TZOFFSETTO:-0500
TZNAME:CDT
DTSTART:20260308T080000
END:DAYLIGHT
BEGIN:STANDARD
TZOFFSETFROM:-0500
TZOFFSETTO:-0600
TZNAME:CST
DTSTART:20261101T070000
END:STANDARD
BEGIN:DAYLIGHT
TZOFFSETFROM:-0600
TZOFFSETTO:-0500
TZNAME:CDT
DTSTART:20270314T080000
END:DAYLIGHT
BEGIN:STANDARD
TZOFFSETFROM:-0500
TZOFFSETTO:-0600
TZNAME:CST
DTSTART:20271107T070000
END:STANDARD
END:VTIMEZONE
BEGIN:VEVENT
DTSTART;TZID=America/Chicago:20260327T210000
DTEND;TZID=America/Chicago:20260327T223000
DTSTAMP:20260423T193959
CREATED:20260204T155339Z
LAST-MODIFIED:20260224T152119Z
UID:54208-1774645200-1774650600@theimprovshop.com
SUMMARY:Missed Connections
DESCRIPTION:Missed Connections is a long-form improv show inspired by the strange\, sweet\, and sometimes unhinged world of Craigslist Missed Connections. \nUsing real posts pulled from the depths of the internet\, the cast dives into the lives\, motivations\, psychology\, and relationships of the people who feel compelled to shout into the abyss in hopes of finding connection.
URL:https://theimprovshop.com/show/missed-connections-3/
LOCATION:St. Louis\, 3960 Chouteau Ave.\, St. Louis\, MO\, 63110\, United States
CATEGORIES:Improvisation
ATTACH;FMTTYPE=image/jpeg:https://theimprovshop.com/cdn-cgi/imagedelivery/nK-Zp4rePU3J22_LxCmgmQ/theimprovshop.com/2025/12/Missed-Connections-Jack-Jacobsen.jpg/w=9999
END:VEVENT
BEGIN:VEVENT
DTSTART;TZID=America/Chicago:20260328T190000
DTEND;TZID=America/Chicago:20260328T203000
DTSTAMP:20260423T193959
CREATED:20260126T150248Z
LAST-MODIFIED:20260126T150248Z
UID:53984-1774724400-1774729800@theimprovshop.com
SUMMARY:Transgender Day of Visibility
DESCRIPTION:Join us for a fun and honest chat with trans\, non-binary\, and gender-expansive improvisers as we dive into queer history and share our personal stories!
URL:https://theimprovshop.com/show/transgender-day-of-visibility/
LOCATION:St. Louis\, 3960 Chouteau Ave.\, St. Louis\, MO\, 63110\, United States
CATEGORIES:Improvisation
ATTACH;FMTTYPE=image/png:https://theimprovshop.com/cdn-cgi/imagedelivery/nK-Zp4rePU3J22_LxCmgmQ/theimprovshop.com/2026/01/Transgender-Day-of-Visibility1.png/w=9999
END:VEVENT
BEGIN:VEVENT
DTSTART;TZID=America/Chicago:20260328T190000
DTEND;TZID=America/Chicago:20260328T213000
DTSTAMP:20260423T193959
CREATED:20260204T160455Z
LAST-MODIFIED:20260224T152238Z
UID:54231-1774724400-1774733400@theimprovshop.com
SUMMARY:HOT SEATS: A Scoville Squad Showcase
DESCRIPTION:Improvisors + Hot Sauce = Onstage madness! Join Scoville Squad\, your hosts\, as they run two fellow improv teams through the gauntlet of spicy hot sauces. Who will win\, the Scoville Scale\, or the Improvisors? Come find out!
URL:https://theimprovshop.com/show/hot-seats-a-scoville-squad-showcase/
LOCATION:St. Louis\, 3960 Chouteau Ave.\, St. Louis\, MO\, 63110\, United States
CATEGORIES:Improvisation
ATTACH;FMTTYPE=image/jpeg:https://theimprovshop.com/cdn-cgi/imagedelivery/nK-Zp4rePU3J22_LxCmgmQ/theimprovshop.com/2025/12/HOT-SEATS-Promo-Image-v1-Austyn-Konarcik.jpg/w=9999
END:VEVENT
BEGIN:VEVENT
DTSTART;TZID=America/Chicago:20260328T210000
DTEND;TZID=America/Chicago:20260328T223000
DTSTAMP:20260423T193959
CREATED:20260204T153115Z
LAST-MODIFIED:20260326T212856Z
UID:54175-1774731600-1774737000@theimprovshop.com
SUMMARY:Kitsune Dojo: The Shifting Spirit
DESCRIPTION:In Japanese folklore\, the Kitsune is a powerful fox spirit that can shapeshift and bewitch. A Dojo is a sacred space for learning the Way. \nStep into the Kitsune Dojo\, where reality is as fluid as a spirit’s illusion. Our cast will draw upon a community-created roster of anime-inspired characters and\, with a spark of inspiration from the audience\, become them. Witness a captivating journey of transformation as they forge a complete story arc right before your eyes. Every scene is a surprise\, every character a new destiny.
URL:https://theimprovshop.com/show/kitsune-dojo-the-shifting-spirit-3/
LOCATION:St. Louis\, 3960 Chouteau Ave.\, St. Louis\, MO\, 63110\, United States
CATEGORIES:Improvisation
ATTACH;FMTTYPE=image/png:https://theimprovshop.com/cdn-cgi/imagedelivery/nK-Zp4rePU3J22_LxCmgmQ/theimprovshop.com/2026/01/Kitsune-Dojo.png/w=9999
END:VEVENT
BEGIN:VEVENT
DTSTART;TZID=America/Chicago:20260330T190000
DTEND;TZID=America/Chicago:20260330T203000
DTSTAMP:20260423T193959
CREATED:20260303T150922Z
LAST-MODIFIED:20260303T150922Z
UID:55228-1774897200-1774902600@theimprovshop.com
SUMMARY:Teams Level 2 Student Showcase
DESCRIPTION:Join our Teams Level 2 students as they showcase their talents every Monday at 7pm in mainstage! \nThis is a free event!
URL:https://theimprovshop.com/show/teams-level-2-student-showcase/
LOCATION:St. Louis\, 3960 Chouteau Ave.\, St. Louis\, MO\, 63110\, United States
CATEGORIES:Improvisation,Student Showcase
ATTACH;FMTTYPE=image/jpeg:https://theimprovshop.com/cdn-cgi/imagedelivery/nK-Zp4rePU3J22_LxCmgmQ/theimprovshop.com/2025/09/SIGNAGE-TL2student-showcase-696x1080-NO-JAM.jpg/w=9999
END:VEVENT
BEGIN:VEVENT
DTSTART;TZID=America/Chicago:20260330T190000
DTEND;TZID=America/Chicago:20260330T203000
DTSTAMP:20260423T193959
CREATED:20260303T151524Z
LAST-MODIFIED:20260303T151524Z
UID:55244-1774897200-1774902600@theimprovshop.com
SUMMARY:Teams Level 1 Student Showcase
DESCRIPTION:Join our Teams Level 1 students every Monday at 7pm on sidestage as they showcase their talents over the 8-weeks of their class. \nThis is a free event!
URL:https://theimprovshop.com/show/teams-level-1-student-showcase/
LOCATION:St. Louis\, 3960 Chouteau Ave.\, St. Louis\, MO\, 63110\, United States
CATEGORIES:Improvisation,Student Showcase
ATTACH;FMTTYPE=image/jpeg:https://theimprovshop.com/cdn-cgi/imagedelivery/nK-Zp4rePU3J22_LxCmgmQ/theimprovshop.com/2023/04/SIGNAGE-TL1side-student-showcase-696x1080-1.jpg/w=9999
END:VEVENT
BEGIN:VEVENT
DTSTART;TZID=America/Chicago:20260402T190000
DTEND;TZID=America/Chicago:20260402T203000
DTSTAMP:20260423T193959
CREATED:20260302T200213Z
LAST-MODIFIED:20260401T182443Z
UID:55133-1775156400-1775161800@theimprovshop.com
SUMMARY:House Team Night & Jam
DESCRIPTION:Three Improv Shop House Teams take the stage! Each week you’ll see different styles and flavors of longform improv\, all in a nice little three set package. Stick around afterwards for The Jam for your opportunity to play along\, or just sit back and watch! \nThis week’s teams:\n2zin Tarandon\, Sophie Tucker\, DICK
URL:https://theimprovshop.com/show/house-team-night-jam-17/
LOCATION:St. Louis\, 3960 Chouteau Ave.\, St. Louis\, MO\, 63110\, United States
CATEGORIES:Improvisation
ATTACH;FMTTYPE=image/jpeg:https://theimprovshop.com/cdn-cgi/imagedelivery/nK-Zp4rePU3J22_LxCmgmQ/theimprovshop.com/2025/11/house-team-night-2026-copy.jpg/w=9999
END:VEVENT
BEGIN:VEVENT
DTSTART;TZID=America/Chicago:20260402T190000
DTEND;TZID=America/Chicago:20260402T203000
DTSTAMP:20260423T193959
CREATED:20260320T151752Z
LAST-MODIFIED:20260401T182511Z
UID:55834-1775156400-1775161800@theimprovshop.com
SUMMARY:The Menagerie
DESCRIPTION:Come one! Come all! and catch three local improv teams as they perform in front of a live audience. Just like a zoo!…except there’s no cages or fish tanks.
URL:https://theimprovshop.com/show/the-menagerie/
LOCATION:St. Louis\, 3960 Chouteau Ave.\, St. Louis\, MO\, 63110\, United States
CATEGORIES:Improvisation
ATTACH;FMTTYPE=image/jpeg:https://theimprovshop.com/cdn-cgi/imagedelivery/nK-Zp4rePU3J22_LxCmgmQ/theimprovshop.com/2025/06/826334f4-6984-43cf-a01c-d2136cec877d.jpg/w=9999
END:VEVENT
BEGIN:VEVENT
DTSTART;TZID=America/Chicago:20260402T210000
DTEND;TZID=America/Chicago:20260402T223000
DTSTAMP:20260423T193959
CREATED:20260320T152926Z
LAST-MODIFIED:20260320T152926Z
UID:55870-1775163600-1775169000@theimprovshop.com
SUMMARY:The Merry-Go-Round
DESCRIPTION:Step right up for The Merry-Go-Round\, an improv extravaganza! Four local improv teams go round and round and take you on a ride of unscripted fun. Don’t miss the show where anything can happen—except boredom!  \nThis is a free event!
URL:https://theimprovshop.com/show/the-merry-go-round-5/
LOCATION:St. Louis\, 3960 Chouteau Ave.\, St. Louis\, MO\, 63110\, United States
CATEGORIES:Improvisation
ATTACH;FMTTYPE=image/jpeg:https://theimprovshop.com/cdn-cgi/imagedelivery/nK-Zp4rePU3J22_LxCmgmQ/theimprovshop.com/2024/12/merry-go-round.jpg/w=9999
END:VEVENT
BEGIN:VEVENT
DTSTART;TZID=America/Chicago:20260403T190000
DTEND;TZID=America/Chicago:20260403T203000
DTSTAMP:20260423T193959
CREATED:20260303T150023Z
LAST-MODIFIED:20260401T182615Z
UID:55196-1775242800-1775248200@theimprovshop.com
SUMMARY:THE ASTERISK*
DESCRIPTION:In this show\, we give the suggestion to YOU. Every show has a theme\, and every audience** has stories to share. With your help\, St. Louis’s best improv comics take a simple idea*** and dig into the juicy details. The result: scenes made up in real time\, powered by your footnotes\, omission\, and disclaimers. Subtext has never been so fun! \n*every Friday at 7pm\n**you\, we hope\n***that night’s theme \nThis week’s theme: Fool Me Once
URL:https://theimprovshop.com/show/the-asterisk/
LOCATION:St. Louis\, 3960 Chouteau Ave.\, St. Louis\, MO\, 63110\, United States
CATEGORIES:Improvisation
ATTACH;FMTTYPE=image/png:https://theimprovshop.com/cdn-cgi/imagedelivery/nK-Zp4rePU3J22_LxCmgmQ/theimprovshop.com/2025/12/2-1.png/w=9999
END:VEVENT
BEGIN:VEVENT
DTSTART;TZID=America/Chicago:20260403T190000
DTEND;TZID=America/Chicago:20260403T203000
DTSTAMP:20260423T193959
CREATED:20260303T160133Z
LAST-MODIFIED:20260401T182649Z
UID:55323-1775242800-1775248200@theimprovshop.com
SUMMARY:Chaos Gremlins
DESCRIPTION:3 improv teams will run their normal form with one catch… their coach will be onstage with them\, acting as an agent of chaos to the set. Can these teams survive their own coaches?! \n\nFeatured teams:\nFloorplay with Slobe\nCelibate with Leeker\nWhatever with Sloey
URL:https://theimprovshop.com/show/chaos-gremlins-2/
LOCATION:St. Louis\, 3960 Chouteau Ave.\, St. Louis\, MO\, 63110\, United States
CATEGORIES:Improvisation
ATTACH;FMTTYPE=image/png:https://theimprovshop.com/cdn-cgi/imagedelivery/nK-Zp4rePU3J22_LxCmgmQ/theimprovshop.com/2025/12/chaos-gremlins_IMPROV-SITE-01.png/w=2560
END:VEVENT
BEGIN:VEVENT
DTSTART;TZID=America/Chicago:20260403T210000
DTEND;TZID=America/Chicago:20260403T223000
DTSTAMP:20260423T193959
CREATED:20260303T152011Z
LAST-MODIFIED:20260401T182732Z
UID:55260-1775250000-1775255400@theimprovshop.com
SUMMARY:Cagematch
DESCRIPTION:Cagematch\, which was originally created by Kevin Mullaney (former Artistic Director at the UCB Theater)\, returns for the 2026 Regular Season! Cagematch is a friendly\, competitive longform improv show where the audience votes for their favorite team. The winner moves plays again the following week\, always! \nTonight’s challenger:\nD.A.D.
URL:https://theimprovshop.com/show/cagematch-10/
LOCATION:St. Louis\, 3960 Chouteau Ave.\, St. Louis\, MO\, 63110\, United States
CATEGORIES:Competition,Improvisation
ATTACH;FMTTYPE=image/jpeg:https://theimprovshop.com/cdn-cgi/imagedelivery/nK-Zp4rePU3J22_LxCmgmQ/theimprovshop.com/2026/01/SIGNAGE-Cagematch-regseason-2026-696x1080-1.jpg/w=9999
END:VEVENT
BEGIN:VEVENT
DTSTART;TZID=America/Chicago:20260403T210000
DTEND;TZID=America/Chicago:20260403T223000
DTSTAMP:20260423T193959
CREATED:20260320T153539Z
LAST-MODIFIED:20260401T182815Z
UID:55888-1775250000-1775255400@theimprovshop.com
SUMMARY:Tiel’s Show-A-Palooza
DESCRIPTION:A variety show in three parts: a stand up comedian\, an improv team\, and maybe even a musical guest!
URL:https://theimprovshop.com/show/tiels-show-a-palooza-2/
LOCATION:St. Louis\, 3960 Chouteau Ave.\, St. Louis\, MO\, 63110\, United States
CATEGORIES:Improvisation
ATTACH;FMTTYPE=image/jpeg:https://theimprovshop.com/cdn-cgi/imagedelivery/nK-Zp4rePU3J22_LxCmgmQ/theimprovshop.com/2025/12/tielshowpalooza.jpg/w=9999
END:VEVENT
BEGIN:VEVENT
DTSTART;TZID=America/Chicago:20260404T190000
DTEND;TZID=America/Chicago:20260404T203000
DTSTAMP:20260423T193959
CREATED:20260224T160919Z
LAST-MODIFIED:20260401T182948Z
UID:54866-1775329200-1775334600@theimprovshop.com
SUMMARY:NATURAL 7
DESCRIPTION:Hail and well met\, traveler! Join us as The Improv Shop’s mainstage transforms into The Rainbow Unicorn Tavern and hosts NATURAL 7\, a fantasy themed improv show. Help our party of adventurers by supplying all of the details of their quest\, and watch it unfold in front of your very eyes!
URL:https://theimprovshop.com/show/natural-7-2/
LOCATION:St. Louis\, 3960 Chouteau Ave.\, St. Louis\, MO\, 63110\, United States
CATEGORIES:Improvisation
ATTACH;FMTTYPE=image/jpeg:https://theimprovshop.com/cdn-cgi/imagedelivery/nK-Zp4rePU3J22_LxCmgmQ/theimprovshop.com/2024/10/Natural-7-v2.jpg/w=9999
END:VEVENT
BEGIN:VEVENT
DTSTART;TZID=America/Chicago:20260404T190000
DTEND;TZID=America/Chicago:20260404T203000
DTSTAMP:20260423T193959
CREATED:20260304T224759Z
LAST-MODIFIED:20260401T183043Z
UID:55357-1775329200-1775334600@theimprovshop.com
SUMMARY:Yaaas And Friends
DESCRIPTION:The first\, last\, and only queer improv team\, Yaaas And\, is performing some queer improv along with their fellow queer (and ally) improv teams! It’s gonna be queer and crazy. Bring your queer-self to watch or else you’re straight.
URL:https://theimprovshop.com/show/yaaas-and-friends-4/
LOCATION:St. Louis\, 3960 Chouteau Ave.\, St. Louis\, MO\, 63110\, United States
CATEGORIES:Improvisation
ATTACH;FMTTYPE=image/png:https://theimprovshop.com/cdn-cgi/imagedelivery/nK-Zp4rePU3J22_LxCmgmQ/theimprovshop.com/2026/03/2BFC747D-57EC-42B6-ADD7-6A1F5D2C60FC-Caleb-Dalton.png/w=9999
END:VEVENT
BEGIN:VEVENT
DTSTART;TZID=America/Chicago:20260404T210000
DTEND;TZID=America/Chicago:20260404T223000
DTSTAMP:20260423T193959
CREATED:20260303T154523Z
LAST-MODIFIED:20260401T183120Z
UID:55304-1775336400-1775341800@theimprovshop.com
SUMMARY:80085 4 U
DESCRIPTION:To everyone who puts in a hard day’s work\, this show is for you. To everyone who relishes in the bizarre\, this show is for you. \nNo intermission (probably)\, no nudes (yet)\, lots of confessions (maybe even from you)\, one team (unless there are more). Come on out and get something off your chest. We’ll get something off ours\, too. \nWhether you’ve got em\, want em\, or haven’t thought about em\, this 80085 for you.
URL:https://theimprovshop.com/show/80085-4-u-3/
LOCATION:St. Louis\, 3960 Chouteau Ave.\, St. Louis\, MO\, 63110\, United States
CATEGORIES:Improvisation
ATTACH;FMTTYPE=image/jpeg:https://theimprovshop.com/cdn-cgi/imagedelivery/nK-Zp4rePU3J22_LxCmgmQ/theimprovshop.com/2025/07/IMG_3083.jpeg/w=9999
END:VEVENT
BEGIN:VEVENT
DTSTART;TZID=America/Chicago:20260404T210000
DTEND;TZID=America/Chicago:20260404T223000
DTSTAMP:20260423T193959
CREATED:20260320T153911Z
LAST-MODIFIED:20260320T153911Z
UID:55892-1775336400-1775341800@theimprovshop.com
SUMMARY:Turdy-Too : A Cassie Ema Birthday Show
DESCRIPTION:Cassie is turning 32! Three Teams celebrate April Fools by competing to be the goofy-oofiest. Part sketch\, part improv\, all fun. It’s all about showing true love for the form and celebrating the trust of others.
URL:https://theimprovshop.com/show/turdy-too-a-cassie-ema-birthday-show/
LOCATION:St. Louis\, 3960 Chouteau Ave.\, St. Louis\, MO\, 63110\, United States
CATEGORIES:Improvisation
ATTACH;FMTTYPE=image/png:https://theimprovshop.com/cdn-cgi/imagedelivery/nK-Zp4rePU3J22_LxCmgmQ/theimprovshop.com/2026/03/Trudy-Too-Cassandra-Ema.png/w=9999
END:VEVENT
BEGIN:VEVENT
DTSTART;TZID=America/Chicago:20260406T190000
DTEND;TZID=America/Chicago:20260406T203000
DTSTAMP:20260423T193959
CREATED:20260303T150944Z
LAST-MODIFIED:20260303T150944Z
UID:55230-1775502000-1775507400@theimprovshop.com
SUMMARY:Teams Level 2 Student Showcase
DESCRIPTION:Join our Teams Level 2 students as they showcase their talents every Monday at 7pm in mainstage! \nThis is a free event!
URL:https://theimprovshop.com/show/teams-level-2-student-showcase-10/
LOCATION:St. Louis\, 3960 Chouteau Ave.\, St. Louis\, MO\, 63110\, United States
CATEGORIES:Improvisation,Student Showcase
ATTACH;FMTTYPE=image/jpeg:https://theimprovshop.com/cdn-cgi/imagedelivery/nK-Zp4rePU3J22_LxCmgmQ/theimprovshop.com/2025/09/SIGNAGE-TL2student-showcase-696x1080-NO-JAM.jpg/w=9999
END:VEVENT
BEGIN:VEVENT
DTSTART;TZID=America/Chicago:20260406T190000
DTEND;TZID=America/Chicago:20260406T203000
DTSTAMP:20260423T193959
CREATED:20260303T151544Z
LAST-MODIFIED:20260303T151619Z
UID:55246-1775502000-1775507400@theimprovshop.com
SUMMARY:Teams Level 1 Student Showcase
DESCRIPTION:Join our Teams Level 1 students every Monday at 7pm on sidestage as they showcase their talents over the 8-weeks of their class. \nThis is a free event!
URL:https://theimprovshop.com/show/teams-level-1-student-showcase-5/
LOCATION:St. Louis\, 3960 Chouteau Ave.\, St. Louis\, MO\, 63110\, United States
CATEGORIES:Improvisation,Student Showcase
ATTACH;FMTTYPE=image/jpeg:https://theimprovshop.com/cdn-cgi/imagedelivery/nK-Zp4rePU3J22_LxCmgmQ/theimprovshop.com/2023/04/SIGNAGE-TL1side-student-showcase-696x1080-1.jpg/w=9999
END:VEVENT
BEGIN:VEVENT
DTSTART;TZID=America/Chicago:20260406T190000
DTEND;TZID=America/Chicago:20260406T203000
DTSTAMP:20260423T193959
CREATED:20260330T144420Z
LAST-MODIFIED:20260330T144420Z
UID:56076-1775502000-1775507400@theimprovshop.com
SUMMARY:School Night
DESCRIPTION:It’s a School Night! Come out to watch 3 teams\, back-to-back-to-back\, no intermission\, all for $0! \nTeam lineup: TBD \nThis is a free event!
URL:https://theimprovshop.com/show/school-night-2/
LOCATION:St. Louis\, 3960 Chouteau Ave.\, St. Louis\, MO\, 63110\, United States
CATEGORIES:Improvisation
ATTACH;FMTTYPE=image/jpeg:https://theimprovshop.com/cdn-cgi/imagedelivery/nK-Zp4rePU3J22_LxCmgmQ/theimprovshop.com/2024/11/schoolnight.jpg/w=9999
END:VEVENT
BEGIN:VEVENT
DTSTART;TZID=America/Chicago:20260409T190000
DTEND;TZID=America/Chicago:20260409T203000
DTSTAMP:20260423T193959
CREATED:20260302T200418Z
LAST-MODIFIED:20260409T172618Z
UID:55137-1775761200-1775766600@theimprovshop.com
SUMMARY:House Team Night & Jam
DESCRIPTION:Three Improv Shop House Teams take the stage! Each week you’ll see different styles and flavors of longform improv\, all in a nice little three set package. Stick around afterwards for The Jam for your opportunity to play along\, or just sit back and watch! \nThis week’s teams:\nBasement Family\, Moist\, On Hold
URL:https://theimprovshop.com/show/house-team-night-jam-18/
LOCATION:St. Louis\, 3960 Chouteau Ave.\, St. Louis\, MO\, 63110\, United States
CATEGORIES:Improvisation
ATTACH;FMTTYPE=image/jpeg:https://theimprovshop.com/cdn-cgi/imagedelivery/nK-Zp4rePU3J22_LxCmgmQ/theimprovshop.com/2025/11/house-team-night-2026-copy.jpg/w=9999
END:VEVENT
BEGIN:VEVENT
DTSTART;TZID=America/Chicago:20260409T190000
DTEND;TZID=America/Chicago:20260409T203000
DTSTAMP:20260423T193959
CREATED:20260320T151906Z
LAST-MODIFIED:20260409T192337Z
UID:55838-1775761200-1775766600@theimprovshop.com
SUMMARY:The Menagerie
DESCRIPTION:Come one! Come all! and catch three local improv teams as they perform in front of a live audience. Just like a zoo!…except there’s no cages or fish tanks.
URL:https://theimprovshop.com/show/the-menagerie-2/
LOCATION:St. Louis\, 3960 Chouteau Ave.\, St. Louis\, MO\, 63110\, United States
CATEGORIES:Improvisation
ATTACH;FMTTYPE=image/jpeg:https://theimprovshop.com/cdn-cgi/imagedelivery/nK-Zp4rePU3J22_LxCmgmQ/theimprovshop.com/2025/06/826334f4-6984-43cf-a01c-d2136cec877d.jpg/w=9999
END:VEVENT
BEGIN:VEVENT
DTSTART;TZID=America/Chicago:20260409T210000
DTEND;TZID=America/Chicago:20260409T223000
DTSTAMP:20260423T193959
CREATED:20260320T152947Z
LAST-MODIFIED:20260320T152947Z
UID:55872-1775768400-1775773800@theimprovshop.com
SUMMARY:The Merry-Go-Round
DESCRIPTION:Step right up for The Merry-Go-Round\, an improv extravaganza! Four local improv teams go round and round and take you on a ride of unscripted fun. Don’t miss the show where anything can happen—except boredom!  \nThis is a free event!
URL:https://theimprovshop.com/show/the-merry-go-round-6/
LOCATION:St. Louis\, 3960 Chouteau Ave.\, St. Louis\, MO\, 63110\, United States
CATEGORIES:Improvisation
ATTACH;FMTTYPE=image/jpeg:https://theimprovshop.com/cdn-cgi/imagedelivery/nK-Zp4rePU3J22_LxCmgmQ/theimprovshop.com/2024/12/merry-go-round.jpg/w=9999
END:VEVENT
BEGIN:VEVENT
DTSTART;TZID=America/Chicago:20260410T190000
DTEND;TZID=America/Chicago:20260410T203000
DTSTAMP:20260423T193959
CREATED:20260303T150128Z
LAST-MODIFIED:20260409T221445Z
UID:55200-1775847600-1775853000@theimprovshop.com
SUMMARY:THE ASTERISK*
DESCRIPTION:In this show\, we give the suggestion to YOU. Every show has a theme\, and every audience** has stories to share. With your help\, St. Louis’s best improv comics take a simple idea*** and dig into the juicy details. The result: scenes made up in real time\, powered by your footnotes\, omission\, and disclaimers. Subtext has never been so fun! \n*every Friday at 7pm\n**you\, we hope\n***that night’s theme \nThis week’s theme: Tax Season
URL:https://theimprovshop.com/show/the-asterisk-2/
LOCATION:St. Louis\, 3960 Chouteau Ave.\, St. Louis\, MO\, 63110\, United States
CATEGORIES:Improvisation
ATTACH;FMTTYPE=image/png:https://theimprovshop.com/cdn-cgi/imagedelivery/nK-Zp4rePU3J22_LxCmgmQ/theimprovshop.com/2025/12/2-1.png/w=9999
END:VEVENT
BEGIN:VEVENT
DTSTART;TZID=America/Chicago:20260410T190000
DTEND;TZID=America/Chicago:20260410T203000
DTSTAMP:20260423T193959
CREATED:20260320T154116Z
LAST-MODIFIED:20260320T154116Z
UID:55896-1775847600-1775853000@theimprovshop.com
SUMMARY:The Thankies
DESCRIPTION:Bigger than the Oscars. Messier than the Golden Globes. Flashier than a Hollywood afterparty. The Thankies is a red carpet fever dream of longform improv\, campy film parodies\, and tear-soaked acceptance speeches that go absolutely nowhere. Join Thank You\, Next and friends for a night of overacting\, over-thanking\, and overcommitting to the bit.
URL:https://theimprovshop.com/show/the-thankies/
LOCATION:St. Louis\, 3960 Chouteau Ave.\, St. Louis\, MO\, 63110\, United States
CATEGORIES:Improvisation
ATTACH;FMTTYPE=image/jpeg:https://theimprovshop.com/cdn-cgi/imagedelivery/nK-Zp4rePU3J22_LxCmgmQ/theimprovshop.com/2026/03/IMG_1014-Kaylee-Vanatta.jpeg/w=9999
END:VEVENT
BEGIN:VEVENT
DTSTART;TZID=America/Chicago:20260410T210000
DTEND;TZID=America/Chicago:20260410T223000
DTSTAMP:20260423T193959
CREATED:20260303T152110Z
LAST-MODIFIED:20260409T221746Z
UID:55264-1775854800-1775860200@theimprovshop.com
SUMMARY:Cagematch
DESCRIPTION:Cagematch\, which was originally created by Kevin Mullaney (former Artistic Director at the UCB Theater)\, returns for the 2026 Regular Season! Cagematch is a friendly\, competitive longform improv show where the audience votes for their favorite team. The winner moves plays again the following week\, always! \nTonight’s challenger:\nSoft Meats
URL:https://theimprovshop.com/show/cagematch-11/
LOCATION:St. Louis\, 3960 Chouteau Ave.\, St. Louis\, MO\, 63110\, United States
CATEGORIES:Competition,Improvisation
ATTACH;FMTTYPE=image/jpeg:https://theimprovshop.com/cdn-cgi/imagedelivery/nK-Zp4rePU3J22_LxCmgmQ/theimprovshop.com/2026/01/SIGNAGE-Cagematch-regseason-2026-696x1080-1.jpg/w=9999
END:VEVENT
BEGIN:VEVENT
DTSTART;TZID=America/Chicago:20260410T210000
DTEND;TZID=America/Chicago:20260410T223000
DTSTAMP:20260423T193959
CREATED:20260320T154452Z
LAST-MODIFIED:20260320T154452Z
UID:55900-1775854800-1775860200@theimprovshop.com
SUMMARY:Loose Ends
DESCRIPTION:Three Teams. Three solo improvisers. One night only. Each team has been paired with a solo performer and given one week to stitch together something brand new. What happens when familiar ensembles are thrown into a brand new blend? Come see three never-before seen teams – built from scratch and performed live for the first (and only) time!
URL:https://theimprovshop.com/show/loose-ends-2/
LOCATION:St. Louis\, 3960 Chouteau Ave.\, St. Louis\, MO\, 63110\, United States
CATEGORIES:Improvisation
ATTACH;FMTTYPE=image/png:https://theimprovshop.com/cdn-cgi/imagedelivery/nK-Zp4rePU3J22_LxCmgmQ/theimprovshop.com/2025/12/Loose-Ends-Artwork-Cassandra-Ema.png/w=9999
END:VEVENT
BEGIN:VEVENT
DTSTART;TZID=America/Chicago:20260411T190000
DTEND;TZID=America/Chicago:20260411T203000
DTSTAMP:20260423T193959
CREATED:20260224T161133Z
LAST-MODIFIED:20260224T161214Z
UID:54870-1775934000-1775939400@theimprovshop.com
SUMMARY:The One Four Fives present an Improvised Musical!
DESCRIPTION:It’s the opening (and err closing) night of a Broadway-style musical\, completely made up on the spot. Based on an audience suggestion\, The One Four Fives will create a one-of-a-kind musical filled with drama\, comedy\, and songs you’ll be humming all the way home. \nSearching for musicals in St. Louis? A night of comedy in St. Louis? Or a unique St. Louis theater experience? Look no further—this show delivers it all. Every performance is a brand new creation—the songs\, the story\, the music\, and the choreography are all made up on the spot. \nGet your tickets now! Don’t miss your chance to experience the magic of live theater\, comedy\, and music—all in one show. \nAbout: The One Four Fives have been creating improvised musicals in St. Louis for over 6 years. The cast consists of Darrell Barber\, Anna Agniel\, Boo Kersting\, Andy Sloey\, Jenn Korman\, Nathan Maul\, Ryan Myers\, and Ashley Rube. The group was named a finalist in St. Louis Magazine’s A List for Favorite Live Theater Group in 2023 and 2024. \nWhat People are Saying:\n“Comedy and theater fans who enjoy laughs\, improv and a good melody you can tap your toes to should really catch one of the monthly performances of The One Four Fives\, an improvised musical from St. Louis’s Improv Shop.” – Tina Farmer\, Riverfront Times \n“The reason for their longevity is clear …they have mastered the tricks of their trade.” -Gerry Kowarsky\, Two on the Aisle \n“I am in awe of how cohesive this group is. Every member contributes a unique take on whatever the prompt is – and I was doubled over laughing the whole time. You will laugh and relate to these amazing people. I highly recommend.” – Jessi S.\, audience member
URL:https://theimprovshop.com/show/the-one-four-fives-present-an-improvised-musical-4/
LOCATION:St. Louis\, 3960 Chouteau Ave.\, St. Louis\, MO\, 63110\, United States
CATEGORIES:Musical Improv
ATTACH;FMTTYPE=image/jpeg:https://theimprovshop.com/cdn-cgi/imagedelivery/nK-Zp4rePU3J22_LxCmgmQ/theimprovshop.com/2023/02/One-Four-Fives-Improvised-Musical-2.jpg/w=9999
END:VEVENT
BEGIN:VEVENT
DTSTART;TZID=America/Chicago:20260411T190000
DTEND;TZID=America/Chicago:20260411T203000
DTSTAMP:20260423T193959
CREATED:20260320T155309Z
LAST-MODIFIED:20260320T155309Z
UID:55903-1775934000-1775939400@theimprovshop.com
SUMMARY:Harold Houdini
DESCRIPTION:Witness the magic of the Harold! Two teams will escape the constraints of space and time and attempt daring performances of the Harold form.
URL:https://theimprovshop.com/show/harold-houdini/
LOCATION:St. Louis\, 3960 Chouteau Ave.\, St. Louis\, MO\, 63110\, United States
CATEGORIES:Improvisation,The Harold
ATTACH;FMTTYPE=image/png:https://theimprovshop.com/cdn-cgi/imagedelivery/nK-Zp4rePU3J22_LxCmgmQ/theimprovshop.com/2026/03/Harold-Houdini-Bailey-Kepford.png/w=9999
END:VEVENT
BEGIN:VEVENT
DTSTART;TZID=America/Chicago:20260411T210000
DTEND;TZID=America/Chicago:20260411T223000
DTSTAMP:20260423T193959
CREATED:20260320T155557Z
LAST-MODIFIED:20260409T221953Z
UID:55907-1775941200-1775946600@theimprovshop.com
SUMMARY:Shirts and Skins with Comic Strip and Friends
DESCRIPTION:The least clothed improv team in St. Louis is back and this time\, they’ve brought friends. A (regular\, non-stripping) guest team will open the show with 20-25 minutes of (regular\, non-stripping) improv. Then\, Comic Strip performs (irregular\, stripping) improv while transforming the very clothes they are wearing into props until the whole team is as naked as is permitted by law.
URL:https://theimprovshop.com/show/shirts-and-skins-with-comic-strip-and-friends-4/
LOCATION:St. Louis\, 3960 Chouteau Ave.\, St. Louis\, MO\, 63110\, United States
CATEGORIES:Improvisation
ATTACH;FMTTYPE=image/png:https://theimprovshop.com/cdn-cgi/imagedelivery/nK-Zp4rePU3J22_LxCmgmQ/theimprovshop.com/2024/12/Shirts-1080-x-696-px_20241223_162232_0000.png/w=9999
END:VEVENT
END:VCALENDAR