BEGIN:VCALENDAR
VERSION:2.0
PRODID:-//The Improv Shop - ECPv6.15.16//NONSGML v1.0//EN
CALSCALE:GREGORIAN
METHOD:PUBLISH
X-ORIGINAL-URL:https://theimprovshop.com
X-WR-CALDESC:Events for The Improv Shop
REFRESH-INTERVAL;VALUE=DURATION:PT1H
X-Robots-Tag:noindex
X-PUBLISHED-TTL:PT1H
BEGIN:VTIMEZONE
TZID:America/Chicago
BEGIN:DAYLIGHT
TZOFFSETFROM:-0600
TZOFFSETTO:-0500
TZNAME:CDT
DTSTART:20250309T080000
END:DAYLIGHT
BEGIN:STANDARD
TZOFFSETFROM:-0500
TZOFFSETTO:-0600
TZNAME:CST
DTSTART:20251102T070000
END:STANDARD
BEGIN:DAYLIGHT
TZOFFSETFROM:-0600
TZOFFSETTO:-0500
TZNAME:CDT
DTSTART:20260308T080000
END:DAYLIGHT
BEGIN:STANDARD
TZOFFSETFROM:-0500
TZOFFSETTO:-0600
TZNAME:CST
DTSTART:20261101T070000
END:STANDARD
BEGIN:DAYLIGHT
TZOFFSETFROM:-0600
TZOFFSETTO:-0500
TZNAME:CDT
DTSTART:20270314T080000
END:DAYLIGHT
BEGIN:STANDARD
TZOFFSETFROM:-0500
TZOFFSETTO:-0600
TZNAME:CST
DTSTART:20271107T070000
END:STANDARD
END:VTIMEZONE
BEGIN:VEVENT
DTSTART;TZID=America/Chicago:20260307T190000
DTEND;TZID=America/Chicago:20260307T203000
DTSTAMP:20260423T121631
CREATED:20260204T154028Z
LAST-MODIFIED:20260304T222143Z
UID:54191-1772910000-1772915400@theimprovshop.com
SUMMARY:Yaaas And Friends
DESCRIPTION:The first\, last\, and only queer improv team\, Yaaas And\, is performing some queer improv along with their fellow queer (and ally) improv teams! It’s gonna be queer and crazy. Bring your queer-self to watch or else you’re straight.
URL:https://theimprovshop.com/show/yaaas-and-friends/
LOCATION:St. Louis\, 3960 Chouteau Ave.\, St. Louis\, MO\, 63110\, United States
CATEGORIES:Improvisation
ATTACH;FMTTYPE=image/jpeg:https://theimprovshop.com/cdn-cgi/imagedelivery/nK-Zp4rePU3J22_LxCmgmQ/theimprovshop.com/2025/05/YAAAS-And-Friends-v2.jpg/w=9999
END:VEVENT
BEGIN:VEVENT
DTSTART;TZID=America/Chicago:20260307T210000
DTEND;TZID=America/Chicago:20260307T223000
DTSTAMP:20260423T121631
CREATED:20260204T152521Z
LAST-MODIFIED:20260304T222236Z
UID:54163-1772917200-1772922600@theimprovshop.com
SUMMARY:Am I the Asshole?
DESCRIPTION:Am I The Asshole is an improv show inspired by your favorite life advice subreddits. Our cast will pull from “real” Reddit stories (found on forums such as r/AmITheAsshole\, r/Relationships\, etc.) to explore the relationships and baffling internal logic of various chronically online strangers. Join us\, comment\, upvote?
URL:https://theimprovshop.com/show/am-i-the-asshole-2/
LOCATION:St. Louis\, 3960 Chouteau Ave.\, St. Louis\, MO\, 63110\, United States
CATEGORIES:Improvisation
ATTACH;FMTTYPE=image/png:https://theimprovshop.com/cdn-cgi/imagedelivery/nK-Zp4rePU3J22_LxCmgmQ/theimprovshop.com/2024/07/FE72C8A5-3FAD-4F0F-B377-C0911A22D98F.png/w=9999
END:VEVENT
BEGIN:VEVENT
DTSTART;TZID=America/Chicago:20260307T210000
DTEND;TZID=America/Chicago:20260307T223000
DTSTAMP:20260423T121631
CREATED:20260204T160020Z
LAST-MODIFIED:20260304T222316Z
UID:54223-1772917200-1772922600@theimprovshop.com
SUMMARY:After Dark with Gigi
DESCRIPTION:Welcome to After Dark\, the most unpredictable late-night talk show where anything can happen! Hosted by the endlessly charming Gigi\, this show thrives on spontaneity and surprises. Get ready for unscripted interviews with “Improv Shop Famous”. Tune in and be part of the magic—because when the clock strikes 9pm\, the real fun begins!
URL:https://theimprovshop.com/show/after-dark-with-gigi-3/
LOCATION:St. Louis\, 3960 Chouteau Ave.\, St. Louis\, MO\, 63110\, United States
CATEGORIES:Improvisation,Talk Show
ATTACH;FMTTYPE=image/png:https://theimprovshop.com/cdn-cgi/imagedelivery/nK-Zp4rePU3J22_LxCmgmQ/theimprovshop.com/2025/08/after_dark.png/w=9999
END:VEVENT
BEGIN:VEVENT
DTSTART;TZID=America/Chicago:20260309T190000
DTEND;TZID=America/Chicago:20260309T203000
DTSTAMP:20260423T121631
CREATED:20260204T150231Z
LAST-MODIFIED:20260204T150231Z
UID:54123-1773082800-1773088200@theimprovshop.com
SUMMARY:Teams Level 2 Student Showcase
DESCRIPTION:Join our Teams Level 2 students as they showcase their talents every Monday at 7pm in mainstage! \nThis is a free event!
URL:https://theimprovshop.com/show/teams-level-2-student-showcase-7/
LOCATION:St. Louis\, 3960 Chouteau Ave.\, St. Louis\, MO\, 63110\, United States
CATEGORIES:Improvisation,Student Showcase
ATTACH;FMTTYPE=image/jpeg:https://theimprovshop.com/cdn-cgi/imagedelivery/nK-Zp4rePU3J22_LxCmgmQ/theimprovshop.com/2025/09/SIGNAGE-TL2student-showcase-696x1080-NO-JAM.jpg/w=9999
END:VEVENT
BEGIN:VEVENT
DTSTART;TZID=America/Chicago:20260309T190000
DTEND;TZID=America/Chicago:20260309T203000
DTSTAMP:20260423T121631
CREATED:20260204T150434Z
LAST-MODIFIED:20260204T150434Z
UID:54131-1773082800-1773088200@theimprovshop.com
SUMMARY:Teams Level 1 Student Showcase
DESCRIPTION:Join our Teams Level 1 students every Monday at 7pm on sidestage as they showcase their talents over the 8-weeks of their class. \nThis is a free event!
URL:https://theimprovshop.com/show/teams-level-1-student-showcase-14/
LOCATION:St. Louis\, 3960 Chouteau Ave.\, St. Louis\, MO\, 63110\, United States
CATEGORIES:Improvisation,Student Showcase
ATTACH;FMTTYPE=image/jpeg:https://theimprovshop.com/cdn-cgi/imagedelivery/nK-Zp4rePU3J22_LxCmgmQ/theimprovshop.com/2023/04/SIGNAGE-TL1side-student-showcase-696x1080-1.jpg/w=9999
END:VEVENT
BEGIN:VEVENT
DTSTART;TZID=America/Chicago:20260309T190000
DTEND;TZID=America/Chicago:20260309T203000
DTSTAMP:20260423T121631
CREATED:20260204T155647Z
LAST-MODIFIED:20260204T155647Z
UID:54216-1773082800-1773088200@theimprovshop.com
SUMMARY:School Night
DESCRIPTION:It’s a School Night! Come out to watch 3 teams\, back-to-back-to-back\, no intermission\, all for $0! \nTeam lineup: TBD \nThis is a free event!
URL:https://theimprovshop.com/show/school-night/
LOCATION:St. Louis\, 3960 Chouteau Ave.\, St. Louis\, MO\, 63110\, United States
CATEGORIES:Improvisation
ATTACH;FMTTYPE=image/jpeg:https://theimprovshop.com/cdn-cgi/imagedelivery/nK-Zp4rePU3J22_LxCmgmQ/theimprovshop.com/2024/11/schoolnight.jpg/w=9999
END:VEVENT
BEGIN:VEVENT
DTSTART;TZID=America/Chicago:20260312T190000
DTEND;TZID=America/Chicago:20260312T203000
DTSTAMP:20260423T121631
CREATED:20260204T152046Z
LAST-MODIFIED:20260312T192930Z
UID:54149-1773342000-1773347400@theimprovshop.com
SUMMARY:The Menagerie
DESCRIPTION:Come one! Come all! and catch three local improv teams as they perform in front of a live audience. Just like a zoo!…except there’s no cages or fish tanks.
URL:https://theimprovshop.com/show/the-menagerie-15/
LOCATION:St. Louis\, 3960 Chouteau Ave.\, St. Louis\, MO\, 63110\, United States
CATEGORIES:Improvisation
ATTACH;FMTTYPE=image/jpeg:https://theimprovshop.com/cdn-cgi/imagedelivery/nK-Zp4rePU3J22_LxCmgmQ/theimprovshop.com/2025/06/826334f4-6984-43cf-a01c-d2136cec877d.jpg/w=9999
END:VEVENT
BEGIN:VEVENT
DTSTART;TZID=America/Chicago:20260312T190000
DTEND;TZID=America/Chicago:20260312T203000
DTSTAMP:20260423T121631
CREATED:20260302T195252Z
LAST-MODIFIED:20260312T193147Z
UID:55120-1773342000-1773347400@theimprovshop.com
SUMMARY:House Team Night & Jam
DESCRIPTION:Three Improv Shop House Teams take the stage! Each week you’ll see different styles and flavors of longform improv\, all in a nice little three set package. Stick around afterwards for The Jam for your opportunity to play along\, or just sit back and watch! \nThis week’s teams:\nDICK\, Moist\, Sophie Tucker
URL:https://theimprovshop.com/show/house-team-night-jam-14/
LOCATION:St. Louis\, 3960 Chouteau Ave.\, St. Louis\, MO\, 63110\, United States
CATEGORIES:Improvisation
ATTACH;FMTTYPE=image/jpeg:https://theimprovshop.com/cdn-cgi/imagedelivery/nK-Zp4rePU3J22_LxCmgmQ/theimprovshop.com/2025/11/house-team-night-2026-copy.jpg/w=9999
END:VEVENT
BEGIN:VEVENT
DTSTART;TZID=America/Chicago:20260312T210000
DTEND;TZID=America/Chicago:20260312T223000
DTSTAMP:20260423T121631
CREATED:20260112T151713Z
LAST-MODIFIED:20260115T143927Z
UID:53589-1773349200-1773354600@theimprovshop.com
SUMMARY:The Merry-Go-Round
DESCRIPTION:Step right up for The Merry-Go-Round\, an improv extravaganza! Four local improv teams go round and round and take you on a ride of unscripted fun. Don’t miss the show where anything can happen—except boredom!  \nThis is a free event!
URL:https://theimprovshop.com/show/the-merry-go-round-12/
LOCATION:St. Louis\, 3960 Chouteau Ave.\, St. Louis\, MO\, 63110\, United States
CATEGORIES:Improvisation
ATTACH;FMTTYPE=image/jpeg:https://theimprovshop.com/cdn-cgi/imagedelivery/nK-Zp4rePU3J22_LxCmgmQ/theimprovshop.com/2024/12/merry-go-round.jpg/w=9999
END:VEVENT
BEGIN:VEVENT
DTSTART;TZID=America/Chicago:20260313T190000
DTEND;TZID=America/Chicago:20260313T203000
DTSTAMP:20260423T121631
CREATED:20260210T162052Z
LAST-MODIFIED:20260225T150107Z
UID:54451-1773428400-1773433800@theimprovshop.com
SUMMARY:An Evening with Kevin McDonald
DESCRIPTION:Kevin McDonald will do stand up – which is really just him telling true\, crazy stories about the Kids in the Hall. In the 2nd half\, he will improvise with some great improvisers – which is good\, in case Kevin has a bad night.
URL:https://theimprovshop.com/show/an-evening-with-kevin-mcdonald/
LOCATION:St. Louis\, 3960 Chouteau Ave.\, St. Louis\, MO\, 63110\, United States
CATEGORIES:Improvisation,Stand-Up
ATTACH;FMTTYPE=image/jpeg:https://theimprovshop.com/cdn-cgi/imagedelivery/nK-Zp4rePU3J22_LxCmgmQ/theimprovshop.com/2026/02/KMaew.jpg/w=9999
END:VEVENT
BEGIN:VEVENT
DTSTART;TZID=America/Chicago:20260313T210000
DTEND;TZID=America/Chicago:20260313T223000
DTSTAMP:20260423T121631
CREATED:20260112T153707Z
LAST-MODIFIED:20260313T165849Z
UID:53631-1773435600-1773441000@theimprovshop.com
SUMMARY:Cagematch
DESCRIPTION:Cagematch\, which was originally created by Kevin Mullaney (former Artistic Director at the UCB Theater)\, returns for the 2026 Regular Season! Cagematch is a friendly\, competitive longform improv show where the audience votes for their favorite team. The winner moves plays again the following week\, always! \nTonight’s challenger:\nI. Coli
URL:https://theimprovshop.com/show/cagematch-7/
LOCATION:St. Louis\, 3960 Chouteau Ave.\, St. Louis\, MO\, 63110\, United States
CATEGORIES:Competition,Improvisation
ATTACH;FMTTYPE=image/jpeg:https://theimprovshop.com/cdn-cgi/imagedelivery/nK-Zp4rePU3J22_LxCmgmQ/theimprovshop.com/2026/01/SIGNAGE-Cagematch-regseason-2026-696x1080-1.jpg/w=9999
END:VEVENT
BEGIN:VEVENT
DTSTART;TZID=America/Chicago:20260313T210000
DTEND;TZID=America/Chicago:20260313T223000
DTSTAMP:20260423T121631
CREATED:20260204T154942Z
LAST-MODIFIED:20260313T165531Z
UID:54200-1773435600-1773441000@theimprovshop.com
SUMMARY:Shirts and Skins with Comic Strip and Friends
DESCRIPTION:The least clothed improv team in St. Louis is back and this time\, they’ve brought friends. A (regular\, non-stripping) guest team will open the show with 20-25 minutes of (regular\, non-stripping) improv. Then\, Comic Strip performs (irregular\, stripping) improv while transforming the very clothes they are wearing into props until the whole team is as naked as is permitted by law.
URL:https://theimprovshop.com/show/shirts-and-skins-with-comic-strip-and-friends/
LOCATION:St. Louis\, 3960 Chouteau Ave.\, St. Louis\, MO\, 63110\, United States
CATEGORIES:Improvisation
ATTACH;FMTTYPE=image/png:https://theimprovshop.com/cdn-cgi/imagedelivery/nK-Zp4rePU3J22_LxCmgmQ/theimprovshop.com/2024/12/Shirts-1080-x-696-px_20241223_162232_0000.png/w=9999
END:VEVENT
BEGIN:VEVENT
DTSTART;TZID=America/Chicago:20260314T190000
DTEND;TZID=America/Chicago:20260314T203000
DTSTAMP:20260423T121631
CREATED:20260204T160756Z
LAST-MODIFIED:20260313T171935Z
UID:54234-1773514800-1773520200@theimprovshop.com
SUMMARY:Improvised Rock Opera
DESCRIPTION:Come watch us create a multi-instrumental rock opera\, made up on the spot! \nThere will be singing. There will be rapping. There will be some good ass music. \nAnd there will be revelry!
URL:https://theimprovshop.com/show/improvised-rock-opera/
LOCATION:St. Louis\, 3960 Chouteau Ave.\, St. Louis\, MO\, 63110\, United States
CATEGORIES:Improvisation
ATTACH;FMTTYPE=image/png:https://theimprovshop.com/cdn-cgi/imagedelivery/nK-Zp4rePU3J22_LxCmgmQ/theimprovshop.com/2025/09/Improvised-Rock-Opera-1.png/w=9999
END:VEVENT
BEGIN:VEVENT
DTSTART;TZID=America/Chicago:20260314T190000
DTEND;TZID=America/Chicago:20260314T203000
DTSTAMP:20260423T121631
CREATED:20260210T162345Z
LAST-MODIFIED:20260225T150119Z
UID:54456-1773514800-1773520200@theimprovshop.com
SUMMARY:Kevin McDonald Superstar (a rock opera)
DESCRIPTION:In the tradition of Jesus Christ Superstar and Tommy\, come see Kevin McDonald’s rock opera\, Kevin McDonald Superstar – based on a true story that happened to Kevin and Dave Foley in the early 90s – only – when it happened\, they weren’t singing.
URL:https://theimprovshop.com/show/kevin-mcdonald-superstar-a-rock-opera/
LOCATION:St. Louis\, 3960 Chouteau Ave.\, St. Louis\, MO\, 63110\, United States
CATEGORIES:Speciality
ATTACH;FMTTYPE=image/jpeg:https://theimprovshop.com/cdn-cgi/imagedelivery/nK-Zp4rePU3J22_LxCmgmQ/theimprovshop.com/2026/02/KMsuperstar.jpg/w=9999
END:VEVENT
BEGIN:VEVENT
DTSTART;TZID=America/Chicago:20260314T210000
DTEND;TZID=America/Chicago:20260314T223000
DTSTAMP:20260423T121631
CREATED:20260204T153001Z
LAST-MODIFIED:20260313T172036Z
UID:54171-1773522000-1773527400@theimprovshop.com
SUMMARY:Kitsune Dojo: The Shifting Spirit
DESCRIPTION:In Japanese folklore\, the Kitsune is a powerful fox spirit that can shapeshift and bewitch. A Dojo is a sacred space for learning the Way. \nStep into the Kitsune Dojo\, where reality is as fluid as a spirit’s illusion. Our cast will draw upon a community-created roster of anime-inspired characters and\, with a spark of inspiration from the audience\, become them. Witness a captivating journey of transformation as they forge a complete story arc right before your eyes. Every scene is a surprise\, every character a new destiny.
URL:https://theimprovshop.com/show/kitsune-dojo-the-shifting-spirit-2/
LOCATION:St. Louis\, 3960 Chouteau Ave.\, St. Louis\, MO\, 63110\, United States
CATEGORIES:Improvisation
ATTACH;FMTTYPE=image/png:https://theimprovshop.com/cdn-cgi/imagedelivery/nK-Zp4rePU3J22_LxCmgmQ/theimprovshop.com/2026/01/Kitsune-Dojo.png/w=9999
END:VEVENT
BEGIN:VEVENT
DTSTART;TZID=America/Chicago:20260314T210000
DTEND;TZID=America/Chicago:20260314T223000
DTSTAMP:20260423T121631
CREATED:20260204T155145Z
LAST-MODIFIED:20260313T172116Z
UID:54204-1773522000-1773527400@theimprovshop.com
SUMMARY:KARAOKEDOKIE
DESCRIPTION:Join us for Karaokedokie! YOU sing the songs\, our talented cast IMPROVISES scenes!
URL:https://theimprovshop.com/show/karaokedokie-4/
LOCATION:St. Louis\, 3960 Chouteau Ave.\, St. Louis\, MO\, 63110\, United States
CATEGORIES:Improvisation,Speciality
ATTACH;FMTTYPE=image/jpeg:https://theimprovshop.com/cdn-cgi/imagedelivery/nK-Zp4rePU3J22_LxCmgmQ/theimprovshop.com/2022/03/SIGNAGE-karaokedokie-696x1080-copy.jpg/w=9999
END:VEVENT
BEGIN:VEVENT
DTSTART;TZID=America/Chicago:20260316T190000
DTEND;TZID=America/Chicago:20260316T203000
DTSTAMP:20260423T121631
CREATED:20260204T150249Z
LAST-MODIFIED:20260204T150249Z
UID:54125-1773687600-1773693000@theimprovshop.com
SUMMARY:Teams Level 2 Student Showcase
DESCRIPTION:Join our Teams Level 2 students as they showcase their talents every Monday at 7pm in mainstage! \nThis is a free event!
URL:https://theimprovshop.com/show/teams-level-2-student-showcase-8/
LOCATION:St. Louis\, 3960 Chouteau Ave.\, St. Louis\, MO\, 63110\, United States
CATEGORIES:Improvisation,Student Showcase
ATTACH;FMTTYPE=image/jpeg:https://theimprovshop.com/cdn-cgi/imagedelivery/nK-Zp4rePU3J22_LxCmgmQ/theimprovshop.com/2025/09/SIGNAGE-TL2student-showcase-696x1080-NO-JAM.jpg/w=9999
END:VEVENT
BEGIN:VEVENT
DTSTART;TZID=America/Chicago:20260316T190000
DTEND;TZID=America/Chicago:20260316T203000
DTSTAMP:20260423T121631
CREATED:20260204T150452Z
LAST-MODIFIED:20260204T150452Z
UID:54133-1773687600-1773693000@theimprovshop.com
SUMMARY:Teams Level 1 Student Showcase
DESCRIPTION:Join our Teams Level 1 students every Monday at 7pm on sidestage as they showcase their talents over the 8-weeks of their class. \nThis is a free event!
URL:https://theimprovshop.com/show/teams-level-1-student-showcase-15/
LOCATION:St. Louis\, 3960 Chouteau Ave.\, St. Louis\, MO\, 63110\, United States
CATEGORIES:Improvisation,Student Showcase
ATTACH;FMTTYPE=image/jpeg:https://theimprovshop.com/cdn-cgi/imagedelivery/nK-Zp4rePU3J22_LxCmgmQ/theimprovshop.com/2023/04/SIGNAGE-TL1side-student-showcase-696x1080-1.jpg/w=9999
END:VEVENT
BEGIN:VEVENT
DTSTART;TZID=America/Chicago:20260316T210000
DTEND;TZID=America/Chicago:20260316T223000
DTSTAMP:20260423T121631
CREATED:20251208T194352Z
LAST-MODIFIED:20251208T194352Z
UID:52249-1773694800-1773700200@theimprovshop.com
SUMMARY:The Gift
DESCRIPTION:What’s in the box?! Three improv teams take turns gifting each other unusual physical objects. Whatever they receive\, no matter how weird\, must inspire their entire performance. Come see what strange ideas they unwrap! \nThis is a free event!
URL:https://theimprovshop.com/show/the-gift-4/
LOCATION:St. Louis\, 3960 Chouteau Ave.\, St. Louis\, MO\, 63110\, United States
CATEGORIES:Improvisation
ATTACH;FMTTYPE=image/png:https://theimprovshop.com/cdn-cgi/imagedelivery/nK-Zp4rePU3J22_LxCmgmQ/theimprovshop.com/2025/12/the-gift_web-graphic.png/w=9999
END:VEVENT
BEGIN:VEVENT
DTSTART;TZID=America/Chicago:20260316T210000
DTEND;TZID=America/Chicago:20260316T223000
DTSTAMP:20260423T121631
CREATED:20260204T152343Z
LAST-MODIFIED:20260223T153805Z
UID:54161-1773694800-1773700200@theimprovshop.com
SUMMARY:D.I.C.K. & 80085 4 U
DESCRIPTION:To everyone who puts in a hard day’s work\, this show is for you. To everyone who relishes in the bizarre\, this show is for you. \nNo intermission (probably)\, no nudes (yet)\, lots of confessions (maybe even from you)\, two teams (unless there are more). Come on out and get something off your chest. We’ll get something off ours\, too. \nWhether you’ve got em\, want em\, or haven’t thought about em\, this D.I.C.K. & 80085 are for you. \nThis is a free event!
URL:https://theimprovshop.com/show/80085-4-u-5/
LOCATION:St. Louis\, 3960 Chouteau Ave.\, St. Louis\, MO\, 63110\, United States
CATEGORIES:Improvisation
ATTACH;FMTTYPE=image/png:https://theimprovshop.com/cdn-cgi/imagedelivery/nK-Zp4rePU3J22_LxCmgmQ/theimprovshop.com/2026/02/D.I.C.K.png/w=9999
END:VEVENT
BEGIN:VEVENT
DTSTART;TZID=America/Chicago:20260319T190000
DTEND;TZID=America/Chicago:20260319T203000
DTSTAMP:20260423T121631
CREATED:20260204T152146Z
LAST-MODIFIED:20260318T151337Z
UID:54153-1773946800-1773952200@theimprovshop.com
SUMMARY:The Menagerie
DESCRIPTION:Come one! Come all! and catch three local improv teams as they perform in front of a live audience. Just like a zoo!…except there’s no cages or fish tanks.
URL:https://theimprovshop.com/show/the-menagerie-16/
LOCATION:St. Louis\, 3960 Chouteau Ave.\, St. Louis\, MO\, 63110\, United States
CATEGORIES:Improvisation
ATTACH;FMTTYPE=image/jpeg:https://theimprovshop.com/cdn-cgi/imagedelivery/nK-Zp4rePU3J22_LxCmgmQ/theimprovshop.com/2025/06/826334f4-6984-43cf-a01c-d2136cec877d.jpg/w=9999
END:VEVENT
BEGIN:VEVENT
DTSTART;TZID=America/Chicago:20260319T190000
DTEND;TZID=America/Chicago:20260319T203000
DTSTAMP:20260423T121631
CREATED:20260302T195451Z
LAST-MODIFIED:20260319T154018Z
UID:55124-1773946800-1773952200@theimprovshop.com
SUMMARY:House Team Night & Jam
DESCRIPTION:Three Improv Shop House Teams take the stage! Each week you’ll see different styles and flavors of longform improv\, all in a nice little three set package. Stick around afterwards for The Jam for your opportunity to play along\, or just sit back and watch! \nThis week’s teams:\nMaMa Dearest\, Third Wheel\, Idiot Bitch
URL:https://theimprovshop.com/show/house-team-night-jam-15/
LOCATION:St. Louis\, 3960 Chouteau Ave.\, St. Louis\, MO\, 63110\, United States
CATEGORIES:Improvisation
ATTACH;FMTTYPE=image/jpeg:https://theimprovshop.com/cdn-cgi/imagedelivery/nK-Zp4rePU3J22_LxCmgmQ/theimprovshop.com/2025/11/house-team-night-2026-copy.jpg/w=9999
END:VEVENT
BEGIN:VEVENT
DTSTART;TZID=America/Chicago:20260319T210000
DTEND;TZID=America/Chicago:20260319T223000
DTSTAMP:20260423T121631
CREATED:20260112T151731Z
LAST-MODIFIED:20260115T143937Z
UID:53591-1773954000-1773959400@theimprovshop.com
SUMMARY:The Merry-Go-Round
DESCRIPTION:Step right up for The Merry-Go-Round\, an improv extravaganza! Four local improv teams go round and round and take you on a ride of unscripted fun. Don’t miss the show where anything can happen—except boredom!  \nThis is a free event!
URL:https://theimprovshop.com/show/the-merry-go-round-13/
LOCATION:St. Louis\, 3960 Chouteau Ave.\, St. Louis\, MO\, 63110\, United States
CATEGORIES:Improvisation
ATTACH;FMTTYPE=image/jpeg:https://theimprovshop.com/cdn-cgi/imagedelivery/nK-Zp4rePU3J22_LxCmgmQ/theimprovshop.com/2024/12/merry-go-round.jpg/w=9999
END:VEVENT
BEGIN:VEVENT
DTSTART;TZID=America/Chicago:20260320T190000
DTEND;TZID=America/Chicago:20260320T203000
DTSTAMP:20260423T121631
CREATED:20260204T153724Z
LAST-MODIFIED:20260318T151647Z
UID:54183-1774033200-1774038600@theimprovshop.com
SUMMARY:THE ASTERISK*
DESCRIPTION:In this show\, we give the suggestion to YOU. Every show has a theme\, and every audience** has stories to share. With your help\, St. Louis’s best improv comics take a simple idea*** and dig into the juicy details. The result: scenes made up in real time\, powered by your footnotes\, omission\, and disclaimers. Subtext has never been so fun! \n*every Friday at 7pm\n**you\, we hope\n***that night’s theme \nThis week’s theme: Drinking Holidays
URL:https://theimprovshop.com/show/the-asterisk-17/
LOCATION:St. Louis\, 3960 Chouteau Ave.\, St. Louis\, MO\, 63110\, United States
CATEGORIES:Improvisation
ATTACH;FMTTYPE=image/png:https://theimprovshop.com/cdn-cgi/imagedelivery/nK-Zp4rePU3J22_LxCmgmQ/theimprovshop.com/2025/12/2-1.png/w=9999
END:VEVENT
BEGIN:VEVENT
DTSTART;TZID=America/Chicago:20260320T190000
DTEND;TZID=America/Chicago:20260320T203000
DTSTAMP:20260423T121631
CREATED:20260316T141823Z
LAST-MODIFIED:20260318T151743Z
UID:55743-1774033200-1774038600@theimprovshop.com
SUMMARY:Rhyme and Reason
DESCRIPTION:Come see 3 musical improv acts! \n2zin Tarandon\, the current musical improv class team\, and Sound and Color \n\n\n===============================================================\n\nDo you want to be added to the 2zin Tarandon email list to get updates on our upcoming shows and projects? \nClick this link! 
URL:https://theimprovshop.com/show/rhyme-and-reason-2/
LOCATION:St. Louis\, 3960 Chouteau Ave.\, St. Louis\, MO\, 63110\, United States
CATEGORIES:Musical Improv
ATTACH;FMTTYPE=image/png:https://theimprovshop.com/cdn-cgi/imagedelivery/nK-Zp4rePU3J22_LxCmgmQ/theimprovshop.com/2025/02/Ryhme-1.png/w=9999
END:VEVENT
BEGIN:VEVENT
DTSTART;TZID=America/Chicago:20260320T210000
DTEND;TZID=America/Chicago:20260320T223000
DTSTAMP:20260423T121631
CREATED:20260112T153916Z
LAST-MODIFIED:20260318T151836Z
UID:53635-1774040400-1774045800@theimprovshop.com
SUMMARY:Cagematch
DESCRIPTION:Cagematch\, which was originally created by Kevin Mullaney (former Artistic Director at the UCB Theater)\, returns for the 2026 Regular Season! Cagematch is a friendly\, competitive longform improv show where the audience votes for their favorite team. The winner moves plays again the following week\, always! \nTonight’s challenger:\nBellbottoms
URL:https://theimprovshop.com/show/cagematch-8/
LOCATION:St. Louis\, 3960 Chouteau Ave.\, St. Louis\, MO\, 63110\, United States
CATEGORIES:Competition,Improvisation
ATTACH;FMTTYPE=image/jpeg:https://theimprovshop.com/cdn-cgi/imagedelivery/nK-Zp4rePU3J22_LxCmgmQ/theimprovshop.com/2026/01/SIGNAGE-Cagematch-regseason-2026-696x1080-1.jpg/w=9999
END:VEVENT
BEGIN:VEVENT
DTSTART;TZID=America/Chicago:20260320T210000
DTEND;TZID=America/Chicago:20260320T223000
DTSTAMP:20260423T121631
CREATED:20260204T161057Z
LAST-MODIFIED:20260204T161057Z
UID:54238-1774040400-1774045800@theimprovshop.com
SUMMARY:Scenes From an RV
DESCRIPTION:As veterans of the Improv Shop’s classes we’ve drawn from classic forms to put together a long-form set focusing on humor as well as deep emotions and everything in between.
URL:https://theimprovshop.com/show/scenes-from-an-rv/
LOCATION:St. Louis\, 3960 Chouteau Ave.\, St. Louis\, MO\, 63110\, United States
CATEGORIES:Improvisation
ATTACH;FMTTYPE=image/jpeg:https://theimprovshop.com/cdn-cgi/imagedelivery/nK-Zp4rePU3J22_LxCmgmQ/theimprovshop.com/2026/02/IMG_2757-Steve-Nagy.jpeg/w=9999
END:VEVENT
BEGIN:VEVENT
DTSTART;TZID=America/Chicago:20260321T190000
DTEND;TZID=America/Chicago:20260321T203000
DTSTAMP:20260423T121631
CREATED:20260204T150902Z
LAST-MODIFIED:20260318T152015Z
UID:54141-1774119600-1774125000@theimprovshop.com
SUMMARY:The One Four Fives present an Improvised Musical!
DESCRIPTION:It’s the opening (and err closing) night of a Broadway-style musical\, completely made up on the spot. Based on an audience suggestion\, The One Four Fives will create a one-of-a-kind musical filled with drama\, comedy\, and songs you’ll be humming all the way home. \nSearching for musicals in St. Louis? A night of comedy in St. Louis? Or a unique St. Louis theater experience? Look no further—this show delivers it all. Every performance is a brand new creation—the songs\, the story\, the music\, and the choreography are all made up on the spot. \nGet your tickets now! Don’t miss your chance to experience the magic of live theater\, comedy\, and music—all in one show. \nAbout: The One Four Fives have been creating improvised musicals in St. Louis for over 6 years. The cast consists of Darrell Barber\, Anna Agniel\, Boo Kersting\, Andy Sloey\, Jenn Korman\, Nathan Maul\, Ryan Myers\, and Ashley Rube. The group was named a finalist in St. Louis Magazine’s A List for Favorite Live Theater Group in 2023 and 2024. \nWhat People are Saying:\n“Comedy and theater fans who enjoy laughs\, improv and a good melody you can tap your toes to should really catch one of the monthly performances of The One Four Fives\, an improvised musical from St. Louis’s Improv Shop.” – Tina Farmer\, Riverfront Times \n“The reason for their longevity is clear …they have mastered the tricks of their trade.” -Gerry Kowarsky\, Two on the Aisle \n“I am in awe of how cohesive this group is. Every member contributes a unique take on whatever the prompt is – and I was doubled over laughing the whole time. You will laugh and relate to these amazing people. I highly recommend.” – Jessi S.\, audience member
URL:https://theimprovshop.com/show/the-one-four-fives-present-an-improvised-musical-7/
LOCATION:St. Louis\, 3960 Chouteau Ave.\, St. Louis\, MO\, 63110\, United States
CATEGORIES:Musical Improv
ATTACH;FMTTYPE=image/jpeg:https://theimprovshop.com/cdn-cgi/imagedelivery/nK-Zp4rePU3J22_LxCmgmQ/theimprovshop.com/2023/02/One-Four-Fives-Improvised-Musical-2.jpg/w=9999
END:VEVENT
BEGIN:VEVENT
DTSTART;TZID=America/Chicago:20260321T190000
DTEND;TZID=America/Chicago:20260321T203000
DTSTAMP:20260423T121631
CREATED:20260204T154252Z
LAST-MODIFIED:20260318T152140Z
UID:54195-1774119600-1774125000@theimprovshop.com
SUMMARY:POC Improv League
DESCRIPTION:The first and only improv league with all Person of Color players in St. Louis!\n\nThree new independent teams will debut for a night of joy\, color\, comedy\, and unity.\n\nWe’re in this together <3
URL:https://theimprovshop.com/show/poc-improv-league-4/
LOCATION:St. Louis\, 3960 Chouteau Ave.\, St. Louis\, MO\, 63110\, United States
CATEGORIES:Improvisation
ATTACH;FMTTYPE=image/png:https://theimprovshop.com/wp-content/uploads/2025/07/Screenshot-2025-07-07-at-10.52.24 PM.png
END:VEVENT
BEGIN:VEVENT
DTSTART;TZID=America/Chicago:20260321T210000
DTEND;TZID=America/Chicago:20260321T223000
DTSTAMP:20260423T121631
CREATED:20260204T152722Z
LAST-MODIFIED:20260318T152327Z
UID:54167-1774126800-1774132200@theimprovshop.com
SUMMARY:Movie the Musical
DESCRIPTION:Come see your favorite movies come to life in musical form. Movie the Musical will improvise a suggested movie as a musical. Stick around after the intermission for the “Special Features”.
URL:https://theimprovshop.com/show/movie-the-musical/
LOCATION:St. Louis\, 3960 Chouteau Ave.\, St. Louis\, MO\, 63110\, United States
CATEGORIES:Musical Improv
ATTACH;FMTTYPE=image/jpeg:https://theimprovshop.com/cdn-cgi/imagedelivery/nK-Zp4rePU3J22_LxCmgmQ/theimprovshop.com/2025/06/00601fbd-30fa-49fe-8408-9797259ad047.jpg/w=9999
END:VEVENT
END:VCALENDAR