BEGIN:VCALENDAR
VERSION:2.0
PRODID:-//The Improv Shop - ECPv6.15.16//NONSGML v1.0//EN
CALSCALE:GREGORIAN
METHOD:PUBLISH
X-WR-CALNAME:The Improv Shop
X-ORIGINAL-URL:https://theimprovshop.com
X-WR-CALDESC:Events for The Improv Shop
REFRESH-INTERVAL;VALUE=DURATION:PT1H
X-Robots-Tag:noindex
X-PUBLISHED-TTL:PT1H
BEGIN:VTIMEZONE
TZID:America/Chicago
BEGIN:DAYLIGHT
TZOFFSETFROM:-0600
TZOFFSETTO:-0500
TZNAME:CDT
DTSTART:20250309T080000
END:DAYLIGHT
BEGIN:STANDARD
TZOFFSETFROM:-0500
TZOFFSETTO:-0600
TZNAME:CST
DTSTART:20251102T070000
END:STANDARD
BEGIN:DAYLIGHT
TZOFFSETFROM:-0600
TZOFFSETTO:-0500
TZNAME:CDT
DTSTART:20260308T080000
END:DAYLIGHT
BEGIN:STANDARD
TZOFFSETFROM:-0500
TZOFFSETTO:-0600
TZNAME:CST
DTSTART:20261101T070000
END:STANDARD
BEGIN:DAYLIGHT
TZOFFSETFROM:-0600
TZOFFSETTO:-0500
TZNAME:CDT
DTSTART:20270314T080000
END:DAYLIGHT
BEGIN:STANDARD
TZOFFSETFROM:-0500
TZOFFSETTO:-0600
TZNAME:CST
DTSTART:20271107T070000
END:STANDARD
END:VTIMEZONE
BEGIN:VEVENT
DTSTART;TZID=America/Chicago:20260130T190000
DTEND;TZID=America/Chicago:20260130T203000
DTSTAMP:20260423T175027
CREATED:20251222T153814Z
LAST-MODIFIED:20260129T203147Z
UID:52675-1769799600-1769805000@theimprovshop.com
SUMMARY:THE ASTERISK*
DESCRIPTION:In this show\, we give the suggestion to YOU. Every show has a theme\, and every audience** has stories to share. With your help\, St. Louis’s best improv comics take a simple idea*** and dig into the juicy details. The result: scenes made up in real time\, powered by your footnotes\, omission\, and disclaimers. Subtext has never been so fun! \n*every Friday at 7pm\n**you\, we hope\n***that night’s theme \nThis week’s theme: Dark of Winter
URL:https://theimprovshop.com/show/the-asterisk-11/
LOCATION:St. Louis\, 3960 Chouteau Ave.\, St. Louis\, MO\, 63110\, United States
CATEGORIES:Improvisation
ATTACH;FMTTYPE=image/png:https://theimprovshop.com/cdn-cgi/imagedelivery/nK-Zp4rePU3J22_LxCmgmQ/theimprovshop.com/2025/12/2-1.png/w=9999
END:VEVENT
BEGIN:VEVENT
DTSTART;TZID=America/Chicago:20260130T210000
DTEND;TZID=America/Chicago:20260130T223000
DTSTAMP:20260423T175027
CREATED:20251202T143759Z
LAST-MODIFIED:20260129T203224Z
UID:52124-1769806800-1769812200@theimprovshop.com
SUMMARY:Breast in Show
DESCRIPTION:Pedigree certified\, coats brushed\, glands expressed. Join us for a special evening of longform improv as 80085\, Goon Platoon\, and God’s Little Guys all compete for the coveted title of “Breast in Show.”
URL:https://theimprovshop.com/show/breast-in-show/
LOCATION:St. Louis\, 3960 Chouteau Ave.\, St. Louis\, MO\, 63110\, United States
CATEGORIES:Improvisation
ATTACH;FMTTYPE=image/png:https://theimprovshop.com/cdn-cgi/imagedelivery/nK-Zp4rePU3J22_LxCmgmQ/theimprovshop.com/2025/12/Breast-In-Show.png/w=9999
END:VEVENT
BEGIN:VEVENT
DTSTART;TZID=America/Chicago:20260130T210000
DTEND;TZID=America/Chicago:20260130T223000
DTSTAMP:20260423T175027
CREATED:20260112T152734Z
LAST-MODIFIED:20260129T203332Z
UID:53607-1769806800-1769812200@theimprovshop.com
SUMMARY:Cagematch
DESCRIPTION:Cagematch\, which was originally created by Kevin Mullaney (former Artistic Director at the UCB Theater)\, returns for the 2026 Regular Season! Cagematch is a friendly\, competitive longform improv show where the audience votes for their favorite team. The winner moves plays again the following week\, always! \nTonight’s challenger:\nI’m Telling Jesus
URL:https://theimprovshop.com/show/cagematch/
LOCATION:St. Louis\, 3960 Chouteau Ave.\, St. Louis\, MO\, 63110\, United States
CATEGORIES:Competition,Improvisation
ATTACH;FMTTYPE=image/jpeg:https://theimprovshop.com/cdn-cgi/imagedelivery/nK-Zp4rePU3J22_LxCmgmQ/theimprovshop.com/2026/01/SIGNAGE-Cagematch-regseason-2026-696x1080-1.jpg/w=9999
END:VEVENT
BEGIN:VEVENT
DTSTART;TZID=America/Chicago:20260131T190000
DTEND;TZID=America/Chicago:20260131T203000
DTSTAMP:20260423T175027
CREATED:20251222T154524Z
LAST-MODIFIED:20260129T203449Z
UID:52687-1769886000-1769891400@theimprovshop.com
SUMMARY:Happy Hands Social Club
DESCRIPTION:St. Louis’ only all-puppet longform improv team\, Happy Hands Social Club\, invites you to an evening of improvisation. An all-human team that is TBA\, will open!
URL:https://theimprovshop.com/show/happy-hands-social-club/
LOCATION:St. Louis\, 3960 Chouteau Ave.\, St. Louis\, MO\, 63110\, United States
CATEGORIES:Improvisation
ATTACH;FMTTYPE=image/jpeg:https://theimprovshop.com/cdn-cgi/imagedelivery/nK-Zp4rePU3J22_LxCmgmQ/theimprovshop.com/2024/12/5d18fd88-6be4-44a1-acf4-8a9f30c48e1f.jpg/w=9999
END:VEVENT
BEGIN:VEVENT
DTSTART;TZID=America/Chicago:20260131T190000
DTEND;TZID=America/Chicago:20260131T203000
DTSTAMP:20260423T175027
CREATED:20251229T153611Z
LAST-MODIFIED:20251229T153611Z
UID:52922-1769886000-1769891400@theimprovshop.com
SUMMARY:The Solo Show SHOW
DESCRIPTION:One performer. No script. Three styles. Infinite chaos. \nAn improvised solo show that both satirizes and celebrates the world of one-person performances. Each night\, the audience helps craft a brand-new show—from heartfelt confessions to absurdist clown pieces—built entirely from their suggestions. It’s part homage\, part parody\, and entirely unpredictable. Great if you love solo shows; Great if you hate em. Ideal if you love to hate them. \nCome for the chaos\, stay for the catharsis. Or vice versa. \nAnděl Sudik is a director\, improviser\, actor and writer based in L.A. and Chicago known for her explosive energy onstage and in the classroom as well as her experiential teaching style. She is a faculty member of the Second City where she teaches sketch writing and improvisation remotely and iO where she teaches summer intensives in Chicago. She is an alum of Boom Chicago in Amsterdam\, the Second City Touring and resident ETC Company and has directed Sketch\, Improvisation and Solo shows at The Public House\, Annoyance\, iO\, Lyric Hyperion\, the Second City and Edinburgh Fringe. Before 2020 she could be found traveling\, teaching and performing all over the states as well as across Europe in festivals and privately. Now she can be found doing… the same\, but sometimes over zoom. Full bio at YesAndel.com
URL:https://theimprovshop.com/show/the-solo-show-show/
LOCATION:St. Louis\, 3960 Chouteau Ave.\, St. Louis\, MO\, 63110\, United States
CATEGORIES:Improvisation
ATTACH;FMTTYPE=image/jpeg:https://theimprovshop.com/cdn-cgi/imagedelivery/nK-Zp4rePU3J22_LxCmgmQ/theimprovshop.com/2025/12/soloagogo-copy.jpg/w=9999
END:VEVENT
BEGIN:VEVENT
DTSTART;TZID=America/Chicago:20260131T210000
DTEND;TZID=America/Chicago:20260131T223000
DTSTAMP:20260423T175027
CREATED:20251222T154215Z
LAST-MODIFIED:20260129T203543Z
UID:52679-1769893200-1769898600@theimprovshop.com
SUMMARY:Am I the Asshole?
DESCRIPTION:Am I The Asshole is an improv show inspired by your favorite life advice subreddits. Our cast will pull from “real” Reddit stories (found on forums such as r/AmITheAsshole\, r/Relationships\, etc.) to explore the relationships and baffling internal logic of various chronically online strangers. Join us\, comment\, upvote?
URL:https://theimprovshop.com/show/am-i-the-asshole-3/
LOCATION:St. Louis\, 3960 Chouteau Ave.\, St. Louis\, MO\, 63110\, United States
CATEGORIES:Improvisation
ATTACH;FMTTYPE=image/png:https://theimprovshop.com/cdn-cgi/imagedelivery/nK-Zp4rePU3J22_LxCmgmQ/theimprovshop.com/2024/07/FE72C8A5-3FAD-4F0F-B377-C0911A22D98F.png/w=9999
END:VEVENT
BEGIN:VEVENT
DTSTART;TZID=America/Chicago:20260131T210000
DTEND;TZID=America/Chicago:20260131T223000
DTSTAMP:20260423T175027
CREATED:20260112T145852Z
LAST-MODIFIED:20260122T011039Z
UID:53572-1769893200-1769898600@theimprovshop.com
SUMMARY:Some Strange Sh*t
DESCRIPTION:We all fell in love with a certain streaning hit show the last five seasons. However\, all great adventures come to a climatic end leaving behind a myriad of questions. Join us for this fully improvised Spielbergesqe adventure full of 80’s nostalgia based on your suggestion. \nThis is a free event!
URL:https://theimprovshop.com/show/some-strange-sht/
LOCATION:St. Louis\, 3960 Chouteau Ave.\, St. Louis\, MO\, 63110\, United States
CATEGORIES:Improvisation
ATTACH;FMTTYPE=image/png:https://theimprovshop.com/cdn-cgi/imagedelivery/nK-Zp4rePU3J22_LxCmgmQ/theimprovshop.com/2026/01/179.png/w=9999
END:VEVENT
BEGIN:VEVENT
DTSTART;TZID=America/Chicago:20260202T190000
DTEND;TZID=America/Chicago:20260202T203000
DTSTAMP:20260423T175027
CREATED:20260106T141220Z
LAST-MODIFIED:20260106T141220Z
UID:53349-1770058800-1770064200@theimprovshop.com
SUMMARY:Teams Level 2 Student Showcase
DESCRIPTION:Join our Teams Level 2 students as they showcase their talents every Monday at 7pm in mainstage! \nThis is a free event!
URL:https://theimprovshop.com/show/teams-level-2-student-showcase-2/
LOCATION:St. Louis\, 3960 Chouteau Ave.\, St. Louis\, MO\, 63110\, United States
CATEGORIES:Improvisation,Student Showcase
ATTACH;FMTTYPE=image/jpeg:https://theimprovshop.com/cdn-cgi/imagedelivery/nK-Zp4rePU3J22_LxCmgmQ/theimprovshop.com/2025/09/SIGNAGE-TL2student-showcase-696x1080-NO-JAM.jpg/w=9999
END:VEVENT
BEGIN:VEVENT
DTSTART;TZID=America/Chicago:20260202T190000
DTEND;TZID=America/Chicago:20260202T203000
DTSTAMP:20260423T175027
CREATED:20260106T141454Z
LAST-MODIFIED:20260106T141454Z
UID:53357-1770058800-1770064200@theimprovshop.com
SUMMARY:Teams Level 1 Student Showcase
DESCRIPTION:Join our Teams Level 1 students every Monday at 7pm on sidestage as they showcase their talents over the 8-weeks of their class. \nThis is a free event!
URL:https://theimprovshop.com/show/teams-level-1-student-showcase-9/
LOCATION:St. Louis\, 3960 Chouteau Ave.\, St. Louis\, MO\, 63110\, United States
CATEGORIES:Improvisation,Student Showcase
ATTACH;FMTTYPE=image/jpeg:https://theimprovshop.com/cdn-cgi/imagedelivery/nK-Zp4rePU3J22_LxCmgmQ/theimprovshop.com/2023/04/SIGNAGE-TL1side-student-showcase-696x1080-1.jpg/w=9999
END:VEVENT
BEGIN:VEVENT
DTSTART;TZID=America/Chicago:20260202T210000
DTEND;TZID=America/Chicago:20260202T223000
DTSTAMP:20260423T175027
CREATED:20260112T151350Z
LAST-MODIFIED:20260112T151350Z
UID:53576-1770066000-1770071400@theimprovshop.com
SUMMARY:Groundhog Day
DESCRIPTION:An improvised repetitive experience. Join 3 indie teams as they live through Groundhog Day over\, and over\, and over. \nThis is a free event!
URL:https://theimprovshop.com/show/groundhog-day/
LOCATION:St. Louis\, 3960 Chouteau Ave.\, St. Louis\, MO\, 63110\, United States
CATEGORIES:Improvisation
ATTACH;FMTTYPE=image/png:https://theimprovshop.com/cdn-cgi/imagedelivery/nK-Zp4rePU3J22_LxCmgmQ/theimprovshop.com/2026/01/tuesday_groundhog.png/w=9999
END:VEVENT
BEGIN:VEVENT
DTSTART;TZID=America/Chicago:20260205T190000
DTEND;TZID=America/Chicago:20260205T203000
DTSTAMP:20260423T175027
CREATED:20251125T183337Z
LAST-MODIFIED:20260205T230920Z
UID:51956-1770318000-1770323400@theimprovshop.com
SUMMARY:House Team Night & Jam
DESCRIPTION:Three Improv Shop House Teams take the stage! Each week you’ll see different styles and flavors of longform improv\, all in a nice little three set package. Stick around afterwards for The Jam for your opportunity to play along\, or just sit back and watch! \nThis week’s teams:\nSmall Uncle\, Zam Pow!\, Long Pigs
URL:https://theimprovshop.com/show/house-team-night-jam-8/
LOCATION:St. Louis\, 3960 Chouteau Ave.\, St. Louis\, MO\, 63110\, United States
CATEGORIES:Improvisation
ATTACH;FMTTYPE=image/jpeg:https://theimprovshop.com/cdn-cgi/imagedelivery/nK-Zp4rePU3J22_LxCmgmQ/theimprovshop.com/2025/11/house-team-night-2026-copy.jpg/w=9999
END:VEVENT
BEGIN:VEVENT
DTSTART;TZID=America/Chicago:20260205T190000
DTEND;TZID=America/Chicago:20260205T203000
DTSTAMP:20260423T175027
CREATED:20260102T175011Z
LAST-MODIFIED:20260205T230952Z
UID:53074-1770318000-1770323400@theimprovshop.com
SUMMARY:The Menagerie
DESCRIPTION:Come one! Come all! and catch three local improv teams as they perform in front of a live audience. Just like a zoo!…except there’s no cages or fish tanks.
URL:https://theimprovshop.com/show/the-menagerie-10/
LOCATION:St. Louis\, 3960 Chouteau Ave.\, St. Louis\, MO\, 63110\, United States
CATEGORIES:Improvisation
ATTACH;FMTTYPE=image/jpeg:https://theimprovshop.com/cdn-cgi/imagedelivery/nK-Zp4rePU3J22_LxCmgmQ/theimprovshop.com/2025/06/826334f4-6984-43cf-a01c-d2136cec877d.jpg/w=9999
END:VEVENT
BEGIN:VEVENT
DTSTART;TZID=America/Chicago:20260205T210000
DTEND;TZID=America/Chicago:20260205T223000
DTSTAMP:20260423T175027
CREATED:20260112T151445Z
LAST-MODIFIED:20260115T143747Z
UID:53579-1770325200-1770330600@theimprovshop.com
SUMMARY:The Merry-Go-Round
DESCRIPTION:Step right up for The Merry-Go-Round\, an improv extravaganza! Four local improv teams go round and round and take you on a ride of unscripted fun. Don’t miss the show where anything can happen—except boredom!  \nThis is a free event!
URL:https://theimprovshop.com/show/the-merry-go-round-3/
LOCATION:St. Louis\, 3960 Chouteau Ave.\, St. Louis\, MO\, 63110\, United States
CATEGORIES:Improvisation
ATTACH;FMTTYPE=image/jpeg:https://theimprovshop.com/cdn-cgi/imagedelivery/nK-Zp4rePU3J22_LxCmgmQ/theimprovshop.com/2024/12/merry-go-round.jpg/w=9999
END:VEVENT
BEGIN:VEVENT
DTSTART;TZID=America/Chicago:20260206T190000
DTEND;TZID=America/Chicago:20260206T203000
DTSTAMP:20260423T175027
CREATED:20260102T180025Z
LAST-MODIFIED:20260205T231347Z
UID:53098-1770404400-1770409800@theimprovshop.com
SUMMARY:THE ASTERISK*
DESCRIPTION:In this show\, we give the suggestion to YOU. Every show has a theme\, and every audience** has stories to share. With your help\, St. Louis’s best improv comics take a simple idea*** and dig into the juicy details. The result: scenes made up in real time\, powered by your footnotes\, omission\, and disclaimers. Subtext has never been so fun! \n*every Friday at 7pm\n**you\, we hope\n***that night’s theme \nThis week’s theme: Super Bowl/Sports!
URL:https://theimprovshop.com/show/the-asterisk-12/
LOCATION:St. Louis\, 3960 Chouteau Ave.\, St. Louis\, MO\, 63110\, United States
CATEGORIES:Improvisation
ATTACH;FMTTYPE=image/png:https://theimprovshop.com/cdn-cgi/imagedelivery/nK-Zp4rePU3J22_LxCmgmQ/theimprovshop.com/2025/12/2-1.png/w=9999
END:VEVENT
BEGIN:VEVENT
DTSTART;TZID=America/Chicago:20260206T190000
DTEND;TZID=America/Chicago:20260206T203000
DTSTAMP:20260423T175027
CREATED:20260106T183246Z
LAST-MODIFIED:20260106T183246Z
UID:53387-1770404400-1770409800@theimprovshop.com
SUMMARY:Knit Together: My Life in Sweaters
DESCRIPTION:Help Gigi celebrate her birthday as she takes a look back at her life and plans for the future. There will be improv and there will be sweaters.
URL:https://theimprovshop.com/show/knit-together-my-life-in-sweaters/
LOCATION:St. Louis\, 3960 Chouteau Ave.\, St. Louis\, MO\, 63110\, United States
CATEGORIES:Improvisation
ATTACH;FMTTYPE=image/png:https://theimprovshop.com/cdn-cgi/imagedelivery/nK-Zp4rePU3J22_LxCmgmQ/theimprovshop.com/2025/12/Knit-Together-Angela-Mayer.png/w=9999
END:VEVENT
BEGIN:VEVENT
DTSTART;TZID=America/Chicago:20260206T210000
DTEND;TZID=America/Chicago:20260206T223000
DTSTAMP:20260423T175027
CREATED:20260106T183441Z
LAST-MODIFIED:20260202T192025Z
UID:53390-1770411600-1770417000@theimprovshop.com
SUMMARY:Grandma’s Den Hang with Mansplain
DESCRIPTION:Just some femmes and a them channeling their dude bro alter egos hanging with their pals and doing some sweet long form improv. Tonight Thank You\, Next and Kissing Booth are hanging out with us in our Grandma’s Den!
URL:https://theimprovshop.com/show/femmes-and-thems/
LOCATION:St. Louis\, 3960 Chouteau Ave.\, St. Louis\, MO\, 63110\, United States
CATEGORIES:Improvisation
ATTACH;FMTTYPE=image/jpeg:https://theimprovshop.com/cdn-cgi/imagedelivery/nK-Zp4rePU3J22_LxCmgmQ/theimprovshop.com/2025/12/IMG_2119-Megs-Davis.jpeg/w=9999
END:VEVENT
BEGIN:VEVENT
DTSTART;TZID=America/Chicago:20260206T210000
DTEND;TZID=America/Chicago:20260206T223000
DTSTAMP:20260423T175027
CREATED:20260112T153014Z
LAST-MODIFIED:20260205T231449Z
UID:53611-1770411600-1770417000@theimprovshop.com
SUMMARY:Cagematch
DESCRIPTION:Cagematch\, which was originally created by Kevin Mullaney (former Artistic Director at the UCB Theater)\, returns for the 2026 Regular Season! Cagematch is a friendly\, competitive longform improv show where the audience votes for their favorite team. The winner moves plays again the following week\, always! \nTonight’s challenger:\nRough Draft in Monterrey
URL:https://theimprovshop.com/show/cagematch-2/
LOCATION:St. Louis\, 3960 Chouteau Ave.\, St. Louis\, MO\, 63110\, United States
CATEGORIES:Competition,Improvisation
ATTACH;FMTTYPE=image/jpeg:https://theimprovshop.com/cdn-cgi/imagedelivery/nK-Zp4rePU3J22_LxCmgmQ/theimprovshop.com/2026/01/SIGNAGE-Cagematch-regseason-2026-696x1080-1.jpg/w=9999
END:VEVENT
BEGIN:VEVENT
DTSTART;TZID=America/Chicago:20260207T190000
DTEND;TZID=America/Chicago:20260207T203000
DTSTAMP:20260423T175027
CREATED:20251212T160018Z
LAST-MODIFIED:20251212T160018Z
UID:52336-1770490800-1770496200@theimprovshop.com
SUMMARY:Forever Black
DESCRIPTION:What is code switching if not improv? \nCelebrate black history month with an ALL BLACK improv show. \nCome through and support local black artists.
URL:https://theimprovshop.com/show/forever-black/
LOCATION:St. Louis\, 3960 Chouteau Ave.\, St. Louis\, MO\, 63110\, United States
CATEGORIES:Improvisation
ATTACH;FMTTYPE=image/png:https://theimprovshop.com/cdn-cgi/imagedelivery/nK-Zp4rePU3J22_LxCmgmQ/theimprovshop.com/2025/12/BLACK-1.png/w=9999
END:VEVENT
BEGIN:VEVENT
DTSTART;TZID=America/Chicago:20260207T190000
DTEND;TZID=America/Chicago:20260207T203000
DTSTAMP:20260423T175027
CREATED:20260106T183653Z
LAST-MODIFIED:20260106T183653Z
UID:53393-1770490800-1770496200@theimprovshop.com
SUMMARY:Yaaas And Friends
DESCRIPTION:The first\, last\, and only queer improv team\, Yaaas And\, is performing some queer improv along with their fellow queer (and ally) improv teams! It’s gonna be queer and crazy. Bring your queer-self to watch or else you’re straight.
URL:https://theimprovshop.com/show/yaaas-and-friends-3/
LOCATION:St. Louis\, 3960 Chouteau Ave.\, St. Louis\, MO\, 63110\, United States
CATEGORIES:Improvisation
ATTACH;FMTTYPE=image/jpeg:https://theimprovshop.com/cdn-cgi/imagedelivery/nK-Zp4rePU3J22_LxCmgmQ/theimprovshop.com/2025/05/YAAAS-And-Friends-v2.jpg/w=9999
END:VEVENT
BEGIN:VEVENT
DTSTART;TZID=America/Chicago:20260207T210000
DTEND;TZID=America/Chicago:20260207T223000
DTSTAMP:20260423T175027
CREATED:20251212T023350Z
LAST-MODIFIED:20260205T231611Z
UID:52325-1770498000-1770503400@theimprovshop.com
SUMMARY:More Cowbell
DESCRIPTION:Stay for this 9pm main stage show for more music\, more improv\, more musical improv. You got a fever? The only prescription is More Cowbell.
URL:https://theimprovshop.com/show/more-cowbell-2/
LOCATION:St. Louis\, 3960 Chouteau Ave.\, St. Louis\, MO\, 63110\, United States
CATEGORIES:Improvisation,Musical Improv
ATTACH;FMTTYPE=image/jpeg:https://theimprovshop.com/cdn-cgi/imagedelivery/nK-Zp4rePU3J22_LxCmgmQ/theimprovshop.com/2025/12/more-cowbell.jpg/w=9999
END:VEVENT
BEGIN:VEVENT
DTSTART;TZID=America/Chicago:20260207T210000
DTEND;TZID=America/Chicago:20260207T223000
DTSTAMP:20260423T175027
CREATED:20260106T183852Z
LAST-MODIFIED:20260106T183852Z
UID:53396-1770498000-1770503400@theimprovshop.com
SUMMARY:Knotty By Nature
DESCRIPTION:Knotty By Nature – the coziest show this side of the yarn aisle! Join us for a night of improv performed by local teams inspired by the handmaid work of local artists! Be awed not only by the comedy\, but by the sheer talent that exists in this crazy crafty world! Bring your latest project\, your favorite cozy drink\, and get ready for a night of crafts and laughs.
URL:https://theimprovshop.com/show/knotty-by-nature/
LOCATION:St. Louis\, 3960 Chouteau Ave.\, St. Louis\, MO\, 63110\, United States
CATEGORIES:Improvisation
ATTACH;FMTTYPE=image/png:https://theimprovshop.com/cdn-cgi/imagedelivery/nK-Zp4rePU3J22_LxCmgmQ/theimprovshop.com/2025/12/Knotty-By-Nature-Cassandra-Ema.png/w=9999
END:VEVENT
BEGIN:VEVENT
DTSTART;TZID=America/Chicago:20260209T190000
DTEND;TZID=America/Chicago:20260209T203000
DTSTAMP:20260423T175027
CREATED:20251217T170301Z
LAST-MODIFIED:20251217T170301Z
UID:52531-1770663600-1770669000@theimprovshop.com
SUMMARY:School Night
DESCRIPTION:It’s a School Night! Come out to watch 3 teams\, back-to-back-to-back\, no intermission\, all for $0! \nTeam lineup: TBD \nThis is a free event!
URL:https://theimprovshop.com/show/school-night-5/
LOCATION:St. Louis\, 3960 Chouteau Ave.\, St. Louis\, MO\, 63110\, United States
CATEGORIES:Improvisation
ATTACH;FMTTYPE=image/jpeg:https://theimprovshop.com/cdn-cgi/imagedelivery/nK-Zp4rePU3J22_LxCmgmQ/theimprovshop.com/2024/11/schoolnight.jpg/w=9999
END:VEVENT
BEGIN:VEVENT
DTSTART;TZID=America/Chicago:20260209T190000
DTEND;TZID=America/Chicago:20260209T203000
DTSTAMP:20260423T175027
CREATED:20260106T141244Z
LAST-MODIFIED:20260106T141244Z
UID:53351-1770663600-1770669000@theimprovshop.com
SUMMARY:Teams Level 2 Student Showcase
DESCRIPTION:Join our Teams Level 2 students as they showcase their talents every Monday at 7pm in mainstage! \nThis is a free event!
URL:https://theimprovshop.com/show/teams-level-2-student-showcase-3/
LOCATION:St. Louis\, 3960 Chouteau Ave.\, St. Louis\, MO\, 63110\, United States
CATEGORIES:Improvisation,Student Showcase
ATTACH;FMTTYPE=image/jpeg:https://theimprovshop.com/cdn-cgi/imagedelivery/nK-Zp4rePU3J22_LxCmgmQ/theimprovshop.com/2025/09/SIGNAGE-TL2student-showcase-696x1080-NO-JAM.jpg/w=9999
END:VEVENT
BEGIN:VEVENT
DTSTART;TZID=America/Chicago:20260209T190000
DTEND;TZID=America/Chicago:20260209T203000
DTSTAMP:20260423T175027
CREATED:20260106T141523Z
LAST-MODIFIED:20260106T141523Z
UID:53359-1770663600-1770669000@theimprovshop.com
SUMMARY:Teams Level 1 Student Showcase
DESCRIPTION:Join our Teams Level 1 students every Monday at 7pm on sidestage as they showcase their talents over the 8-weeks of their class. \nThis is a free event!
URL:https://theimprovshop.com/show/teams-level-1-student-showcase-10/
LOCATION:St. Louis\, 3960 Chouteau Ave.\, St. Louis\, MO\, 63110\, United States
CATEGORIES:Improvisation,Student Showcase
ATTACH;FMTTYPE=image/jpeg:https://theimprovshop.com/cdn-cgi/imagedelivery/nK-Zp4rePU3J22_LxCmgmQ/theimprovshop.com/2023/04/SIGNAGE-TL1side-student-showcase-696x1080-1.jpg/w=9999
END:VEVENT
BEGIN:VEVENT
DTSTART;TZID=America/Chicago:20260212T190000
DTEND;TZID=America/Chicago:20260212T203000
DTSTAMP:20260423T175027
CREATED:20251125T183441Z
LAST-MODIFIED:20260212T175845Z
UID:51960-1770922800-1770928200@theimprovshop.com
SUMMARY:House Team Night & Jam
DESCRIPTION:Three Improv Shop House Teams take the stage! Each week you’ll see different styles and flavors of longform improv\, all in a nice little three set package. Stick around afterwards for The Jam for your opportunity to play along\, or just sit back and watch! \nThis week’s teams:\nCelibate\, 3rd Wheel\, Songbird
URL:https://theimprovshop.com/show/house-team-night-jam-9/
LOCATION:St. Louis\, 3960 Chouteau Ave.\, St. Louis\, MO\, 63110\, United States
CATEGORIES:Improvisation
ATTACH;FMTTYPE=image/jpeg:https://theimprovshop.com/cdn-cgi/imagedelivery/nK-Zp4rePU3J22_LxCmgmQ/theimprovshop.com/2025/11/house-team-night-2026-copy.jpg/w=9999
END:VEVENT
BEGIN:VEVENT
DTSTART;TZID=America/Chicago:20260212T190000
DTEND;TZID=America/Chicago:20260212T203000
DTSTAMP:20260423T175027
CREATED:20260102T175136Z
LAST-MODIFIED:20260212T180047Z
UID:53078-1770922800-1770928200@theimprovshop.com
SUMMARY:The Menagerie
DESCRIPTION:Come one! Come all! and catch three local improv teams as they perform in front of a live audience. Just like a zoo!…except there’s no cages or fish tanks.
URL:https://theimprovshop.com/show/the-menagerie-11/
LOCATION:St. Louis\, 3960 Chouteau Ave.\, St. Louis\, MO\, 63110\, United States
CATEGORIES:Improvisation
ATTACH;FMTTYPE=image/jpeg:https://theimprovshop.com/cdn-cgi/imagedelivery/nK-Zp4rePU3J22_LxCmgmQ/theimprovshop.com/2025/06/826334f4-6984-43cf-a01c-d2136cec877d.jpg/w=9999
END:VEVENT
BEGIN:VEVENT
DTSTART;TZID=America/Chicago:20260212T210000
DTEND;TZID=America/Chicago:20260212T223000
DTSTAMP:20260423T175027
CREATED:20260112T151505Z
LAST-MODIFIED:20260115T143757Z
UID:53581-1770930000-1770935400@theimprovshop.com
SUMMARY:The Merry-Go-Round
DESCRIPTION:Step right up for The Merry-Go-Round\, an improv extravaganza! Four local improv teams go round and round and take you on a ride of unscripted fun. Don’t miss the show where anything can happen—except boredom!  \nThis is a free event!
URL:https://theimprovshop.com/show/the-merry-go-round-8/
LOCATION:St. Louis\, 3960 Chouteau Ave.\, St. Louis\, MO\, 63110\, United States
CATEGORIES:Improvisation
ATTACH;FMTTYPE=image/jpeg:https://theimprovshop.com/cdn-cgi/imagedelivery/nK-Zp4rePU3J22_LxCmgmQ/theimprovshop.com/2024/12/merry-go-round.jpg/w=9999
END:VEVENT
BEGIN:VEVENT
DTSTART;TZID=America/Chicago:20260213T190000
DTEND;TZID=America/Chicago:20260213T203000
DTSTAMP:20260423T175027
CREATED:20260102T180132Z
LAST-MODIFIED:20260212T180218Z
UID:53102-1771009200-1771014600@theimprovshop.com
SUMMARY:THE ASTERISK*
DESCRIPTION:In this show\, we give the suggestion to YOU. Every show has a theme\, and every audience** has stories to share. With your help\, St. Louis’s best improv comics take a simple idea*** and dig into the juicy details. The result: scenes made up in real time\, powered by your footnotes\, omission\, and disclaimers. Subtext has never been so fun! \n*every Friday at 7pm\n**you\, we hope\n***that night’s theme \nThis week’s theme: Valentines Day/Love
URL:https://theimprovshop.com/show/the-asterisk-13/
LOCATION:St. Louis\, 3960 Chouteau Ave.\, St. Louis\, MO\, 63110\, United States
CATEGORIES:Improvisation
ATTACH;FMTTYPE=image/png:https://theimprovshop.com/cdn-cgi/imagedelivery/nK-Zp4rePU3J22_LxCmgmQ/theimprovshop.com/2025/12/2-1.png/w=9999
END:VEVENT
BEGIN:VEVENT
DTSTART;TZID=America/Chicago:20260213T190000
DTEND;TZID=America/Chicago:20260213T203000
DTSTAMP:20260423T175027
CREATED:20260106T184145Z
LAST-MODIFIED:20260212T180349Z
UID:53399-1771009200-1771014600@theimprovshop.com
SUMMARY:Our Romantic Evening
DESCRIPTION:Bring a date\, bring your best friend\, or just bring yourself to “Our Romantic Evening”. Each set begins with a romantic monologue unknown to the performers until the lights come up. Our featured performers transform these sparks of inspiration into moments of comedy and connection. Sip on a Cosmopolitan and settle in for a night of love\, laughter\, and improvisation.
URL:https://theimprovshop.com/show/our-romantic-evening/
LOCATION:St. Louis\, 3960 Chouteau Ave.\, St. Louis\, MO\, 63110\, United States
CATEGORIES:Improvisation
ATTACH;FMTTYPE=image/jpeg:https://theimprovshop.com/cdn-cgi/imagedelivery/nK-Zp4rePU3J22_LxCmgmQ/theimprovshop.com/2025/06/0fdee033-79bb-4dda-96c9-67793d07ceac.jpg/w=9999
END:VEVENT
BEGIN:VEVENT
DTSTART;TZID=America/Chicago:20260213T210000
DTEND;TZID=America/Chicago:20260213T223000
DTSTAMP:20260423T175027
CREATED:20260106T184436Z
LAST-MODIFIED:20260212T180437Z
UID:53403-1771016400-1771021800@theimprovshop.com
SUMMARY:Shirts and Skins with Comic Strip and Friends
DESCRIPTION:The least clothed improv team in St. Louis is back and this time\, they’ve brought friends. A (regular\, non-stripping) guest team will open the show with 20-25 minutes of (regular\, non-stripping) improv. Then\, Comic Strip performs (irregular\, stripping) improv while transforming the very clothes they are wearing into props until the whole team is as naked as is permitted by law.
URL:https://theimprovshop.com/show/shirts-and-skins-with-comic-strip-and-friends-3/
LOCATION:St. Louis\, 3960 Chouteau Ave.\, St. Louis\, MO\, 63110\, United States
CATEGORIES:Improvisation
ATTACH;FMTTYPE=image/png:https://theimprovshop.com/cdn-cgi/imagedelivery/nK-Zp4rePU3J22_LxCmgmQ/theimprovshop.com/2024/12/Shirts-1080-x-696-px_20241223_162232_0000.png/w=9999
END:VEVENT
END:VCALENDAR