BEGIN:VCALENDAR
VERSION:2.0
PRODID:-//The Improv Shop - ECPv6.15.16//NONSGML v1.0//EN
CALSCALE:GREGORIAN
METHOD:PUBLISH
X-WR-CALNAME:The Improv Shop
X-ORIGINAL-URL:https://theimprovshop.com
X-WR-CALDESC:Events for The Improv Shop
REFRESH-INTERVAL;VALUE=DURATION:PT1H
X-Robots-Tag:noindex
X-PUBLISHED-TTL:PT1H
BEGIN:VTIMEZONE
TZID:America/Chicago
BEGIN:DAYLIGHT
TZOFFSETFROM:-0600
TZOFFSETTO:-0500
TZNAME:CDT
DTSTART:20250309T080000
END:DAYLIGHT
BEGIN:STANDARD
TZOFFSETFROM:-0500
TZOFFSETTO:-0600
TZNAME:CST
DTSTART:20251102T070000
END:STANDARD
BEGIN:DAYLIGHT
TZOFFSETFROM:-0600
TZOFFSETTO:-0500
TZNAME:CDT
DTSTART:20260308T080000
END:DAYLIGHT
BEGIN:STANDARD
TZOFFSETFROM:-0500
TZOFFSETTO:-0600
TZNAME:CST
DTSTART:20261101T070000
END:STANDARD
BEGIN:DAYLIGHT
TZOFFSETFROM:-0600
TZOFFSETTO:-0500
TZNAME:CDT
DTSTART:20270314T080000
END:DAYLIGHT
BEGIN:STANDARD
TZOFFSETFROM:-0500
TZOFFSETTO:-0600
TZNAME:CST
DTSTART:20271107T070000
END:STANDARD
END:VTIMEZONE
BEGIN:VEVENT
DTSTART;TZID=America/Chicago:20260226T190000
DTEND;TZID=America/Chicago:20260226T203000
DTSTAMP:20260423T141153
CREATED:20251125T183725Z
LAST-MODIFIED:20260226T221649Z
UID:51968-1772132400-1772137800@theimprovshop.com
SUMMARY:House Team Night & Jam
DESCRIPTION:Three Improv Shop House Teams take the stage! Each week you’ll see different styles and flavors of longform improv\, all in a nice little three set package. Stick around afterwards for The Jam for your opportunity to play along\, or just sit back and watch! \nThis week’s teams:\n3rd Wheel\, Songbird\, Small Uncle
URL:https://theimprovshop.com/show/house-team-night-jam-11/
LOCATION:St. Louis\, 3960 Chouteau Ave.\, St. Louis\, MO\, 63110\, United States
CATEGORIES:Improvisation
ATTACH;FMTTYPE=image/jpeg:https://theimprovshop.com/cdn-cgi/imagedelivery/nK-Zp4rePU3J22_LxCmgmQ/theimprovshop.com/2025/11/house-team-night-2026-copy.jpg/w=9999
END:VEVENT
BEGIN:VEVENT
DTSTART;TZID=America/Chicago:20260223T190000
DTEND;TZID=America/Chicago:20260223T203000
DTSTAMP:20260423T141153
CREATED:20260106T141618Z
LAST-MODIFIED:20260106T141618Z
UID:53363-1771873200-1771878600@theimprovshop.com
SUMMARY:Teams Level 1 Student Showcase
DESCRIPTION:Join our Teams Level 1 students every Monday at 7pm on sidestage as they showcase their talents over the 8-weeks of their class. \nThis is a free event!
URL:https://theimprovshop.com/show/teams-level-1-student-showcase-12/
LOCATION:St. Louis\, 3960 Chouteau Ave.\, St. Louis\, MO\, 63110\, United States
CATEGORIES:Improvisation,Student Showcase
ATTACH;FMTTYPE=image/jpeg:https://theimprovshop.com/cdn-cgi/imagedelivery/nK-Zp4rePU3J22_LxCmgmQ/theimprovshop.com/2023/04/SIGNAGE-TL1side-student-showcase-696x1080-1.jpg/w=9999
END:VEVENT
BEGIN:VEVENT
DTSTART;TZID=America/Chicago:20260223T190000
DTEND;TZID=America/Chicago:20260223T203000
DTSTAMP:20260423T141153
CREATED:20260106T141345Z
LAST-MODIFIED:20260106T141345Z
UID:53355-1771873200-1771878600@theimprovshop.com
SUMMARY:Teams Level 2 Student Showcase
DESCRIPTION:Join our Teams Level 2 students as they showcase their talents every Monday at 7pm in mainstage! \nThis is a free event!
URL:https://theimprovshop.com/show/teams-level-2-student-showcase-5/
LOCATION:St. Louis\, 3960 Chouteau Ave.\, St. Louis\, MO\, 63110\, United States
CATEGORIES:Improvisation,Student Showcase
ATTACH;FMTTYPE=image/jpeg:https://theimprovshop.com/cdn-cgi/imagedelivery/nK-Zp4rePU3J22_LxCmgmQ/theimprovshop.com/2025/09/SIGNAGE-TL2student-showcase-696x1080-NO-JAM.jpg/w=9999
END:VEVENT
BEGIN:VEVENT
DTSTART;TZID=America/Chicago:20260223T190000
DTEND;TZID=America/Chicago:20260223T203000
DTSTAMP:20260423T141153
CREATED:20251217T170324Z
LAST-MODIFIED:20251217T170324Z
UID:52533-1771873200-1771878600@theimprovshop.com
SUMMARY:School Night
DESCRIPTION:It’s a School Night! Come out to watch 3 teams\, back-to-back-to-back\, no intermission\, all for $0! \nTeam lineup: TBD \nThis is a free event!
URL:https://theimprovshop.com/show/school-night-9/
LOCATION:St. Louis\, 3960 Chouteau Ave.\, St. Louis\, MO\, 63110\, United States
CATEGORIES:Improvisation
ATTACH;FMTTYPE=image/jpeg:https://theimprovshop.com/cdn-cgi/imagedelivery/nK-Zp4rePU3J22_LxCmgmQ/theimprovshop.com/2024/11/schoolnight.jpg/w=9999
END:VEVENT
BEGIN:VEVENT
DTSTART;TZID=America/Chicago:20260221T210000
DTEND;TZID=America/Chicago:20260221T223000
DTSTAMP:20260423T141153
CREATED:20260106T190221Z
LAST-MODIFIED:20260106T190221Z
UID:53425-1771707600-1771713000@theimprovshop.com
SUMMARY:Reverse Rorschach
DESCRIPTION:Ever wonder what an improv show would look like as a painting? The wait is over.
URL:https://theimprovshop.com/show/reverse-rorschach/
LOCATION:St. Louis\, 3960 Chouteau Ave.\, St. Louis\, MO\, 63110\, United States
CATEGORIES:Improvisation
ATTACH;FMTTYPE=image/png:https://theimprovshop.com/cdn-cgi/imagedelivery/nK-Zp4rePU3J22_LxCmgmQ/theimprovshop.com/2025/12/Reverse-Rorschach-Angela-Mayer.png/w=9999
END:VEVENT
BEGIN:VEVENT
DTSTART;TZID=America/Chicago:20260221T210000
DTEND;TZID=America/Chicago:20260221T223000
DTSTAMP:20260423T141153
CREATED:20251222T154322Z
LAST-MODIFIED:20260219T181814Z
UID:52683-1771707600-1771713000@theimprovshop.com
SUMMARY:Am I the Asshole?
DESCRIPTION:Am I The Asshole is an improv show inspired by your favorite life advice subreddits. Our cast will pull from “real” Reddit stories (found on forums such as r/AmITheAsshole\, r/Relationships\, etc.) to explore the relationships and baffling internal logic of various chronically online strangers. Join us\, comment\, upvote?
URL:https://theimprovshop.com/show/am-i-the-asshole-4/
LOCATION:St. Louis\, 3960 Chouteau Ave.\, St. Louis\, MO\, 63110\, United States
CATEGORIES:Improvisation
ATTACH;FMTTYPE=image/png:https://theimprovshop.com/cdn-cgi/imagedelivery/nK-Zp4rePU3J22_LxCmgmQ/theimprovshop.com/2024/07/FE72C8A5-3FAD-4F0F-B377-C0911A22D98F.png/w=9999
END:VEVENT
BEGIN:VEVENT
DTSTART;TZID=America/Chicago:20260221T190000
DTEND;TZID=America/Chicago:20260221T203000
DTSTAMP:20260423T141153
CREATED:20260112T152230Z
LAST-MODIFIED:20260112T152230Z
UID:53599-1771700400-1771705800@theimprovshop.com
SUMMARY:Mrs. Somebody & Friends
DESCRIPTION:Join Mrs. Somebody (Kevin McKernan & Andy Sloey) for an evening of improvisation featuring their friends Whatever and Gameboyz!
URL:https://theimprovshop.com/show/mrs-somebody-friends/
LOCATION:St. Louis\, 3960 Chouteau Ave.\, St. Louis\, MO\, 63110\, United States
CATEGORIES:Improvisation
ATTACH;FMTTYPE=image/jpeg:https://theimprovshop.com/cdn-cgi/imagedelivery/nK-Zp4rePU3J22_LxCmgmQ/theimprovshop.com/2018/11/SIGNAGE-MRSSomebody-696x1080.jpg/w=696,h=1080
END:VEVENT
BEGIN:VEVENT
DTSTART;TZID=America/Chicago:20260221T190000
DTEND;TZID=America/Chicago:20260221T203000
DTSTAMP:20260423T141153
CREATED:20260106T190018Z
LAST-MODIFIED:20260219T181646Z
UID:53421-1771700400-1771705800@theimprovshop.com
SUMMARY:POC Improv League
DESCRIPTION:The first and only improv league with all Person of Color players in St. Louis!\n\nThree new independent teams will debut for a night of joy\, color\, comedy\, and unity.\n\nWe’re in this together <3
URL:https://theimprovshop.com/show/poc-improv-league-3/
LOCATION:St. Louis\, 3960 Chouteau Ave.\, St. Louis\, MO\, 63110\, United States
CATEGORIES:Improvisation
ATTACH;FMTTYPE=image/png:https://theimprovshop.com/wp-content/uploads/2025/07/Screenshot-2025-07-07-at-10.52.24 PM.png
END:VEVENT
BEGIN:VEVENT
DTSTART;TZID=America/Chicago:20260220T210000
DTEND;TZID=America/Chicago:20260220T223000
DTSTAMP:20260423T141153
CREATED:20260112T153231Z
LAST-MODIFIED:20260219T181526Z
UID:53619-1771621200-1771626600@theimprovshop.com
SUMMARY:Cagematch
DESCRIPTION:Cagematch\, which was originally created by Kevin Mullaney (former Artistic Director at the UCB Theater)\, returns for the 2026 Regular Season! Cagematch is a friendly\, competitive longform improv show where the audience votes for their favorite team. The winner moves plays again the following week\, always! \nTonight’s challenger:\nSorry We’re Late!!
URL:https://theimprovshop.com/show/cagematch-4/
LOCATION:St. Louis\, 3960 Chouteau Ave.\, St. Louis\, MO\, 63110\, United States
CATEGORIES:Competition,Improvisation
ATTACH;FMTTYPE=image/jpeg:https://theimprovshop.com/cdn-cgi/imagedelivery/nK-Zp4rePU3J22_LxCmgmQ/theimprovshop.com/2026/01/SIGNAGE-Cagematch-regseason-2026-696x1080-1.jpg/w=9999
END:VEVENT
BEGIN:VEVENT
DTSTART;TZID=America/Chicago:20260220T210000
DTEND;TZID=America/Chicago:20260220T223000
DTSTAMP:20260423T141153
CREATED:20260106T185759Z
LAST-MODIFIED:20260106T185759Z
UID:53418-1771621200-1771626600@theimprovshop.com
SUMMARY:Drawing Straws
DESCRIPTION:Join us for an evening of improv that is like\, so random. Where the teams and forms are decided on the spot\, by the age old method of drawing straws.
URL:https://theimprovshop.com/show/drawing-straws/
LOCATION:St. Louis\, 3960 Chouteau Ave.\, St. Louis\, MO\, 63110\, United States
CATEGORIES:Improvisation
ATTACH;FMTTYPE=image/jpeg:https://theimprovshop.com/cdn-cgi/imagedelivery/nK-Zp4rePU3J22_LxCmgmQ/theimprovshop.com/2024/06/SIGNAGE-straws-696x1080-1.jpg/w=9999
END:VEVENT
BEGIN:VEVENT
DTSTART;TZID=America/Chicago:20260220T190000
DTEND;TZID=America/Chicago:20260220T203000
DTSTAMP:20260423T141153
CREATED:20260106T185519Z
LAST-MODIFIED:20260106T185519Z
UID:53415-1771614000-1771619400@theimprovshop.com
SUMMARY:Spit-Take Presents: Finding Florida Man
DESCRIPTION:Join us as Spit-Take uncovers the wildest and most outrageous Florida Man stories. You’ll laugh along with water cooler talk\, wacky characters\, energetic improv\, all set against the backdrop of Florida’s quirkiest headlines.
URL:https://theimprovshop.com/show/spit-take-presents-finding-florida-man-2/
LOCATION:St. Louis\, 3960 Chouteau Ave.\, St. Louis\, MO\, 63110\, United States
CATEGORIES:Improvisation
ATTACH;FMTTYPE=image/png:https://theimprovshop.com/cdn-cgi/imagedelivery/nK-Zp4rePU3J22_LxCmgmQ/theimprovshop.com/2024/08/Copy-of-Retro-Classic-Palm-Beach-Florida-T-Shirt-Real-Estate-Flyer.png/w=9999
END:VEVENT
BEGIN:VEVENT
DTSTART;TZID=America/Chicago:20260220T190000
DTEND;TZID=America/Chicago:20260220T203000
DTSTAMP:20260423T141153
CREATED:20260106T142423Z
LAST-MODIFIED:20260219T180846Z
UID:53372-1771614000-1771619400@theimprovshop.com
SUMMARY:THE ASTERISK*
DESCRIPTION:In this show\, we give the suggestion to YOU. Every show has a theme\, and every audience** has stories to share. With your help\, St. Louis’s best improv comics take a simple idea*** and dig into the juicy details. The result: scenes made up in real time\, powered by your footnotes\, omission\, and disclaimers. Subtext has never been so fun! \n*every Friday at 7pm\n**you\, we hope\n***that night’s theme \nThis week’s theme: Endurance – Moments when you were just trying to get through
URL:https://theimprovshop.com/show/the-asterisk-14/
LOCATION:St. Louis\, 3960 Chouteau Ave.\, St. Louis\, MO\, 63110\, United States
CATEGORIES:Improvisation
ATTACH;FMTTYPE=image/png:https://theimprovshop.com/cdn-cgi/imagedelivery/nK-Zp4rePU3J22_LxCmgmQ/theimprovshop.com/2025/12/2-1.png/w=9999
END:VEVENT
BEGIN:VEVENT
DTSTART;TZID=America/Chicago:20260219T210000
DTEND;TZID=America/Chicago:20260219T223000
DTSTAMP:20260423T141153
CREATED:20260112T151539Z
LAST-MODIFIED:20260115T143835Z
UID:53583-1771534800-1771540200@theimprovshop.com
SUMMARY:The Merry-Go-Round
DESCRIPTION:Step right up for The Merry-Go-Round\, an improv extravaganza! Four local improv teams go round and round and take you on a ride of unscripted fun. Don’t miss the show where anything can happen—except boredom!  \nThis is a free event!
URL:https://theimprovshop.com/show/the-merry-go-round-9/
LOCATION:St. Louis\, 3960 Chouteau Ave.\, St. Louis\, MO\, 63110\, United States
CATEGORIES:Improvisation
ATTACH;FMTTYPE=image/jpeg:https://theimprovshop.com/cdn-cgi/imagedelivery/nK-Zp4rePU3J22_LxCmgmQ/theimprovshop.com/2024/12/merry-go-round.jpg/w=9999
END:VEVENT
BEGIN:VEVENT
DTSTART;TZID=America/Chicago:20260219T190000
DTEND;TZID=America/Chicago:20260219T203000
DTSTAMP:20260423T141153
CREATED:20260102T175235Z
LAST-MODIFIED:20260219T180511Z
UID:53082-1771527600-1771533000@theimprovshop.com
SUMMARY:The Menagerie
DESCRIPTION:Come one! Come all! and catch three local improv teams as they perform in front of a live audience. Just like a zoo!…except there’s no cages or fish tanks.
URL:https://theimprovshop.com/show/the-menagerie-12/
LOCATION:St. Louis\, 3960 Chouteau Ave.\, St. Louis\, MO\, 63110\, United States
CATEGORIES:Improvisation
ATTACH;FMTTYPE=image/jpeg:https://theimprovshop.com/cdn-cgi/imagedelivery/nK-Zp4rePU3J22_LxCmgmQ/theimprovshop.com/2025/06/826334f4-6984-43cf-a01c-d2136cec877d.jpg/w=9999
END:VEVENT
BEGIN:VEVENT
DTSTART;TZID=America/Chicago:20260219T190000
DTEND;TZID=America/Chicago:20260219T203000
DTSTAMP:20260423T141153
CREATED:20251125T183610Z
LAST-MODIFIED:20260219T180431Z
UID:51964-1771527600-1771533000@theimprovshop.com
SUMMARY:House Team Night & Jam
DESCRIPTION:Three Improv Shop House Teams take the stage! Each week you’ll see different styles and flavors of longform improv\, all in a nice little three set package. Stick around afterwards for The Jam for your opportunity to play along\, or just sit back and watch! \nThis week’s teams:\nBombadil\, Lover Boy\, On Hold
URL:https://theimprovshop.com/show/house-team-night-jam-10/
LOCATION:St. Louis\, 3960 Chouteau Ave.\, St. Louis\, MO\, 63110\, United States
CATEGORIES:Improvisation
ATTACH;FMTTYPE=image/jpeg:https://theimprovshop.com/cdn-cgi/imagedelivery/nK-Zp4rePU3J22_LxCmgmQ/theimprovshop.com/2025/11/house-team-night-2026-copy.jpg/w=9999
END:VEVENT
BEGIN:VEVENT
DTSTART;TZID=America/Chicago:20260216T210000
DTEND;TZID=America/Chicago:20260216T223000
DTSTAMP:20260423T141153
CREATED:20260106T141756Z
LAST-MODIFIED:20260106T141756Z
UID:53365-1771275600-1771281000@theimprovshop.com
SUMMARY:80085 4 U
DESCRIPTION:To everyone who puts in a hard day’s work\, this show is for you. To everyone who relishes in the bizarre\, this show is for you. \nNo intermission (probably)\, no nudes (yet)\, lots of confessions (maybe even from you)\, one team (unless there are more). Come on out and get something off your chest. We’ll get something off ours\, too. \nWhether you’ve got em\, want em\, or haven’t thought about em\, this 80085 for you. \nThis is a free event!
URL:https://theimprovshop.com/show/80085-4-u-2/
LOCATION:St. Louis\, 3960 Chouteau Ave.\, St. Louis\, MO\, 63110\, United States
CATEGORIES:Improvisation
ATTACH;FMTTYPE=image/jpeg:https://theimprovshop.com/cdn-cgi/imagedelivery/nK-Zp4rePU3J22_LxCmgmQ/theimprovshop.com/2025/07/IMG_3083.jpeg/w=9999
END:VEVENT
BEGIN:VEVENT
DTSTART;TZID=America/Chicago:20260216T210000
DTEND;TZID=America/Chicago:20260216T223000
DTSTAMP:20260423T141153
CREATED:20251208T194335Z
LAST-MODIFIED:20251208T194335Z
UID:52247-1771275600-1771281000@theimprovshop.com
SUMMARY:The Gift
DESCRIPTION:What’s in the box?! Three improv teams take turns gifting each other unusual physical objects. Whatever they receive\, no matter how weird\, must inspire their entire performance. Come see what strange ideas they unwrap! \nThis is a free event!
URL:https://theimprovshop.com/show/the-gift-3/
LOCATION:St. Louis\, 3960 Chouteau Ave.\, St. Louis\, MO\, 63110\, United States
CATEGORIES:Improvisation
ATTACH;FMTTYPE=image/png:https://theimprovshop.com/cdn-cgi/imagedelivery/nK-Zp4rePU3J22_LxCmgmQ/theimprovshop.com/2025/12/the-gift_web-graphic.png/w=9999
END:VEVENT
BEGIN:VEVENT
DTSTART;TZID=America/Chicago:20260216T190000
DTEND;TZID=America/Chicago:20260216T203000
DTSTAMP:20260423T141153
CREATED:20260106T141549Z
LAST-MODIFIED:20260106T141549Z
UID:53361-1771268400-1771273800@theimprovshop.com
SUMMARY:Teams Level 1 Student Showcase
DESCRIPTION:Join our Teams Level 1 students every Monday at 7pm on sidestage as they showcase their talents over the 8-weeks of their class. \nThis is a free event!
URL:https://theimprovshop.com/show/teams-level-1-student-showcase-11/
LOCATION:St. Louis\, 3960 Chouteau Ave.\, St. Louis\, MO\, 63110\, United States
CATEGORIES:Improvisation,Student Showcase
ATTACH;FMTTYPE=image/jpeg:https://theimprovshop.com/cdn-cgi/imagedelivery/nK-Zp4rePU3J22_LxCmgmQ/theimprovshop.com/2023/04/SIGNAGE-TL1side-student-showcase-696x1080-1.jpg/w=9999
END:VEVENT
BEGIN:VEVENT
DTSTART;TZID=America/Chicago:20260216T190000
DTEND;TZID=America/Chicago:20260216T203000
DTSTAMP:20260423T141153
CREATED:20260106T141319Z
LAST-MODIFIED:20260106T141319Z
UID:53353-1771268400-1771273800@theimprovshop.com
SUMMARY:Teams Level 2 Student Showcase
DESCRIPTION:Join our Teams Level 2 students as they showcase their talents every Monday at 7pm in mainstage! \nThis is a free event!
URL:https://theimprovshop.com/show/teams-level-2-student-showcase-4/
LOCATION:St. Louis\, 3960 Chouteau Ave.\, St. Louis\, MO\, 63110\, United States
CATEGORIES:Improvisation,Student Showcase
ATTACH;FMTTYPE=image/jpeg:https://theimprovshop.com/cdn-cgi/imagedelivery/nK-Zp4rePU3J22_LxCmgmQ/theimprovshop.com/2025/09/SIGNAGE-TL2student-showcase-696x1080-NO-JAM.jpg/w=9999
END:VEVENT
BEGIN:VEVENT
DTSTART;TZID=America/Chicago:20260214T210000
DTEND;TZID=America/Chicago:20260214T223000
DTSTAMP:20260423T141153
CREATED:20260106T185043Z
LAST-MODIFIED:20260212T181749Z
UID:53411-1771102800-1771108200@theimprovshop.com
SUMMARY:KARAOKEDOKIE
DESCRIPTION:Join us for Karaokedokie! YOU sing the songs\, our talented cast IMPROVISES scenes!
URL:https://theimprovshop.com/show/karaokedokie-3/
LOCATION:St. Louis\, 3960 Chouteau Ave.\, St. Louis\, MO\, 63110\, United States
CATEGORIES:Improvisation,Speciality
ATTACH;FMTTYPE=image/jpeg:https://theimprovshop.com/cdn-cgi/imagedelivery/nK-Zp4rePU3J22_LxCmgmQ/theimprovshop.com/2022/03/SIGNAGE-karaokedokie-696x1080-copy.jpg/w=9999
END:VEVENT
BEGIN:VEVENT
DTSTART;TZID=America/Chicago:20260214T210000
DTEND;TZID=America/Chicago:20260214T223000
DTSTAMP:20260423T141153
CREATED:20260102T175850Z
LAST-MODIFIED:20260212T181400Z
UID:53094-1771102800-1771108200@theimprovshop.com
SUMMARY:Movie the Musical
DESCRIPTION:Come see your favorite movies come to life in musical form. Movie the Musical will improvise a suggested movie as a musical. Stick around after the intermission for the “Special Features”.
URL:https://theimprovshop.com/show/movie-the-musical-3/
LOCATION:St. Louis\, 3960 Chouteau Ave.\, St. Louis\, MO\, 63110\, United States
CATEGORIES:Musical Improv
ATTACH;FMTTYPE=image/jpeg:https://theimprovshop.com/cdn-cgi/imagedelivery/nK-Zp4rePU3J22_LxCmgmQ/theimprovshop.com/2025/06/00601fbd-30fa-49fe-8408-9797259ad047.jpg/w=9999
END:VEVENT
BEGIN:VEVENT
DTSTART;TZID=America/Chicago:20260214T190000
DTEND;TZID=America/Chicago:20260214T203000
DTSTAMP:20260423T141153
CREATED:20260106T184800Z
LAST-MODIFIED:20260212T181124Z
UID:53407-1771095600-1771101000@theimprovshop.com
SUMMARY:Rhyme and Reason: Valentine's Edition
DESCRIPTION:Come watch 3 musical improv acts sing our hearts out! 😘 \nIncluding:\nA 5-person Date-Themed MUSICAL Living Room with the people who collectively bid on a date with Dean in 80085’s silent auction! \n2zin Tarandon doing a musical rap twosie! \nAnd a performance by the participants of the 5p FREE Valentine’s themed musical jam at the improv shop sidestage\, hosted by Rahul Ragunathan 🎶 \n\n===============================================================\n\nDo you want to be added to the 2zin Tarandon email list to get updates on our upcoming shows and projects? \nClick this link! 
URL:https://theimprovshop.com/show/rhyme-and-reason-6/
LOCATION:St. Louis\, 3960 Chouteau Ave.\, St. Louis\, MO\, 63110\, United States
CATEGORIES:Musical Improv
ATTACH;FMTTYPE=image/png:https://theimprovshop.com/cdn-cgi/imagedelivery/nK-Zp4rePU3J22_LxCmgmQ/theimprovshop.com/2026/01/1000020833.png/w=9999
END:VEVENT
BEGIN:VEVENT
DTSTART;TZID=America/Chicago:20260214T190000
DTEND;TZID=America/Chicago:20260214T203000
DTSTAMP:20260423T141153
CREATED:20260102T175719Z
LAST-MODIFIED:20260212T181016Z
UID:53090-1771095600-1771101000@theimprovshop.com
SUMMARY:The One Four Fives: An Improvised Fantasy Romance Musical
DESCRIPTION:This Valentine’s Day\, skip the crowded restaurant and predictable plans. Spend the night immersed in magic\, romance\, and laughter with The One Four Fives in a special improvised fantasy romance musical: Fourth Sing. \nInspired by wildly popular fantasy romance stories (yes\, that kind)\, Fourth Sing is a Broadway-style musical made up entirely on the spot. Based on an audience suggestion\, the cast creates a one of-a-kind story filled with epic romance\, dramatic twists\, soaring songs\, and just enough spice  to make it a perfect grown-up Valentine’s date night. \nNo script. No idea what’s going to happen next. \nA Must-See Valentine’s Show in St. Louis\nSearching for a unique Valentine’s Day date in St. Louis?\nLooking for live theater\, comedy\, or a musical experience that feels fresh and unexpected? \nThis show delivers it all. \nEvery performance is completely new. The songs\, story\, music\, and choreography are created in real time\, right before your eyes. It’s funny\, romantic\, a little unhinged\, and absolutely unforgettable. \nWhether you’re a fantasy romance fan\, a comedy lover\, or just want a Valentine’s night that feels special and different\, Fourth Sing is the perfect choice. \nAbout The One Four Fives\nThe One Four Fives have been creating improvised musicals in St. Louis for over seven years. The cast includes Darrell Barber\, Anna Agniel\, Boo Kersting\, Andy Sloey\, Jenn Korman\, Nathan Maul\, Ryan Myers\, and Ashley Rube. \nThey were named finalists in St. Louis Magazine’s A-List for Favorite Live Theater Group in 2023\, 2024\, and 2025. \nWhat People Are Saying\n“Comedy and theater fans who enjoy laughs\, improv\, and a good melody you can tap your toes to should really catch one of the monthly performances of The One Four Fives.”\n— Tina Farmer\, Riverfront Times \n“The reason for their longevity is clear. They have mastered the tricks of their trade.”\n— Gerry Kowarsky\, Two on the Aisle \n“I was doubled over laughing the whole time. You will laugh and relate to these amazing people.”\n— Jessi S.\, audience member \nGet Your Tickets\nCelebrate Valentine’s Day with laughter\, romance\, and a musical that will never happen again.\nGet your tickets now and make this Valentine’s night one to remember.
URL:https://theimprovshop.com/show/the-one-four-fives-present-an-improvised-musical-3/
LOCATION:St. Louis\, 3960 Chouteau Ave.\, St. Louis\, MO\, 63110\, United States
CATEGORIES:Musical Improv
ATTACH;FMTTYPE=image/jpeg:https://theimprovshop.com/cdn-cgi/imagedelivery/nK-Zp4rePU3J22_LxCmgmQ/theimprovshop.com/2026/01/145s-Website-Pic.jpg/w=9999
END:VEVENT
BEGIN:VEVENT
DTSTART;TZID=America/Chicago:20260213T210000
DTEND;TZID=America/Chicago:20260213T223000
DTSTAMP:20260423T141153
CREATED:20260112T153120Z
LAST-MODIFIED:20260212T180535Z
UID:53615-1771016400-1771021800@theimprovshop.com
SUMMARY:Cagematch
DESCRIPTION:Cagematch\, which was originally created by Kevin Mullaney (former Artistic Director at the UCB Theater)\, returns for the 2026 Regular Season! Cagematch is a friendly\, competitive longform improv show where the audience votes for their favorite team. The winner moves plays again the following week\, always! \nTonight’s challenger:\nQuestionable
URL:https://theimprovshop.com/show/cagematch-3/
LOCATION:St. Louis\, 3960 Chouteau Ave.\, St. Louis\, MO\, 63110\, United States
CATEGORIES:Competition,Improvisation
ATTACH;FMTTYPE=image/jpeg:https://theimprovshop.com/cdn-cgi/imagedelivery/nK-Zp4rePU3J22_LxCmgmQ/theimprovshop.com/2026/01/SIGNAGE-Cagematch-regseason-2026-696x1080-1.jpg/w=9999
END:VEVENT
BEGIN:VEVENT
DTSTART;TZID=America/Chicago:20260213T210000
DTEND;TZID=America/Chicago:20260213T223000
DTSTAMP:20260423T141153
CREATED:20260106T184436Z
LAST-MODIFIED:20260212T180437Z
UID:53403-1771016400-1771021800@theimprovshop.com
SUMMARY:Shirts and Skins with Comic Strip and Friends
DESCRIPTION:The least clothed improv team in St. Louis is back and this time\, they’ve brought friends. A (regular\, non-stripping) guest team will open the show with 20-25 minutes of (regular\, non-stripping) improv. Then\, Comic Strip performs (irregular\, stripping) improv while transforming the very clothes they are wearing into props until the whole team is as naked as is permitted by law.
URL:https://theimprovshop.com/show/shirts-and-skins-with-comic-strip-and-friends-3/
LOCATION:St. Louis\, 3960 Chouteau Ave.\, St. Louis\, MO\, 63110\, United States
CATEGORIES:Improvisation
ATTACH;FMTTYPE=image/png:https://theimprovshop.com/cdn-cgi/imagedelivery/nK-Zp4rePU3J22_LxCmgmQ/theimprovshop.com/2024/12/Shirts-1080-x-696-px_20241223_162232_0000.png/w=9999
END:VEVENT
BEGIN:VEVENT
DTSTART;TZID=America/Chicago:20260213T190000
DTEND;TZID=America/Chicago:20260213T203000
DTSTAMP:20260423T141153
CREATED:20260106T184145Z
LAST-MODIFIED:20260212T180349Z
UID:53399-1771009200-1771014600@theimprovshop.com
SUMMARY:Our Romantic Evening
DESCRIPTION:Bring a date\, bring your best friend\, or just bring yourself to “Our Romantic Evening”. Each set begins with a romantic monologue unknown to the performers until the lights come up. Our featured performers transform these sparks of inspiration into moments of comedy and connection. Sip on a Cosmopolitan and settle in for a night of love\, laughter\, and improvisation.
URL:https://theimprovshop.com/show/our-romantic-evening/
LOCATION:St. Louis\, 3960 Chouteau Ave.\, St. Louis\, MO\, 63110\, United States
CATEGORIES:Improvisation
ATTACH;FMTTYPE=image/jpeg:https://theimprovshop.com/cdn-cgi/imagedelivery/nK-Zp4rePU3J22_LxCmgmQ/theimprovshop.com/2025/06/0fdee033-79bb-4dda-96c9-67793d07ceac.jpg/w=9999
END:VEVENT
BEGIN:VEVENT
DTSTART;TZID=America/Chicago:20260213T190000
DTEND;TZID=America/Chicago:20260213T203000
DTSTAMP:20260423T141153
CREATED:20260102T180132Z
LAST-MODIFIED:20260212T180218Z
UID:53102-1771009200-1771014600@theimprovshop.com
SUMMARY:THE ASTERISK*
DESCRIPTION:In this show\, we give the suggestion to YOU. Every show has a theme\, and every audience** has stories to share. With your help\, St. Louis’s best improv comics take a simple idea*** and dig into the juicy details. The result: scenes made up in real time\, powered by your footnotes\, omission\, and disclaimers. Subtext has never been so fun! \n*every Friday at 7pm\n**you\, we hope\n***that night’s theme \nThis week’s theme: Valentines Day/Love
URL:https://theimprovshop.com/show/the-asterisk-13/
LOCATION:St. Louis\, 3960 Chouteau Ave.\, St. Louis\, MO\, 63110\, United States
CATEGORIES:Improvisation
ATTACH;FMTTYPE=image/png:https://theimprovshop.com/cdn-cgi/imagedelivery/nK-Zp4rePU3J22_LxCmgmQ/theimprovshop.com/2025/12/2-1.png/w=9999
END:VEVENT
BEGIN:VEVENT
DTSTART;TZID=America/Chicago:20260212T210000
DTEND;TZID=America/Chicago:20260212T223000
DTSTAMP:20260423T141153
CREATED:20260112T151505Z
LAST-MODIFIED:20260115T143757Z
UID:53581-1770930000-1770935400@theimprovshop.com
SUMMARY:The Merry-Go-Round
DESCRIPTION:Step right up for The Merry-Go-Round\, an improv extravaganza! Four local improv teams go round and round and take you on a ride of unscripted fun. Don’t miss the show where anything can happen—except boredom!  \nThis is a free event!
URL:https://theimprovshop.com/show/the-merry-go-round-8/
LOCATION:St. Louis\, 3960 Chouteau Ave.\, St. Louis\, MO\, 63110\, United States
CATEGORIES:Improvisation
ATTACH;FMTTYPE=image/jpeg:https://theimprovshop.com/cdn-cgi/imagedelivery/nK-Zp4rePU3J22_LxCmgmQ/theimprovshop.com/2024/12/merry-go-round.jpg/w=9999
END:VEVENT
BEGIN:VEVENT
DTSTART;TZID=America/Chicago:20260212T190000
DTEND;TZID=America/Chicago:20260212T203000
DTSTAMP:20260423T141153
CREATED:20260102T175136Z
LAST-MODIFIED:20260212T180047Z
UID:53078-1770922800-1770928200@theimprovshop.com
SUMMARY:The Menagerie
DESCRIPTION:Come one! Come all! and catch three local improv teams as they perform in front of a live audience. Just like a zoo!…except there’s no cages or fish tanks.
URL:https://theimprovshop.com/show/the-menagerie-11/
LOCATION:St. Louis\, 3960 Chouteau Ave.\, St. Louis\, MO\, 63110\, United States
CATEGORIES:Improvisation
ATTACH;FMTTYPE=image/jpeg:https://theimprovshop.com/cdn-cgi/imagedelivery/nK-Zp4rePU3J22_LxCmgmQ/theimprovshop.com/2025/06/826334f4-6984-43cf-a01c-d2136cec877d.jpg/w=9999
END:VEVENT
BEGIN:VEVENT
DTSTART;TZID=America/Chicago:20260212T190000
DTEND;TZID=America/Chicago:20260212T203000
DTSTAMP:20260423T141153
CREATED:20251125T183441Z
LAST-MODIFIED:20260212T175845Z
UID:51960-1770922800-1770928200@theimprovshop.com
SUMMARY:House Team Night & Jam
DESCRIPTION:Three Improv Shop House Teams take the stage! Each week you’ll see different styles and flavors of longform improv\, all in a nice little three set package. Stick around afterwards for The Jam for your opportunity to play along\, or just sit back and watch! \nThis week’s teams:\nCelibate\, 3rd Wheel\, Songbird
URL:https://theimprovshop.com/show/house-team-night-jam-9/
LOCATION:St. Louis\, 3960 Chouteau Ave.\, St. Louis\, MO\, 63110\, United States
CATEGORIES:Improvisation
ATTACH;FMTTYPE=image/jpeg:https://theimprovshop.com/cdn-cgi/imagedelivery/nK-Zp4rePU3J22_LxCmgmQ/theimprovshop.com/2025/11/house-team-night-2026-copy.jpg/w=9999
END:VEVENT
END:VCALENDAR