BEGIN:VCALENDAR
VERSION:2.0
PRODID:-//The Improv Shop - ECPv6.15.16//NONSGML v1.0//EN
CALSCALE:GREGORIAN
METHOD:PUBLISH
X-WR-CALNAME:The Improv Shop
X-ORIGINAL-URL:https://theimprovshop.com
X-WR-CALDESC:Events for The Improv Shop
REFRESH-INTERVAL;VALUE=DURATION:PT1H
X-Robots-Tag:noindex
X-PUBLISHED-TTL:PT1H
BEGIN:VTIMEZONE
TZID:America/Chicago
BEGIN:DAYLIGHT
TZOFFSETFROM:-0600
TZOFFSETTO:-0500
TZNAME:CDT
DTSTART:20250309T080000
END:DAYLIGHT
BEGIN:STANDARD
TZOFFSETFROM:-0500
TZOFFSETTO:-0600
TZNAME:CST
DTSTART:20251102T070000
END:STANDARD
BEGIN:DAYLIGHT
TZOFFSETFROM:-0600
TZOFFSETTO:-0500
TZNAME:CDT
DTSTART:20260308T080000
END:DAYLIGHT
BEGIN:STANDARD
TZOFFSETFROM:-0500
TZOFFSETTO:-0600
TZNAME:CST
DTSTART:20261101T070000
END:STANDARD
BEGIN:DAYLIGHT
TZOFFSETFROM:-0600
TZOFFSETTO:-0500
TZNAME:CDT
DTSTART:20270314T080000
END:DAYLIGHT
BEGIN:STANDARD
TZOFFSETFROM:-0500
TZOFFSETTO:-0600
TZNAME:CST
DTSTART:20271107T070000
END:STANDARD
END:VTIMEZONE
BEGIN:VEVENT
DTSTART;TZID=America/Chicago:20260131T210000
DTEND;TZID=America/Chicago:20260131T223000
DTSTAMP:20260423T175210
CREATED:20260112T145852Z
LAST-MODIFIED:20260122T011039Z
UID:53572-1769893200-1769898600@theimprovshop.com
SUMMARY:Some Strange Sh*t
DESCRIPTION:We all fell in love with a certain streaning hit show the last five seasons. However\, all great adventures come to a climatic end leaving behind a myriad of questions. Join us for this fully improvised Spielbergesqe adventure full of 80’s nostalgia based on your suggestion. \nThis is a free event!
URL:https://theimprovshop.com/show/some-strange-sht/
LOCATION:St. Louis\, 3960 Chouteau Ave.\, St. Louis\, MO\, 63110\, United States
CATEGORIES:Improvisation
ATTACH;FMTTYPE=image/png:https://theimprovshop.com/cdn-cgi/imagedelivery/nK-Zp4rePU3J22_LxCmgmQ/theimprovshop.com/2026/01/179.png/w=9999
END:VEVENT
BEGIN:VEVENT
DTSTART;TZID=America/Chicago:20260131T210000
DTEND;TZID=America/Chicago:20260131T223000
DTSTAMP:20260423T175210
CREATED:20251222T154215Z
LAST-MODIFIED:20260129T203543Z
UID:52679-1769893200-1769898600@theimprovshop.com
SUMMARY:Am I the Asshole?
DESCRIPTION:Am I The Asshole is an improv show inspired by your favorite life advice subreddits. Our cast will pull from “real” Reddit stories (found on forums such as r/AmITheAsshole\, r/Relationships\, etc.) to explore the relationships and baffling internal logic of various chronically online strangers. Join us\, comment\, upvote?
URL:https://theimprovshop.com/show/am-i-the-asshole-3/
LOCATION:St. Louis\, 3960 Chouteau Ave.\, St. Louis\, MO\, 63110\, United States
CATEGORIES:Improvisation
ATTACH;FMTTYPE=image/png:https://theimprovshop.com/cdn-cgi/imagedelivery/nK-Zp4rePU3J22_LxCmgmQ/theimprovshop.com/2024/07/FE72C8A5-3FAD-4F0F-B377-C0911A22D98F.png/w=9999
END:VEVENT
BEGIN:VEVENT
DTSTART;TZID=America/Chicago:20260131T190000
DTEND;TZID=America/Chicago:20260131T203000
DTSTAMP:20260423T175210
CREATED:20251229T153611Z
LAST-MODIFIED:20251229T153611Z
UID:52922-1769886000-1769891400@theimprovshop.com
SUMMARY:The Solo Show SHOW
DESCRIPTION:One performer. No script. Three styles. Infinite chaos. \nAn improvised solo show that both satirizes and celebrates the world of one-person performances. Each night\, the audience helps craft a brand-new show—from heartfelt confessions to absurdist clown pieces—built entirely from their suggestions. It’s part homage\, part parody\, and entirely unpredictable. Great if you love solo shows; Great if you hate em. Ideal if you love to hate them. \nCome for the chaos\, stay for the catharsis. Or vice versa. \nAnděl Sudik is a director\, improviser\, actor and writer based in L.A. and Chicago known for her explosive energy onstage and in the classroom as well as her experiential teaching style. She is a faculty member of the Second City where she teaches sketch writing and improvisation remotely and iO where she teaches summer intensives in Chicago. She is an alum of Boom Chicago in Amsterdam\, the Second City Touring and resident ETC Company and has directed Sketch\, Improvisation and Solo shows at The Public House\, Annoyance\, iO\, Lyric Hyperion\, the Second City and Edinburgh Fringe. Before 2020 she could be found traveling\, teaching and performing all over the states as well as across Europe in festivals and privately. Now she can be found doing… the same\, but sometimes over zoom. Full bio at YesAndel.com
URL:https://theimprovshop.com/show/the-solo-show-show/
LOCATION:St. Louis\, 3960 Chouteau Ave.\, St. Louis\, MO\, 63110\, United States
CATEGORIES:Improvisation
ATTACH;FMTTYPE=image/jpeg:https://theimprovshop.com/cdn-cgi/imagedelivery/nK-Zp4rePU3J22_LxCmgmQ/theimprovshop.com/2025/12/soloagogo-copy.jpg/w=9999
END:VEVENT
BEGIN:VEVENT
DTSTART;TZID=America/Chicago:20260131T190000
DTEND;TZID=America/Chicago:20260131T203000
DTSTAMP:20260423T175210
CREATED:20251222T154524Z
LAST-MODIFIED:20260129T203449Z
UID:52687-1769886000-1769891400@theimprovshop.com
SUMMARY:Happy Hands Social Club
DESCRIPTION:St. Louis’ only all-puppet longform improv team\, Happy Hands Social Club\, invites you to an evening of improvisation. An all-human team that is TBA\, will open!
URL:https://theimprovshop.com/show/happy-hands-social-club/
LOCATION:St. Louis\, 3960 Chouteau Ave.\, St. Louis\, MO\, 63110\, United States
CATEGORIES:Improvisation
ATTACH;FMTTYPE=image/jpeg:https://theimprovshop.com/cdn-cgi/imagedelivery/nK-Zp4rePU3J22_LxCmgmQ/theimprovshop.com/2024/12/5d18fd88-6be4-44a1-acf4-8a9f30c48e1f.jpg/w=9999
END:VEVENT
BEGIN:VEVENT
DTSTART;TZID=America/Chicago:20260130T210000
DTEND;TZID=America/Chicago:20260130T223000
DTSTAMP:20260423T175210
CREATED:20260112T152734Z
LAST-MODIFIED:20260129T203332Z
UID:53607-1769806800-1769812200@theimprovshop.com
SUMMARY:Cagematch
DESCRIPTION:Cagematch\, which was originally created by Kevin Mullaney (former Artistic Director at the UCB Theater)\, returns for the 2026 Regular Season! Cagematch is a friendly\, competitive longform improv show where the audience votes for their favorite team. The winner moves plays again the following week\, always! \nTonight’s challenger:\nI’m Telling Jesus
URL:https://theimprovshop.com/show/cagematch/
LOCATION:St. Louis\, 3960 Chouteau Ave.\, St. Louis\, MO\, 63110\, United States
CATEGORIES:Competition,Improvisation
ATTACH;FMTTYPE=image/jpeg:https://theimprovshop.com/cdn-cgi/imagedelivery/nK-Zp4rePU3J22_LxCmgmQ/theimprovshop.com/2026/01/SIGNAGE-Cagematch-regseason-2026-696x1080-1.jpg/w=9999
END:VEVENT
BEGIN:VEVENT
DTSTART;TZID=America/Chicago:20260130T210000
DTEND;TZID=America/Chicago:20260130T223000
DTSTAMP:20260423T175210
CREATED:20251202T143759Z
LAST-MODIFIED:20260129T203224Z
UID:52124-1769806800-1769812200@theimprovshop.com
SUMMARY:Breast in Show
DESCRIPTION:Pedigree certified\, coats brushed\, glands expressed. Join us for a special evening of longform improv as 80085\, Goon Platoon\, and God’s Little Guys all compete for the coveted title of “Breast in Show.”
URL:https://theimprovshop.com/show/breast-in-show/
LOCATION:St. Louis\, 3960 Chouteau Ave.\, St. Louis\, MO\, 63110\, United States
CATEGORIES:Improvisation
ATTACH;FMTTYPE=image/png:https://theimprovshop.com/cdn-cgi/imagedelivery/nK-Zp4rePU3J22_LxCmgmQ/theimprovshop.com/2025/12/Breast-In-Show.png/w=9999
END:VEVENT
BEGIN:VEVENT
DTSTART;TZID=America/Chicago:20260130T190000
DTEND;TZID=America/Chicago:20260130T203000
DTSTAMP:20260423T175210
CREATED:20251222T153814Z
LAST-MODIFIED:20260129T203147Z
UID:52675-1769799600-1769805000@theimprovshop.com
SUMMARY:THE ASTERISK*
DESCRIPTION:In this show\, we give the suggestion to YOU. Every show has a theme\, and every audience** has stories to share. With your help\, St. Louis’s best improv comics take a simple idea*** and dig into the juicy details. The result: scenes made up in real time\, powered by your footnotes\, omission\, and disclaimers. Subtext has never been so fun! \n*every Friday at 7pm\n**you\, we hope\n***that night’s theme \nThis week’s theme: Dark of Winter
URL:https://theimprovshop.com/show/the-asterisk-11/
LOCATION:St. Louis\, 3960 Chouteau Ave.\, St. Louis\, MO\, 63110\, United States
CATEGORIES:Improvisation
ATTACH;FMTTYPE=image/png:https://theimprovshop.com/cdn-cgi/imagedelivery/nK-Zp4rePU3J22_LxCmgmQ/theimprovshop.com/2025/12/2-1.png/w=9999
END:VEVENT
BEGIN:VEVENT
DTSTART;TZID=America/Chicago:20260130T190000
DTEND;TZID=America/Chicago:20260130T203000
DTSTAMP:20260423T175210
CREATED:20251217T165534Z
LAST-MODIFIED:20260119T200035Z
UID:52521-1769799600-1769805000@theimprovshop.com
SUMMARY:Chaos Gremlins
DESCRIPTION:3 improv teams will run their normal form with one catch… their coach will be onstage with them\, acting as an agent of chaos to the set. Can these teams survive their own coaches?! \n\nFeaturing:\nSouthworst with Jessica Nicole\nQuestionable with Aaron Burke\nBoyfriends with Kendall Bennett
URL:https://theimprovshop.com/show/chaos-gremlins/
LOCATION:St. Louis\, 3960 Chouteau Ave.\, St. Louis\, MO\, 63110\, United States
CATEGORIES:Improvisation
ATTACH;FMTTYPE=image/png:https://theimprovshop.com/cdn-cgi/imagedelivery/nK-Zp4rePU3J22_LxCmgmQ/theimprovshop.com/2025/12/chaos-gremlins_IMPROV-SITE-01.png/w=2560
END:VEVENT
BEGIN:VEVENT
DTSTART;TZID=America/Chicago:20260129T210000
DTEND;TZID=America/Chicago:20260129T223000
DTSTAMP:20260423T175210
CREATED:20251231T165622Z
LAST-MODIFIED:20260115T143736Z
UID:52979-1769720400-1769725800@theimprovshop.com
SUMMARY:The Merry-Go-Round
DESCRIPTION:Step right up for The Merry-Go-Round\, an improv extravaganza! Four local improv teams go round and round and take you on a ride of unscripted fun. Don’t miss the show where anything can happen—except boredom!  \nThis is a free event!
URL:https://theimprovshop.com/show/the-merry-go-round-7/
LOCATION:St. Louis\, 3960 Chouteau Ave.\, St. Louis\, MO\, 63110\, United States
CATEGORIES:Improvisation
ATTACH;FMTTYPE=image/jpeg:https://theimprovshop.com/cdn-cgi/imagedelivery/nK-Zp4rePU3J22_LxCmgmQ/theimprovshop.com/2024/12/merry-go-round.jpg/w=9999
END:VEVENT
BEGIN:VEVENT
DTSTART;TZID=America/Chicago:20260129T190000
DTEND;TZID=America/Chicago:20260129T203000
DTSTAMP:20260423T175210
CREATED:20251208T205710Z
LAST-MODIFIED:20260129T202958Z
UID:52279-1769713200-1769718600@theimprovshop.com
SUMMARY:The Menagerie
DESCRIPTION:Come one! Come all! and catch three local improv teams as they perform in front of a live audience. Just like a zoo!…except there’s no cages or fish tanks.
URL:https://theimprovshop.com/show/the-menagerie-9/
LOCATION:St. Louis\, 3960 Chouteau Ave.\, St. Louis\, MO\, 63110\, United States
CATEGORIES:Improvisation
ATTACH;FMTTYPE=image/jpeg:https://theimprovshop.com/cdn-cgi/imagedelivery/nK-Zp4rePU3J22_LxCmgmQ/theimprovshop.com/2025/06/826334f4-6984-43cf-a01c-d2136cec877d.jpg/w=9999
END:VEVENT
BEGIN:VEVENT
DTSTART;TZID=America/Chicago:20260129T190000
DTEND;TZID=America/Chicago:20260129T203000
DTSTAMP:20260423T175210
CREATED:20251125T183113Z
LAST-MODIFIED:20260129T202855Z
UID:51952-1769713200-1769718600@theimprovshop.com
SUMMARY:House Team Night & Jam
DESCRIPTION:Three Improv Shop House Teams take the stage! Each week you’ll see different styles and flavors of longform improv\, all in a nice little three set package. Stick around afterwards for The Jam for your opportunity to play along\, or just sit back and watch! \nThis week’s teams:\nDICK\, On Hold\, Celibate
URL:https://theimprovshop.com/show/house-team-night-jam-7/
LOCATION:St. Louis\, 3960 Chouteau Ave.\, St. Louis\, MO\, 63110\, United States
CATEGORIES:Improvisation
ATTACH;FMTTYPE=image/jpeg:https://theimprovshop.com/cdn-cgi/imagedelivery/nK-Zp4rePU3J22_LxCmgmQ/theimprovshop.com/2025/11/house-team-night-2026-copy.jpg/w=9999
END:VEVENT
BEGIN:VEVENT
DTSTART;TZID=America/Chicago:20260126T190000
DTEND;TZID=America/Chicago:20260126T203000
DTSTAMP:20260423T175210
CREATED:20251029T164730Z
LAST-MODIFIED:20251029T164730Z
UID:51365-1769454000-1769459400@theimprovshop.com
SUMMARY:Teams Level 1 Student Showcase
DESCRIPTION:Join our Teams Level 1 students every Monday at 7pm on sidestage as they showcase their talents over the 8-weeks of their class. \nThis is a free event!
URL:https://theimprovshop.com/show/teams-level-1-student-showcase-8/
LOCATION:St. Louis\, 3960 Chouteau Ave.\, St. Louis\, MO\, 63110\, United States
CATEGORIES:Improvisation,Student Showcase
ATTACH;FMTTYPE=image/jpeg:https://theimprovshop.com/cdn-cgi/imagedelivery/nK-Zp4rePU3J22_LxCmgmQ/theimprovshop.com/2023/04/SIGNAGE-TL1side-student-showcase-696x1080-1.jpg/w=9999
END:VEVENT
BEGIN:VEVENT
DTSTART;TZID=America/Chicago:20260126T190000
DTEND;TZID=America/Chicago:20260126T203000
DTSTAMP:20260423T175210
CREATED:20251029T163045Z
LAST-MODIFIED:20251029T163045Z
UID:51347-1769454000-1769459400@theimprovshop.com
SUMMARY:Teams Level 2 Student Showcase
DESCRIPTION:Join our Teams Level 2 students as they showcase their talents every Monday at 7pm in mainstage! \nThis is a free event!
URL:https://theimprovshop.com/show/teams-level-2-student-showcase-23/
LOCATION:St. Louis\, 3960 Chouteau Ave.\, St. Louis\, MO\, 63110\, United States
CATEGORIES:Improvisation,Student Showcase
ATTACH;FMTTYPE=image/jpeg:https://theimprovshop.com/cdn-cgi/imagedelivery/nK-Zp4rePU3J22_LxCmgmQ/theimprovshop.com/2025/09/SIGNAGE-TL2student-showcase-696x1080-NO-JAM.jpg/w=9999
END:VEVENT
BEGIN:VEVENT
DTSTART;TZID=America/Chicago:20260123T210000
DTEND;TZID=America/Chicago:20260123T223000
DTSTAMP:20260423T175210
CREATED:20260112T152510Z
LAST-MODIFIED:20260123T202618Z
UID:53602-1769202000-1769207400@theimprovshop.com
SUMMARY:Cagematch
DESCRIPTION:Cagematch\, which was originally created by Kevin Mullaney (former Artistic Director at the UCB Theater)\, returns for the 2026 Regular Season! Cagematch is a friendly\, competitive longform improv show where the audience votes for their favorite team. The winner moves plays again the following week\, always! \nTonight’s challenger:\nJunk Drawer
URL:https://theimprovshop.com/show/cagematch-2026-season-opener-2/
LOCATION:St. Louis\, 3960 Chouteau Ave.\, St. Louis\, MO\, 63110\, United States
CATEGORIES:Competition,Improvisation
ATTACH;FMTTYPE=image/jpeg:https://theimprovshop.com/cdn-cgi/imagedelivery/nK-Zp4rePU3J22_LxCmgmQ/theimprovshop.com/2026/01/SIGNAGE-Cagematch-regseason-2026-696x1080-1.jpg/w=9999
END:VEVENT
BEGIN:VEVENT
DTSTART;TZID=America/Chicago:20260123T210000
DTEND;TZID=America/Chicago:20260123T223000
DTSTAMP:20260423T175210
CREATED:20251217T165133Z
LAST-MODIFIED:20260123T202759Z
UID:52515-1769202000-1769207400@theimprovshop.com
SUMMARY:Missed Connections
DESCRIPTION:Missed Connections is a long-form improv show inspired by the strange\, sweet\, and sometimes unhinged world of Craigslist Missed Connections. \nUsing real posts pulled from the depths of the internet\, the cast dives into the lives\, motivations\, psychology\, and relationships of the people who feel compelled to shout into the abyss in hopes of finding connection.
URL:https://theimprovshop.com/show/missed-connections/
LOCATION:St. Louis\, 3960 Chouteau Ave.\, St. Louis\, MO\, 63110\, United States
CATEGORIES:Improvisation
ATTACH;FMTTYPE=image/jpeg:https://theimprovshop.com/cdn-cgi/imagedelivery/nK-Zp4rePU3J22_LxCmgmQ/theimprovshop.com/2025/12/Missed-Connections-Jack-Jacobsen.jpg/w=9999
END:VEVENT
BEGIN:VEVENT
DTSTART;TZID=America/Chicago:20260123T190000
DTEND;TZID=America/Chicago:20260123T203000
DTSTAMP:20260423T175210
CREATED:20251222T153647Z
LAST-MODIFIED:20260123T202847Z
UID:52671-1769194800-1769200200@theimprovshop.com
SUMMARY:THE ASTERISK*
DESCRIPTION:In this show\, we give the suggestion to YOU. Every show has a theme\, and every audience** has stories to share. With your help\, St. Louis’s best improv comics take a simple idea*** and dig into the juicy details. The result: scenes made up in real time\, powered by your footnotes\, omission\, and disclaimers. Subtext has never been so fun! \n*every Friday at 7pm\n**you\, we hope\n***that night’s theme \nThis week’s theme: Sickness
URL:https://theimprovshop.com/show/the-asterisk-10/
LOCATION:St. Louis\, 3960 Chouteau Ave.\, St. Louis\, MO\, 63110\, United States
CATEGORIES:Improvisation
ATTACH;FMTTYPE=image/png:https://theimprovshop.com/cdn-cgi/imagedelivery/nK-Zp4rePU3J22_LxCmgmQ/theimprovshop.com/2025/12/2-1.png/w=9999
END:VEVENT
BEGIN:VEVENT
DTSTART;TZID=America/Chicago:20260123T190000
DTEND;TZID=America/Chicago:20260123T203000
DTSTAMP:20260423T175210
CREATED:20251217T164845Z
LAST-MODIFIED:20260119T200412Z
UID:52493-1769194800-1769200200@theimprovshop.com
SUMMARY:Magecatch
DESCRIPTION:Magecatch\, which was originally created by Braden Donaldson (took one class at the UCB Theater)\, and is based on Cagematch which was originally created by Kevin Mullaney (former Artistic Director at the UCB Theater)\, is debuting for one night only! Magecatch is a friendly\, competitive longform improv show where the audience votes for their favorite team. 8 teams\, 3 rounds\, one winner!
URL:https://theimprovshop.com/show/stopwatch/
LOCATION:St. Louis\, 3960 Chouteau Ave.\, St. Louis\, MO\, 63110\, United States
CATEGORIES:Improvisation
ATTACH;FMTTYPE=image/jpeg:https://theimprovshop.com/cdn-cgi/imagedelivery/nK-Zp4rePU3J22_LxCmgmQ/theimprovshop.com/2025/12/F5BE3D4F-9563-4191-A214-E8DDEB98BEB8.jpeg/w=9999
END:VEVENT
END:VCALENDAR