BEGIN:VCALENDAR
VERSION:2.0
PRODID:-//The Improv Shop - ECPv6.15.16//NONSGML v1.0//EN
CALSCALE:GREGORIAN
METHOD:PUBLISH
X-WR-CALNAME:The Improv Shop
X-ORIGINAL-URL:https://theimprovshop.com
X-WR-CALDESC:Events for The Improv Shop
REFRESH-INTERVAL;VALUE=DURATION:PT1H
X-Robots-Tag:noindex
X-PUBLISHED-TTL:PT1H
BEGIN:VTIMEZONE
TZID:America/Chicago
BEGIN:DAYLIGHT
TZOFFSETFROM:-0600
TZOFFSETTO:-0500
TZNAME:CDT
DTSTART:20250309T080000
END:DAYLIGHT
BEGIN:STANDARD
TZOFFSETFROM:-0500
TZOFFSETTO:-0600
TZNAME:CST
DTSTART:20251102T070000
END:STANDARD
BEGIN:DAYLIGHT
TZOFFSETFROM:-0600
TZOFFSETTO:-0500
TZNAME:CDT
DTSTART:20260308T080000
END:DAYLIGHT
BEGIN:STANDARD
TZOFFSETFROM:-0500
TZOFFSETTO:-0600
TZNAME:CST
DTSTART:20261101T070000
END:STANDARD
BEGIN:DAYLIGHT
TZOFFSETFROM:-0600
TZOFFSETTO:-0500
TZNAME:CDT
DTSTART:20270314T080000
END:DAYLIGHT
BEGIN:STANDARD
TZOFFSETFROM:-0500
TZOFFSETTO:-0600
TZNAME:CST
DTSTART:20271107T070000
END:STANDARD
END:VTIMEZONE
BEGIN:VEVENT
DTSTART;TZID=America/Chicago:20260306T190000
DTEND;TZID=America/Chicago:20260306T203000
DTSTAMP:20260425T071733
CREATED:20260204T161237Z
LAST-MODIFIED:20260210T153356Z
UID:54242-1772823600-1772829000@theimprovshop.com
SUMMARY:Time is Extremely Ticking
DESCRIPTION:You’ve seen Celibate do improv. They’re bold\, they’re sexy\, they’re drinking Red Bull. But now… Celibate presents “Time is Extremely Ticking”: A 4D Sketch Experience. Every minute counts\, even the ones you aren’t counting. \nEvery pre-purchased ticket comes with a FREE Celibate sticker. If we remember. If you remind us.
URL:https://theimprovshop.com/show/celibate-does-sketch/
LOCATION:St. Louis\, 3960 Chouteau Ave.\, St. Louis\, MO\, 63110\, United States
CATEGORIES:Improvisation,Sketch
ATTACH;FMTTYPE=image/png:https://theimprovshop.com/cdn-cgi/imagedelivery/nK-Zp4rePU3J22_LxCmgmQ/theimprovshop.com/2026/02/shop-website-image.png/w=2560
END:VEVENT
END:VCALENDAR