BEGIN:VCALENDAR
VERSION:2.0
PRODID:-//The Improv Shop - ECPv6.15.16//NONSGML v1.0//EN
CALSCALE:GREGORIAN
METHOD:PUBLISH
X-ORIGINAL-URL:https://theimprovshop.com
X-WR-CALDESC:Events for The Improv Shop
REFRESH-INTERVAL;VALUE=DURATION:PT1H
X-Robots-Tag:noindex
X-PUBLISHED-TTL:PT1H
BEGIN:VTIMEZONE
TZID:America/Chicago
BEGIN:DAYLIGHT
TZOFFSETFROM:-0600
TZOFFSETTO:-0500
TZNAME:CDT
DTSTART:20250309T080000
END:DAYLIGHT
BEGIN:STANDARD
TZOFFSETFROM:-0500
TZOFFSETTO:-0600
TZNAME:CST
DTSTART:20251102T070000
END:STANDARD
BEGIN:DAYLIGHT
TZOFFSETFROM:-0600
TZOFFSETTO:-0500
TZNAME:CDT
DTSTART:20260308T080000
END:DAYLIGHT
BEGIN:STANDARD
TZOFFSETFROM:-0500
TZOFFSETTO:-0600
TZNAME:CST
DTSTART:20261101T070000
END:STANDARD
BEGIN:DAYLIGHT
TZOFFSETFROM:-0600
TZOFFSETTO:-0500
TZNAME:CDT
DTSTART:20270314T080000
END:DAYLIGHT
BEGIN:STANDARD
TZOFFSETFROM:-0500
TZOFFSETTO:-0600
TZNAME:CST
DTSTART:20271107T070000
END:STANDARD
END:VTIMEZONE
BEGIN:VEVENT
DTSTART;TZID=America/Chicago:20260307T190000
DTEND;TZID=America/Chicago:20260307T203000
DTSTAMP:20260423T142757
CREATED:20260204T150740Z
LAST-MODIFIED:20260304T222046Z
UID:54137-1772910000-1772915400@theimprovshop.com
SUMMARY:The One Four Fives present an Improvised Musical!
DESCRIPTION:It’s the opening (and err closing) night of a Broadway-style musical\, completely made up on the spot. Based on an audience suggestion\, The One Four Fives will create a one-of-a-kind musical filled with drama\, comedy\, and songs you’ll be humming all the way home. \nSearching for musicals in St. Louis? A night of comedy in St. Louis? Or a unique St. Louis theater experience? Look no further—this show delivers it all. Every performance is a brand new creation—the songs\, the story\, the music\, and the choreography are all made up on the spot. \nGet your tickets now! Don’t miss your chance to experience the magic of live theater\, comedy\, and music—all in one show. \nAbout: The One Four Fives have been creating improvised musicals in St. Louis for over 6 years. The cast consists of Darrell Barber\, Anna Agniel\, Boo Kersting\, Andy Sloey\, Jenn Korman\, Nathan Maul\, Ryan Myers\, and Ashley Rube. The group was named a finalist in St. Louis Magazine’s A List for Favorite Live Theater Group in 2023 and 2024. \nWhat People are Saying:\n“Comedy and theater fans who enjoy laughs\, improv and a good melody you can tap your toes to should really catch one of the monthly performances of The One Four Fives\, an improvised musical from St. Louis’s Improv Shop.” – Tina Farmer\, Riverfront Times \n“The reason for their longevity is clear …they have mastered the tricks of their trade.” -Gerry Kowarsky\, Two on the Aisle \n“I am in awe of how cohesive this group is. Every member contributes a unique take on whatever the prompt is – and I was doubled over laughing the whole time. You will laugh and relate to these amazing people. I highly recommend.” – Jessi S.\, audience member
URL:https://theimprovshop.com/show/the-one-four-fives-present-an-improvised-musical/
LOCATION:St. Louis\, 3960 Chouteau Ave.\, St. Louis\, MO\, 63110\, United States
CATEGORIES:Musical Improv
ATTACH;FMTTYPE=image/jpeg:https://theimprovshop.com/cdn-cgi/imagedelivery/nK-Zp4rePU3J22_LxCmgmQ/theimprovshop.com/2023/02/One-Four-Fives-Improvised-Musical-2.jpg/w=9999
END:VEVENT
BEGIN:VEVENT
DTSTART;TZID=America/Chicago:20260320T190000
DTEND;TZID=America/Chicago:20260320T203000
DTSTAMP:20260423T142757
CREATED:20260316T141823Z
LAST-MODIFIED:20260318T151743Z
UID:55743-1774033200-1774038600@theimprovshop.com
SUMMARY:Rhyme and Reason
DESCRIPTION:Come see 3 musical improv acts! \n2zin Tarandon\, the current musical improv class team\, and Sound and Color \n\n\n===============================================================\n\nDo you want to be added to the 2zin Tarandon email list to get updates on our upcoming shows and projects? \nClick this link! 
URL:https://theimprovshop.com/show/rhyme-and-reason-2/
LOCATION:St. Louis\, 3960 Chouteau Ave.\, St. Louis\, MO\, 63110\, United States
CATEGORIES:Musical Improv
ATTACH;FMTTYPE=image/png:https://theimprovshop.com/cdn-cgi/imagedelivery/nK-Zp4rePU3J22_LxCmgmQ/theimprovshop.com/2025/02/Ryhme-1.png/w=9999
END:VEVENT
BEGIN:VEVENT
DTSTART;TZID=America/Chicago:20260321T190000
DTEND;TZID=America/Chicago:20260321T203000
DTSTAMP:20260423T142757
CREATED:20260204T150902Z
LAST-MODIFIED:20260318T152015Z
UID:54141-1774119600-1774125000@theimprovshop.com
SUMMARY:The One Four Fives present an Improvised Musical!
DESCRIPTION:It’s the opening (and err closing) night of a Broadway-style musical\, completely made up on the spot. Based on an audience suggestion\, The One Four Fives will create a one-of-a-kind musical filled with drama\, comedy\, and songs you’ll be humming all the way home. \nSearching for musicals in St. Louis? A night of comedy in St. Louis? Or a unique St. Louis theater experience? Look no further—this show delivers it all. Every performance is a brand new creation—the songs\, the story\, the music\, and the choreography are all made up on the spot. \nGet your tickets now! Don’t miss your chance to experience the magic of live theater\, comedy\, and music—all in one show. \nAbout: The One Four Fives have been creating improvised musicals in St. Louis for over 6 years. The cast consists of Darrell Barber\, Anna Agniel\, Boo Kersting\, Andy Sloey\, Jenn Korman\, Nathan Maul\, Ryan Myers\, and Ashley Rube. The group was named a finalist in St. Louis Magazine’s A List for Favorite Live Theater Group in 2023 and 2024. \nWhat People are Saying:\n“Comedy and theater fans who enjoy laughs\, improv and a good melody you can tap your toes to should really catch one of the monthly performances of The One Four Fives\, an improvised musical from St. Louis’s Improv Shop.” – Tina Farmer\, Riverfront Times \n“The reason for their longevity is clear …they have mastered the tricks of their trade.” -Gerry Kowarsky\, Two on the Aisle \n“I am in awe of how cohesive this group is. Every member contributes a unique take on whatever the prompt is – and I was doubled over laughing the whole time. You will laugh and relate to these amazing people. I highly recommend.” – Jessi S.\, audience member
URL:https://theimprovshop.com/show/the-one-four-fives-present-an-improvised-musical-7/
LOCATION:St. Louis\, 3960 Chouteau Ave.\, St. Louis\, MO\, 63110\, United States
CATEGORIES:Musical Improv
ATTACH;FMTTYPE=image/jpeg:https://theimprovshop.com/cdn-cgi/imagedelivery/nK-Zp4rePU3J22_LxCmgmQ/theimprovshop.com/2023/02/One-Four-Fives-Improvised-Musical-2.jpg/w=9999
END:VEVENT
BEGIN:VEVENT
DTSTART;TZID=America/Chicago:20260321T210000
DTEND;TZID=America/Chicago:20260321T223000
DTSTAMP:20260423T142757
CREATED:20260204T152722Z
LAST-MODIFIED:20260318T152327Z
UID:54167-1774126800-1774132200@theimprovshop.com
SUMMARY:Movie the Musical
DESCRIPTION:Come see your favorite movies come to life in musical form. Movie the Musical will improvise a suggested movie as a musical. Stick around after the intermission for the “Special Features”.
URL:https://theimprovshop.com/show/movie-the-musical/
LOCATION:St. Louis\, 3960 Chouteau Ave.\, St. Louis\, MO\, 63110\, United States
CATEGORIES:Musical Improv
ATTACH;FMTTYPE=image/jpeg:https://theimprovshop.com/cdn-cgi/imagedelivery/nK-Zp4rePU3J22_LxCmgmQ/theimprovshop.com/2025/06/00601fbd-30fa-49fe-8408-9797259ad047.jpg/w=9999
END:VEVENT
END:VCALENDAR