BEGIN:VCALENDAR
VERSION:2.0
PRODID:-//The Improv Shop - ECPv6.15.16//NONSGML v1.0//EN
CALSCALE:GREGORIAN
METHOD:PUBLISH
X-ORIGINAL-URL:https://theimprovshop.com
X-WR-CALDESC:Events for The Improv Shop
REFRESH-INTERVAL;VALUE=DURATION:PT1H
X-Robots-Tag:noindex
X-PUBLISHED-TTL:PT1H
BEGIN:VTIMEZONE
TZID:America/Chicago
BEGIN:DAYLIGHT
TZOFFSETFROM:-0600
TZOFFSETTO:-0500
TZNAME:CDT
DTSTART:20250309T080000
END:DAYLIGHT
BEGIN:STANDARD
TZOFFSETFROM:-0500
TZOFFSETTO:-0600
TZNAME:CST
DTSTART:20251102T070000
END:STANDARD
BEGIN:DAYLIGHT
TZOFFSETFROM:-0600
TZOFFSETTO:-0500
TZNAME:CDT
DTSTART:20260308T080000
END:DAYLIGHT
BEGIN:STANDARD
TZOFFSETFROM:-0500
TZOFFSETTO:-0600
TZNAME:CST
DTSTART:20261101T070000
END:STANDARD
BEGIN:DAYLIGHT
TZOFFSETFROM:-0600
TZOFFSETTO:-0500
TZNAME:CDT
DTSTART:20270314T080000
END:DAYLIGHT
BEGIN:STANDARD
TZOFFSETFROM:-0500
TZOFFSETTO:-0600
TZNAME:CST
DTSTART:20271107T070000
END:STANDARD
END:VTIMEZONE
BEGIN:VEVENT
DTSTART;TZID=America/Chicago:20260427T190000
DTEND;TZID=America/Chicago:20260427T203000
DTSTAMP:20260423T094811
CREATED:20260303T151103Z
LAST-MODIFIED:20260303T151103Z
UID:55236-1777316400-1777321800@theimprovshop.com
SUMMARY:Teams Level 2 Student Showcase
DESCRIPTION:Join our Teams Level 2 students as they showcase their talents every Monday at 7pm in mainstage! \nThis is a free event!
URL:https://theimprovshop.com/show/teams-level-2-student-showcase-13/
LOCATION:St. Louis\, 3960 Chouteau Ave.\, St. Louis\, MO\, 63110\, United States
CATEGORIES:Improvisation,Student Showcase
ATTACH;FMTTYPE=image/jpeg:https://theimprovshop.com/cdn-cgi/imagedelivery/nK-Zp4rePU3J22_LxCmgmQ/theimprovshop.com/2025/09/SIGNAGE-TL2student-showcase-696x1080-NO-JAM.jpg/w=9999
END:VEVENT
BEGIN:VEVENT
DTSTART;TZID=America/Chicago:20260427T190000
DTEND;TZID=America/Chicago:20260427T203000
DTSTAMP:20260423T094811
CREATED:20260303T151725Z
LAST-MODIFIED:20260303T151725Z
UID:55252-1777316400-1777321800@theimprovshop.com
SUMMARY:Teams Level 1 Student Showcase
DESCRIPTION:Join our Teams Level 1 students every Monday at 7pm on sidestage as they showcase their talents over the 8-weeks of their class. \nThis is a free event!
URL:https://theimprovshop.com/show/teams-level-1-student-showcase-19/
LOCATION:St. Louis\, 3960 Chouteau Ave.\, St. Louis\, MO\, 63110\, United States
CATEGORIES:Improvisation,Student Showcase
ATTACH;FMTTYPE=image/jpeg:https://theimprovshop.com/cdn-cgi/imagedelivery/nK-Zp4rePU3J22_LxCmgmQ/theimprovshop.com/2023/04/SIGNAGE-TL1side-student-showcase-696x1080-1.jpg/w=9999
END:VEVENT
BEGIN:VEVENT
DTSTART;TZID=America/Chicago:20260430T190000
DTEND;TZID=America/Chicago:20260430T203000
DTSTAMP:20260423T094811
CREATED:20260302T201108Z
LAST-MODIFIED:20260302T201108Z
UID:55151-1777575600-1777581000@theimprovshop.com
SUMMARY:House Team Night & Jam
DESCRIPTION:Three Improv Shop House Teams take the stage! Each week you’ll see different styles and flavors of longform improv\, all in a nice little three set package. Stick around afterwards for The Jam for your opportunity to play along\, or just sit back and watch! \nThis week’s teams:\n2zin Tarandon\, Sophie Tucker\, Songbird
URL:https://theimprovshop.com/show/house-team-night-jam-21/
LOCATION:St. Louis\, 3960 Chouteau Ave.\, St. Louis\, MO\, 63110\, United States
CATEGORIES:Improvisation
ATTACH;FMTTYPE=image/jpeg:https://theimprovshop.com/cdn-cgi/imagedelivery/nK-Zp4rePU3J22_LxCmgmQ/theimprovshop.com/2025/11/house-team-night-2026-copy.jpg/w=9999
END:VEVENT
BEGIN:VEVENT
DTSTART;TZID=America/Chicago:20260430T190000
DTEND;TZID=America/Chicago:20260430T203000
DTSTAMP:20260423T094811
CREATED:20260320T152252Z
LAST-MODIFIED:20260320T152252Z
UID:55850-1777575600-1777581000@theimprovshop.com
SUMMARY:The Menagerie
DESCRIPTION:Come one! Come all! and catch three local improv teams as they perform in front of a live audience. Just like a zoo!…except there’s no cages or fish tanks.
URL:https://theimprovshop.com/show/the-menagerie-18/
LOCATION:St. Louis\, 3960 Chouteau Ave.\, St. Louis\, MO\, 63110\, United States
CATEGORIES:Improvisation
ATTACH;FMTTYPE=image/jpeg:https://theimprovshop.com/cdn-cgi/imagedelivery/nK-Zp4rePU3J22_LxCmgmQ/theimprovshop.com/2025/06/826334f4-6984-43cf-a01c-d2136cec877d.jpg/w=9999
END:VEVENT
BEGIN:VEVENT
DTSTART;TZID=America/Chicago:20260430T210000
DTEND;TZID=America/Chicago:20260430T223000
DTSTAMP:20260423T094811
CREATED:20260320T153113Z
LAST-MODIFIED:20260320T153113Z
UID:55878-1777582800-1777588200@theimprovshop.com
SUMMARY:The Merry-Go-Round
DESCRIPTION:Step right up for The Merry-Go-Round\, an improv extravaganza! Four local improv teams go round and round and take you on a ride of unscripted fun. Don’t miss the show where anything can happen—except boredom!  \nThis is a free event!
URL:https://theimprovshop.com/show/the-merry-go-round-17/
LOCATION:St. Louis\, 3960 Chouteau Ave.\, St. Louis\, MO\, 63110\, United States
CATEGORIES:Improvisation
ATTACH;FMTTYPE=image/jpeg:https://theimprovshop.com/cdn-cgi/imagedelivery/nK-Zp4rePU3J22_LxCmgmQ/theimprovshop.com/2024/12/merry-go-round.jpg/w=9999
END:VEVENT
BEGIN:VEVENT
DTSTART;TZID=America/Chicago:20260501T190000
DTEND;TZID=America/Chicago:20260501T203000
DTSTAMP:20260423T094811
CREATED:20260303T150507Z
LAST-MODIFIED:20260303T150507Z
UID:55212-1777662000-1777667400@theimprovshop.com
SUMMARY:THE ASTERISK*
DESCRIPTION:In this show\, we give the suggestion to YOU. Every show has a theme\, and every audience** has stories to share. With your help\, St. Louis’s best improv comics take a simple idea*** and dig into the juicy details. The result: scenes made up in real time\, powered by your footnotes\, omission\, and disclaimers. Subtext has never been so fun! \n*every Friday at 7pm\n**you\, we hope\n***that night’s theme \nThis week’s theme: Ceremony
URL:https://theimprovshop.com/show/the-asterisk-21/
LOCATION:St. Louis\, 3960 Chouteau Ave.\, St. Louis\, MO\, 63110\, United States
CATEGORIES:Improvisation
ATTACH;FMTTYPE=image/png:https://theimprovshop.com/cdn-cgi/imagedelivery/nK-Zp4rePU3J22_LxCmgmQ/theimprovshop.com/2025/12/2-1.png/w=9999
END:VEVENT
BEGIN:VEVENT
DTSTART;TZID=America/Chicago:20260501T190000
DTEND;TZID=America/Chicago:20260501T203000
DTSTAMP:20260423T094811
CREATED:20260303T160236Z
LAST-MODIFIED:20260422T131335Z
UID:55327-1777662000-1777667400@theimprovshop.com
SUMMARY:Chaos Gremlins
DESCRIPTION:3 improv teams will run their normal form with one catch… their coach will be onstage with them\, acting as an agent of chaos to the set. Can these teams survive their own coaches?! \n\nFeatured teams:\nSpittake with Tracey\nZam Pow! with Melanie\nSome Black People with Alayna
URL:https://theimprovshop.com/show/chaos-gremlins-3/
LOCATION:St. Louis\, 3960 Chouteau Ave.\, St. Louis\, MO\, 63110\, United States
CATEGORIES:Improvisation
ATTACH;FMTTYPE=image/png:https://theimprovshop.com/cdn-cgi/imagedelivery/nK-Zp4rePU3J22_LxCmgmQ/theimprovshop.com/2025/12/chaos-gremlins_IMPROV-SITE-01.png/w=2560
END:VEVENT
BEGIN:VEVENT
DTSTART;TZID=America/Chicago:20260501T210000
DTEND;TZID=America/Chicago:20260501T223000
DTSTAMP:20260423T094811
CREATED:20260303T152551Z
LAST-MODIFIED:20260303T152551Z
UID:55276-1777669200-1777674600@theimprovshop.com
SUMMARY:Cagematch
DESCRIPTION:Cagematch\, which was originally created by Kevin Mullaney (former Artistic Director at the UCB Theater)\, returns for the 2026 Regular Season! Cagematch is a friendly\, competitive longform improv show where the audience votes for their favorite team. The winner moves plays again the following week\, always! \nTonight’s challenger:\nMansplain
URL:https://theimprovshop.com/show/cagematch-14/
LOCATION:St. Louis\, 3960 Chouteau Ave.\, St. Louis\, MO\, 63110\, United States
CATEGORIES:Competition,Improvisation
ATTACH;FMTTYPE=image/jpeg:https://theimprovshop.com/cdn-cgi/imagedelivery/nK-Zp4rePU3J22_LxCmgmQ/theimprovshop.com/2026/01/SIGNAGE-Cagematch-regseason-2026-696x1080-1.jpg/w=9999
END:VEVENT
BEGIN:VEVENT
DTSTART;TZID=America/Chicago:20260501T210000
DTEND;TZID=America/Chicago:20260501T223000
DTSTAMP:20260423T094811
CREATED:20260330T150013Z
LAST-MODIFIED:20260330T150013Z
UID:56115-1777669200-1777674600@theimprovshop.com
SUMMARY:Welcome to Frog Hollow
DESCRIPTION:Town hall is in session. Meet your new neighbors!
URL:https://theimprovshop.com/show/welcome-to-frog-hollow/
LOCATION:St. Louis\, 3960 Chouteau Ave.\, St. Louis\, MO\, 63110\, United States
CATEGORIES:Improvisation
ATTACH;FMTTYPE=image/png:https://theimprovshop.com/cdn-cgi/imagedelivery/nK-Zp4rePU3J22_LxCmgmQ/theimprovshop.com/2026/03/Welcome-to-Frog-Hollow-Jonathan-Brumitt.png/w=9999
END:VEVENT
BEGIN:VEVENT
DTSTART;TZID=America/Chicago:20260502T190000
DTEND;TZID=America/Chicago:20260502T203000
DTSTAMP:20260423T094811
CREATED:20260304T224920Z
LAST-MODIFIED:20260304T224920Z
UID:55362-1777748400-1777753800@theimprovshop.com
SUMMARY:Yaaas And Friends
DESCRIPTION:The first\, last\, and only queer improv team\, Yaaas And\, is performing some queer improv along with their fellow queer (and ally) improv teams! It’s gonna be queer and crazy. Bring your queer-self to watch or else you’re straight.
URL:https://theimprovshop.com/show/yaaas-and-friends-5/
LOCATION:St. Louis\, 3960 Chouteau Ave.\, St. Louis\, MO\, 63110\, United States
CATEGORIES:Improvisation
ATTACH;FMTTYPE=image/png:https://theimprovshop.com/cdn-cgi/imagedelivery/nK-Zp4rePU3J22_LxCmgmQ/theimprovshop.com/2026/03/2BFC747D-57EC-42B6-ADD7-6A1F5D2C60FC-Caleb-Dalton.png/w=9999
END:VEVENT
BEGIN:VEVENT
DTSTART;TZID=America/Chicago:20260502T210000
DTEND;TZID=America/Chicago:20260502T223000
DTSTAMP:20260423T094811
CREATED:20260330T150242Z
LAST-MODIFIED:20260401T141145Z
UID:56119-1777755600-1777761000@theimprovshop.com
SUMMARY:ＤＲＥ▲ Ｍ ＳＣＯＰＥ
DESCRIPTION:ＤＲＥ▲ Ｍ  ＳＣＯＰＥ presents: \n\nSQUIGGLE Will they? Won’t they? Get the tattoo?\n\nEveryone in the audience has a say in the design… and someone gets to keep it.
URL:https://theimprovshop.com/show/%ef%bd%84%ef%bd%92%ef%bd%85%e2%96%b2-%ef%bd%8d-%ef%bd%93%ef%bd%83%ef%bd%8f%ef%bd%90%ef%bd%85/
LOCATION:St. Louis\, 3960 Chouteau Ave.\, St. Louis\, MO\, 63110\, United States
CATEGORIES:Improvisation
ATTACH;FMTTYPE=image/jpeg:https://theimprovshop.com/cdn-cgi/imagedelivery/nK-Zp4rePU3J22_LxCmgmQ/theimprovshop.com/2026/03/SQUIGGLE_web-1.jpg/w=9999
END:VEVENT
BEGIN:VEVENT
DTSTART;TZID=America/Chicago:20260502T210000
DTEND;TZID=America/Chicago:20260502T223000
DTSTAMP:20260423T094811
CREATED:20260330T153842Z
LAST-MODIFIED:20260330T153842Z
UID:56151-1777755600-1777761000@theimprovshop.com
SUMMARY:Harold Houdini
DESCRIPTION:Witness the magic of the Harold! Two teams will escape the constraints of space and time and attempt daring performances of the Harold form.
URL:https://theimprovshop.com/show/harold-houdini-2/
LOCATION:St. Louis\, 3960 Chouteau Ave.\, St. Louis\, MO\, 63110\, United States
CATEGORIES:Improvisation,The Harold
ATTACH;FMTTYPE=image/png:https://theimprovshop.com/cdn-cgi/imagedelivery/nK-Zp4rePU3J22_LxCmgmQ/theimprovshop.com/2026/03/Harold-Houdini-Bailey-Kepford.png/w=9999
END:VEVENT
BEGIN:VEVENT
DTSTART;TZID=America/Chicago:20260504T190000
DTEND;TZID=America/Chicago:20260504T203000
DTSTAMP:20260423T094811
CREATED:20260303T151159Z
LAST-MODIFIED:20260303T151159Z
UID:55238-1777921200-1777926600@theimprovshop.com
SUMMARY:Teams Level 2 Student Showcase
DESCRIPTION:Join our Teams Level 2 students as they showcase their talents every Monday at 7pm in mainstage! \nThis is a free event!
URL:https://theimprovshop.com/show/teams-level-2-student-showcase-14/
LOCATION:St. Louis\, 3960 Chouteau Ave.\, St. Louis\, MO\, 63110\, United States
CATEGORIES:Improvisation,Student Showcase
ATTACH;FMTTYPE=image/jpeg:https://theimprovshop.com/cdn-cgi/imagedelivery/nK-Zp4rePU3J22_LxCmgmQ/theimprovshop.com/2025/09/SIGNAGE-TL2student-showcase-696x1080-NO-JAM.jpg/w=9999
END:VEVENT
BEGIN:VEVENT
DTSTART;TZID=America/Chicago:20260504T190000
DTEND;TZID=America/Chicago:20260504T203000
DTSTAMP:20260423T094811
CREATED:20260303T151744Z
LAST-MODIFIED:20260303T151744Z
UID:55254-1777921200-1777926600@theimprovshop.com
SUMMARY:Teams Level 1 Student Showcase
DESCRIPTION:Join our Teams Level 1 students every Monday at 7pm on sidestage as they showcase their talents over the 8-weeks of their class. \nThis is a free event!
URL:https://theimprovshop.com/show/teams-level-1-student-showcase-20/
LOCATION:St. Louis\, 3960 Chouteau Ave.\, St. Louis\, MO\, 63110\, United States
CATEGORIES:Improvisation,Student Showcase
ATTACH;FMTTYPE=image/jpeg:https://theimprovshop.com/cdn-cgi/imagedelivery/nK-Zp4rePU3J22_LxCmgmQ/theimprovshop.com/2023/04/SIGNAGE-TL1side-student-showcase-696x1080-1.jpg/w=9999
END:VEVENT
BEGIN:VEVENT
DTSTART;TZID=America/Chicago:20260504T190000
DTEND;TZID=America/Chicago:20260504T203000
DTSTAMP:20260423T094811
CREATED:20260330T144534Z
LAST-MODIFIED:20260330T144534Z
UID:56080-1777921200-1777926600@theimprovshop.com
SUMMARY:School Night
DESCRIPTION:It’s a School Night! Come out to watch 3 teams\, back-to-back-to-back\, no intermission\, all for $0! \nTeam lineup: TBD \nThis is a free event!
URL:https://theimprovshop.com/show/school-night-7/
LOCATION:St. Louis\, 3960 Chouteau Ave.\, St. Louis\, MO\, 63110\, United States
CATEGORIES:Improvisation
ATTACH;FMTTYPE=image/jpeg:https://theimprovshop.com/cdn-cgi/imagedelivery/nK-Zp4rePU3J22_LxCmgmQ/theimprovshop.com/2024/11/schoolnight.jpg/w=9999
END:VEVENT
BEGIN:VEVENT
DTSTART;TZID=America/Chicago:20260507T190000
DTEND;TZID=America/Chicago:20260507T203000
DTSTAMP:20260423T094811
CREATED:20260302T201251Z
LAST-MODIFIED:20260302T201251Z
UID:55155-1778180400-1778185800@theimprovshop.com
SUMMARY:House Team Night & Jam
DESCRIPTION:Three Improv Shop House Teams take the stage! Each week you’ll see different styles and flavors of longform improv\, all in a nice little three set package. Stick around afterwards for The Jam for your opportunity to play along\, or just sit back and watch! \nThis week’s teams:\nDICK\, Moist\, Basement Family
URL:https://theimprovshop.com/show/house-team-night-jam-22/
LOCATION:St. Louis\, 3960 Chouteau Ave.\, St. Louis\, MO\, 63110\, United States
CATEGORIES:Improvisation
ATTACH;FMTTYPE=image/jpeg:https://theimprovshop.com/cdn-cgi/imagedelivery/nK-Zp4rePU3J22_LxCmgmQ/theimprovshop.com/2025/11/house-team-night-2026-copy.jpg/w=9999
END:VEVENT
BEGIN:VEVENT
DTSTART;TZID=America/Chicago:20260507T190000
DTEND;TZID=America/Chicago:20260507T203000
DTSTAMP:20260423T094811
CREATED:20260320T152423Z
LAST-MODIFIED:20260320T152423Z
UID:55854-1778180400-1778185800@theimprovshop.com
SUMMARY:The Menagerie
DESCRIPTION:Come one! Come all! and catch three local improv teams as they perform in front of a live audience. Just like a zoo!…except there’s no cages or fish tanks.
URL:https://theimprovshop.com/show/the-menagerie-19/
LOCATION:St. Louis\, 3960 Chouteau Ave.\, St. Louis\, MO\, 63110\, United States
CATEGORIES:Improvisation
ATTACH;FMTTYPE=image/jpeg:https://theimprovshop.com/cdn-cgi/imagedelivery/nK-Zp4rePU3J22_LxCmgmQ/theimprovshop.com/2025/06/826334f4-6984-43cf-a01c-d2136cec877d.jpg/w=9999
END:VEVENT
BEGIN:VEVENT
DTSTART;TZID=America/Chicago:20260507T210000
DTEND;TZID=America/Chicago:20260507T223000
DTSTAMP:20260423T094811
CREATED:20260320T153138Z
LAST-MODIFIED:20260320T153138Z
UID:55880-1778187600-1778193000@theimprovshop.com
SUMMARY:The Merry-Go-Round
DESCRIPTION:Step right up for The Merry-Go-Round\, an improv extravaganza! Four local improv teams go round and round and take you on a ride of unscripted fun. Don’t miss the show where anything can happen—except boredom!  \nThis is a free event!
URL:https://theimprovshop.com/show/the-merry-go-round-18/
LOCATION:St. Louis\, 3960 Chouteau Ave.\, St. Louis\, MO\, 63110\, United States
CATEGORIES:Improvisation
ATTACH;FMTTYPE=image/jpeg:https://theimprovshop.com/cdn-cgi/imagedelivery/nK-Zp4rePU3J22_LxCmgmQ/theimprovshop.com/2024/12/merry-go-round.jpg/w=9999
END:VEVENT
BEGIN:VEVENT
DTSTART;TZID=America/Chicago:20260508T190000
DTEND;TZID=America/Chicago:20260508T203000
DTSTAMP:20260423T094811
CREATED:20260303T150615Z
LAST-MODIFIED:20260303T150615Z
UID:55216-1778266800-1778272200@theimprovshop.com
SUMMARY:THE ASTERISK*
DESCRIPTION:In this show\, we give the suggestion to YOU. Every show has a theme\, and every audience** has stories to share. With your help\, St. Louis’s best improv comics take a simple idea*** and dig into the juicy details. The result: scenes made up in real time\, powered by your footnotes\, omission\, and disclaimers. Subtext has never been so fun! \n*every Friday at 7pm\n**you\, we hope\n***that night’s theme \nThis week’s theme: Mother Figures
URL:https://theimprovshop.com/show/the-asterisk-22/
LOCATION:St. Louis\, 3960 Chouteau Ave.\, St. Louis\, MO\, 63110\, United States
CATEGORIES:Improvisation
ATTACH;FMTTYPE=image/png:https://theimprovshop.com/cdn-cgi/imagedelivery/nK-Zp4rePU3J22_LxCmgmQ/theimprovshop.com/2025/12/2-1.png/w=9999
END:VEVENT
BEGIN:VEVENT
DTSTART;TZID=America/Chicago:20260508T190000
DTEND;TZID=America/Chicago:20260508T203000
DTSTAMP:20260423T094811
CREATED:20260330T151234Z
LAST-MODIFIED:20260330T151234Z
UID:56122-1778266800-1778272200@theimprovshop.com
SUMMARY:Big Team Bash
DESCRIPTION:An irresponsible number of improvisers enter the stage.\nNo script survives.\nThis is Big Team Bash.
URL:https://theimprovshop.com/show/big-team-bash/
LOCATION:St. Louis\, 3960 Chouteau Ave.\, St. Louis\, MO\, 63110\, United States
CATEGORIES:Improvisation
ATTACH;FMTTYPE=image/png:https://theimprovshop.com/cdn-cgi/imagedelivery/nK-Zp4rePU3J22_LxCmgmQ/theimprovshop.com/2026/03/IMG_6540-kevin-puetz.png/w=9999
END:VEVENT
BEGIN:VEVENT
DTSTART;TZID=America/Chicago:20260508T210000
DTEND;TZID=America/Chicago:20260508T223000
DTSTAMP:20260423T094811
CREATED:20260303T152658Z
LAST-MODIFIED:20260303T152658Z
UID:55280-1778274000-1778279400@theimprovshop.com
SUMMARY:Cagematch
DESCRIPTION:Cagematch\, which was originally created by Kevin Mullaney (former Artistic Director at the UCB Theater)\, returns for the 2026 Regular Season! Cagematch is a friendly\, competitive longform improv show where the audience votes for their favorite team. The winner moves plays again the following week\, always! \nTonight’s challenger:\nCobbler
URL:https://theimprovshop.com/show/cagematch-15/
LOCATION:St. Louis\, 3960 Chouteau Ave.\, St. Louis\, MO\, 63110\, United States
CATEGORIES:Competition,Improvisation
ATTACH;FMTTYPE=image/jpeg:https://theimprovshop.com/cdn-cgi/imagedelivery/nK-Zp4rePU3J22_LxCmgmQ/theimprovshop.com/2026/01/SIGNAGE-Cagematch-regseason-2026-696x1080-1.jpg/w=9999
END:VEVENT
BEGIN:VEVENT
DTSTART;TZID=America/Chicago:20260508T210000
DTEND;TZID=America/Chicago:20260508T223000
DTSTAMP:20260423T094811
CREATED:20260330T151439Z
LAST-MODIFIED:20260330T151439Z
UID:56128-1778274000-1778279400@theimprovshop.com
SUMMARY:TV Dinner: Sitcom Night with Basement Family
DESCRIPTION:Join Basement Family as they create a narrative 90’s-style sitcom episode in real time based on your suggestion. Will it be warped as hell because it’s Basement Family? I think we all know the answer to that.
URL:https://theimprovshop.com/show/tv-dinner-sitcom-night-with-basement-family/
LOCATION:St. Louis\, 3960 Chouteau Ave.\, St. Louis\, MO\, 63110\, United States
CATEGORIES:Improvisation
ATTACH;FMTTYPE=image/png:https://theimprovshop.com/cdn-cgi/imagedelivery/nK-Zp4rePU3J22_LxCmgmQ/theimprovshop.com/2026/03/Group-38-Basement-Family-copy.png/w=9999
END:VEVENT
BEGIN:VEVENT
DTSTART;TZID=America/Chicago:20260509T190000
DTEND;TZID=America/Chicago:20260509T203000
DTSTAMP:20260423T094811
CREATED:20260330T151852Z
LAST-MODIFIED:20260330T151852Z
UID:56131-1778353200-1778358600@theimprovshop.com
SUMMARY:We Are 40
DESCRIPTION:Alex turns 40 on May 4th. Janelle turns 40 two months before. Together they are Dammit\, Oscar! Join us for a retrospective of the early 21st century and improvisation.
URL:https://theimprovshop.com/show/we-are-40/
LOCATION:St. Louis\, 3960 Chouteau Ave.\, St. Louis\, MO\, 63110\, United States
CATEGORIES:Improvisation,Stand-Up
ATTACH;FMTTYPE=image/png:https://theimprovshop.com/cdn-cgi/imagedelivery/nK-Zp4rePU3J22_LxCmgmQ/theimprovshop.com/2026/03/We-are-40.-Janelle-Esposito-copy.png/w=9999
END:VEVENT
BEGIN:VEVENT
DTSTART;TZID=America/Chicago:20260509T190000
DTEND;TZID=America/Chicago:20260509T203000
DTSTAMP:20260423T094811
CREATED:20260420T143420Z
LAST-MODIFIED:20260420T143420Z
UID:56771-1778353200-1778358600@theimprovshop.com
SUMMARY:Shoes Off: An All Asian Improv Show
DESCRIPTION:Shoes off\, welcoming you into our home of improv. Celebrate AAPI Heritage month with an ALL ASIAN Pacific Islander improvized show. Come and suport your local Asian and Pacific Islander artists!
URL:https://theimprovshop.com/show/shoes-off-an-all-asian-improv-show/
LOCATION:St. Louis\, 3960 Chouteau Ave.\, St. Louis\, MO\, 63110\, United States
CATEGORIES:Improvisation
ATTACH;FMTTYPE=image/png:https://theimprovshop.com/cdn-cgi/imagedelivery/nK-Zp4rePU3J22_LxCmgmQ/theimprovshop.com/2026/04/shoes_off_marker_felt_font.png/w=9999
END:VEVENT
BEGIN:VEVENT
DTSTART;TZID=America/Chicago:20260509T210000
DTEND;TZID=America/Chicago:20260509T223000
DTSTAMP:20260423T094811
CREATED:20260303T154650Z
LAST-MODIFIED:20260303T154650Z
UID:55307-1778360400-1778365800@theimprovshop.com
SUMMARY:80085 4 U
DESCRIPTION:To everyone who puts in a hard day’s work\, this show is for you. To everyone who relishes in the bizarre\, this show is for you. \nNo intermission (probably)\, no nudes (yet)\, lots of confessions (maybe even from you)\, one team (unless there are more). Come on out and get something off your chest. We’ll get something off ours\, too. \nWhether you’ve got em\, want em\, or haven’t thought about em\, this 80085 for you.
URL:https://theimprovshop.com/show/80085-4-u-6/
LOCATION:St. Louis\, 3960 Chouteau Ave.\, St. Louis\, MO\, 63110\, United States
CATEGORIES:Improvisation
ATTACH;FMTTYPE=image/jpeg:https://theimprovshop.com/cdn-cgi/imagedelivery/nK-Zp4rePU3J22_LxCmgmQ/theimprovshop.com/2025/07/IMG_3083.jpeg/w=9999
END:VEVENT
BEGIN:VEVENT
DTSTART;TZID=America/Chicago:20260509T210000
DTEND;TZID=America/Chicago:20260509T223000
DTSTAMP:20260423T094811
CREATED:20260330T152128Z
LAST-MODIFIED:20260330T152128Z
UID:56134-1778360400-1778365800@theimprovshop.com
SUMMARY:Grandma’s Den Hang with Mansplain
DESCRIPTION:Just some femmes and a them channeling their dude bro alter egos hanging with their pals and doing some sweet long form improv.
URL:https://theimprovshop.com/show/grandmas-den-hang-with-mansplain-2/
LOCATION:St. Louis\, 3960 Chouteau Ave.\, St. Louis\, MO\, 63110\, United States
CATEGORIES:Improvisation
ATTACH;FMTTYPE=image/jpeg:https://theimprovshop.com/cdn-cgi/imagedelivery/nK-Zp4rePU3J22_LxCmgmQ/theimprovshop.com/2026/03/IMG_2716-Megs-Davis-1.jpeg/w=9999
END:VEVENT
BEGIN:VEVENT
DTSTART;TZID=America/Chicago:20260511T190000
DTEND;TZID=America/Chicago:20260511T203000
DTSTAMP:20260423T094811
CREATED:20260303T151226Z
LAST-MODIFIED:20260303T151226Z
UID:55240-1778526000-1778531400@theimprovshop.com
SUMMARY:Teams Level 2 Student Showcase
DESCRIPTION:Join our Teams Level 2 students as they showcase their talents every Monday at 7pm in mainstage! \nThis is a free event!
URL:https://theimprovshop.com/show/teams-level-2-student-showcase-15/
LOCATION:St. Louis\, 3960 Chouteau Ave.\, St. Louis\, MO\, 63110\, United States
CATEGORIES:Improvisation,Student Showcase
ATTACH;FMTTYPE=image/jpeg:https://theimprovshop.com/cdn-cgi/imagedelivery/nK-Zp4rePU3J22_LxCmgmQ/theimprovshop.com/2025/09/SIGNAGE-TL2student-showcase-696x1080-NO-JAM.jpg/w=9999
END:VEVENT
BEGIN:VEVENT
DTSTART;TZID=America/Chicago:20260511T190000
DTEND;TZID=America/Chicago:20260511T203000
DTSTAMP:20260423T094811
CREATED:20260303T151808Z
LAST-MODIFIED:20260303T151808Z
UID:55256-1778526000-1778531400@theimprovshop.com
SUMMARY:Teams Level 1 Student Showcase
DESCRIPTION:Join our Teams Level 1 students every Monday at 7pm on sidestage as they showcase their talents over the 8-weeks of their class. \nThis is a free event!
URL:https://theimprovshop.com/show/teams-level-1-student-showcase-21/
LOCATION:St. Louis\, 3960 Chouteau Ave.\, St. Louis\, MO\, 63110\, United States
CATEGORIES:Improvisation,Student Showcase
ATTACH;FMTTYPE=image/jpeg:https://theimprovshop.com/cdn-cgi/imagedelivery/nK-Zp4rePU3J22_LxCmgmQ/theimprovshop.com/2023/04/SIGNAGE-TL1side-student-showcase-696x1080-1.jpg/w=9999
END:VEVENT
BEGIN:VEVENT
DTSTART;TZID=America/Chicago:20260511T210000
DTEND;TZID=America/Chicago:20260511T223000
DTSTAMP:20260423T094811
CREATED:20260325T141725Z
LAST-MODIFIED:20260325T141725Z
UID:56006-1778533200-1778538600@theimprovshop.com
SUMMARY:The Gift
DESCRIPTION:What’s in the box?! Three improv teams take turns gifting each other unusual physical objects. Whatever they receive\, no matter how weird\, must inspire their entire performance. Come see what strange ideas they unwrap! \nThis is a free event!
URL:https://theimprovshop.com/show/the-gift-6/
LOCATION:St. Louis\, 3960 Chouteau Ave.\, St. Louis\, MO\, 63110\, United States
CATEGORIES:Improvisation
ATTACH;FMTTYPE=image/png:https://theimprovshop.com/cdn-cgi/imagedelivery/nK-Zp4rePU3J22_LxCmgmQ/theimprovshop.com/2025/12/the-gift_web-graphic.png/w=9999
END:VEVENT
BEGIN:VEVENT
DTSTART;TZID=America/Chicago:20260514T190000
DTEND;TZID=America/Chicago:20260514T203000
DTSTAMP:20260423T094811
CREATED:20260302T201431Z
LAST-MODIFIED:20260302T201431Z
UID:55159-1778785200-1778790600@theimprovshop.com
SUMMARY:House Team Night & Jam
DESCRIPTION:Three Improv Shop House Teams take the stage! Each week you’ll see different styles and flavors of longform improv\, all in a nice little three set package. Stick around afterwards for The Jam for your opportunity to play along\, or just sit back and watch! \nThis week’s teams:\nThird Wheel\, MaMa Dearest\, BRAINWORMS!
URL:https://theimprovshop.com/show/house-team-night-jam-23/
LOCATION:St. Louis\, 3960 Chouteau Ave.\, St. Louis\, MO\, 63110\, United States
CATEGORIES:Improvisation
ATTACH;FMTTYPE=image/jpeg:https://theimprovshop.com/cdn-cgi/imagedelivery/nK-Zp4rePU3J22_LxCmgmQ/theimprovshop.com/2025/11/house-team-night-2026-copy.jpg/w=9999
END:VEVENT
END:VCALENDAR