BEGIN:VCALENDAR
VERSION:2.0
PRODID:-//The Improv Shop - ECPv6.15.16//NONSGML v1.0//EN
CALSCALE:GREGORIAN
METHOD:PUBLISH
X-WR-CALNAME:The Improv Shop
X-ORIGINAL-URL:https://theimprovshop.com
X-WR-CALDESC:Events for The Improv Shop
REFRESH-INTERVAL;VALUE=DURATION:PT1H
X-Robots-Tag:noindex
X-PUBLISHED-TTL:PT1H
BEGIN:VTIMEZONE
TZID:America/Chicago
BEGIN:DAYLIGHT
TZOFFSETFROM:-0600
TZOFFSETTO:-0500
TZNAME:CDT
DTSTART:20250309T080000
END:DAYLIGHT
BEGIN:STANDARD
TZOFFSETFROM:-0500
TZOFFSETTO:-0600
TZNAME:CST
DTSTART:20251102T070000
END:STANDARD
BEGIN:DAYLIGHT
TZOFFSETFROM:-0600
TZOFFSETTO:-0500
TZNAME:CDT
DTSTART:20260308T080000
END:DAYLIGHT
BEGIN:STANDARD
TZOFFSETFROM:-0500
TZOFFSETTO:-0600
TZNAME:CST
DTSTART:20261101T070000
END:STANDARD
BEGIN:DAYLIGHT
TZOFFSETFROM:-0600
TZOFFSETTO:-0500
TZNAME:CDT
DTSTART:20270314T080000
END:DAYLIGHT
BEGIN:STANDARD
TZOFFSETFROM:-0500
TZOFFSETTO:-0600
TZNAME:CST
DTSTART:20271107T070000
END:STANDARD
END:VTIMEZONE
BEGIN:VEVENT
DTSTART;TZID=America/Chicago:20260601T190000
DTEND;TZID=America/Chicago:20260601T203000
DTSTAMP:20260423T173259
CREATED:20260330T144639Z
LAST-MODIFIED:20260330T144639Z
UID:56084-1780340400-1780345800@theimprovshop.com
SUMMARY:School Night
DESCRIPTION:It’s a School Night! Come out to watch 3 teams\, back-to-back-to-back\, no intermission\, all for $0! \nTeam lineup: TBD \nThis is a free event!
URL:https://theimprovshop.com/show/school-night-10/
LOCATION:St. Louis\, 3960 Chouteau Ave.\, St. Louis\, MO\, 63110\, United States
CATEGORIES:Improvisation
ATTACH;FMTTYPE=image/jpeg:https://theimprovshop.com/cdn-cgi/imagedelivery/nK-Zp4rePU3J22_LxCmgmQ/theimprovshop.com/2024/11/schoolnight.jpg/w=9999
END:VEVENT
BEGIN:VEVENT
DTSTART;TZID=America/Chicago:20260604T190000
DTEND;TZID=America/Chicago:20260604T203000
DTSTAMP:20260423T173259
CREATED:20260401T151520Z
LAST-MODIFIED:20260401T151520Z
UID:56187-1780599600-1780605000@theimprovshop.com
SUMMARY:The Menagerie
DESCRIPTION:Come one! Come all! and catch three local improv teams as they perform in front of a live audience. Just like a zoo!…except there’s no cages or fish tanks.
URL:https://theimprovshop.com/show/the-menagerie-23/
LOCATION:St. Louis\, 3960 Chouteau Ave.\, St. Louis\, MO\, 63110\, United States
CATEGORIES:Improvisation
ATTACH;FMTTYPE=image/jpeg:https://theimprovshop.com/cdn-cgi/imagedelivery/nK-Zp4rePU3J22_LxCmgmQ/theimprovshop.com/2025/06/826334f4-6984-43cf-a01c-d2136cec877d.jpg/w=9999
END:VEVENT
BEGIN:VEVENT
DTSTART;TZID=America/Chicago:20260604T210000
DTEND;TZID=America/Chicago:20260604T223000
DTSTAMP:20260423T173259
CREATED:20260415T154349Z
LAST-MODIFIED:20260415T154349Z
UID:56610-1780606800-1780612200@theimprovshop.com
SUMMARY:The Merry-Go-Round
DESCRIPTION:Step right up for The Merry-Go-Round\, an improv extravaganza! Four local improv teams go round and round and take you on a ride of unscripted fun. Don’t miss the show where anything can happen—except boredom!  \nThis is a free event!
URL:https://theimprovshop.com/show/the-merry-go-round/
LOCATION:St. Louis\, 3960 Chouteau Ave.\, St. Louis\, MO\, 63110\, United States
CATEGORIES:Improvisation
ATTACH;FMTTYPE=image/jpeg:https://theimprovshop.com/cdn-cgi/imagedelivery/nK-Zp4rePU3J22_LxCmgmQ/theimprovshop.com/2024/12/merry-go-round.jpg/w=9999
END:VEVENT
BEGIN:VEVENT
DTSTART;TZID=America/Chicago:20260605T190000
DTEND;TZID=America/Chicago:20260605T203000
DTSTAMP:20260423T173259
CREATED:20260415T151016Z
LAST-MODIFIED:20260415T151016Z
UID:56590-1780686000-1780691400@theimprovshop.com
SUMMARY:Thank You For Being A Friend
DESCRIPTION:Join Old Friends and small\, closeknit teams for a night of celebrating connection at the Improv Shop! Bring your pals for a chance to be interviewed on stage and for *your* relationships to inspire the show!
URL:https://theimprovshop.com/show/thank-you-for-being-a-friend/
LOCATION:St. Louis\, 3960 Chouteau Ave.\, St. Louis\, MO\, 63110\, United States
CATEGORIES:Improvisation
ATTACH;FMTTYPE=image/png:https://theimprovshop.com/cdn-cgi/imagedelivery/nK-Zp4rePU3J22_LxCmgmQ/theimprovshop.com/2026/04/Frame-32-Jilly-dos-Santos-Jilly-dos-Santos.png/w=9999
END:VEVENT
BEGIN:VEVENT
DTSTART;TZID=America/Chicago:20260605T210000
DTEND;TZID=America/Chicago:20260605T223000
DTSTAMP:20260423T173259
CREATED:20260401T145530Z
LAST-MODIFIED:20260401T145530Z
UID:56171-1780693200-1780698600@theimprovshop.com
SUMMARY:Cagematch
DESCRIPTION:Cagematch\, which was originally created by Kevin Mullaney (former Artistic Director at the UCB Theater)\, returns for the 2026 Regular Season! Cagematch is a friendly\, competitive longform improv show where the audience votes for their favorite team. The winner moves plays again the following week\, always! \nTonight’s challenger:\nUhhhh
URL:https://theimprovshop.com/show/cagematch-19/
LOCATION:St. Louis\, 3960 Chouteau Ave.\, St. Louis\, MO\, 63110\, United States
CATEGORIES:Competition,Improvisation
ATTACH;FMTTYPE=image/jpeg:https://theimprovshop.com/cdn-cgi/imagedelivery/nK-Zp4rePU3J22_LxCmgmQ/theimprovshop.com/2026/01/SIGNAGE-Cagematch-regseason-2026-696x1080-1.jpg/w=9999
END:VEVENT
BEGIN:VEVENT
DTSTART;TZID=America/Chicago:20260606T190000
DTEND;TZID=America/Chicago:20260606T203000
DTSTAMP:20260423T173259
CREATED:20260415T151222Z
LAST-MODIFIED:20260415T151222Z
UID:56594-1780772400-1780777800@theimprovshop.com
SUMMARY:Small Uncle Solves Your Problem
DESCRIPTION:Have a problem? Are you struggling to find a solution? Perhaps we can help. Join improv duo Small Uncle as they solve life’s problems one improv scene at a time.
URL:https://theimprovshop.com/show/small-uncle-solves-your-problem/
LOCATION:St. Louis\, 3960 Chouteau Ave.\, St. Louis\, MO\, 63110\, United States
CATEGORIES:Improvisation
ATTACH;FMTTYPE=image/jpeg:https://theimprovshop.com/cdn-cgi/imagedelivery/nK-Zp4rePU3J22_LxCmgmQ/theimprovshop.com/2026/04/smuncle-IS-Phoebe-Richards.jpg/w=2560
END:VEVENT
BEGIN:VEVENT
DTSTART;TZID=America/Chicago:20260606T210000
DTEND;TZID=America/Chicago:20260606T223000
DTSTAMP:20260423T173259
CREATED:20260415T151639Z
LAST-MODIFIED:20260415T151639Z
UID:56598-1780779600-1780785000@theimprovshop.com
SUMMARY:Shark Tank
DESCRIPTION:Welcome to the tank! We’ve assembled a panel of Sharks\, willing and ready to invest their time\, money\, and creative talents to young improv entrepreneurs (improveneurs?). Come out and hear about the shows\, sketches\, and projects that these enterprising improvisers need your help to mount!
URL:https://theimprovshop.com/show/shark-tank/
LOCATION:St. Louis\, 3960 Chouteau Ave.\, St. Louis\, MO\, 63110\, United States
CATEGORIES:Improvisation
ATTACH;FMTTYPE=image/webp:https://theimprovshop.com/cdn-cgi/imagedelivery/nK-Zp4rePU3J22_LxCmgmQ/theimprovshop.com/2026/04/IMG_9496-Leslie-Symonds.webp/w=9999
END:VEVENT
BEGIN:VEVENT
DTSTART;TZID=America/Chicago:20260608T210000
DTEND;TZID=America/Chicago:20260608T223000
DTSTAMP:20260423T173259
CREATED:20260325T141750Z
LAST-MODIFIED:20260325T141750Z
UID:56008-1780952400-1780957800@theimprovshop.com
SUMMARY:The Gift
DESCRIPTION:What’s in the box?! Three improv teams take turns gifting each other unusual physical objects. Whatever they receive\, no matter how weird\, must inspire their entire performance. Come see what strange ideas they unwrap! \nThis is a free event!
URL:https://theimprovshop.com/show/the-gift-7/
LOCATION:St. Louis\, 3960 Chouteau Ave.\, St. Louis\, MO\, 63110\, United States
CATEGORIES:Improvisation
ATTACH;FMTTYPE=image/png:https://theimprovshop.com/cdn-cgi/imagedelivery/nK-Zp4rePU3J22_LxCmgmQ/theimprovshop.com/2025/12/the-gift_web-graphic.png/w=9999
END:VEVENT
BEGIN:VEVENT
DTSTART;TZID=America/Chicago:20260611T190000
DTEND;TZID=America/Chicago:20260611T203000
DTSTAMP:20260423T173259
CREATED:20260401T151633Z
LAST-MODIFIED:20260401T151633Z
UID:56191-1781204400-1781209800@theimprovshop.com
SUMMARY:The Menagerie
DESCRIPTION:Come one! Come all! and catch three local improv teams as they perform in front of a live audience. Just like a zoo!…except there’s no cages or fish tanks.
URL:https://theimprovshop.com/show/the-menagerie-24/
LOCATION:St. Louis\, 3960 Chouteau Ave.\, St. Louis\, MO\, 63110\, United States
CATEGORIES:Improvisation
ATTACH;FMTTYPE=image/jpeg:https://theimprovshop.com/cdn-cgi/imagedelivery/nK-Zp4rePU3J22_LxCmgmQ/theimprovshop.com/2025/06/826334f4-6984-43cf-a01c-d2136cec877d.jpg/w=9999
END:VEVENT
BEGIN:VEVENT
DTSTART;TZID=America/Chicago:20260611T210000
DTEND;TZID=America/Chicago:20260611T223000
DTSTAMP:20260423T173259
CREATED:20260415T154437Z
LAST-MODIFIED:20260415T154437Z
UID:56612-1781211600-1781217000@theimprovshop.com
SUMMARY:The Merry-Go-Round
DESCRIPTION:Step right up for The Merry-Go-Round\, an improv extravaganza! Four local improv teams go round and round and take you on a ride of unscripted fun. Don’t miss the show where anything can happen—except boredom!  \nThis is a free event!
URL:https://theimprovshop.com/show/the-merry-go-round-22/
LOCATION:St. Louis\, 3960 Chouteau Ave.\, St. Louis\, MO\, 63110\, United States
CATEGORIES:Improvisation
ATTACH;FMTTYPE=image/jpeg:https://theimprovshop.com/cdn-cgi/imagedelivery/nK-Zp4rePU3J22_LxCmgmQ/theimprovshop.com/2024/12/merry-go-round.jpg/w=9999
END:VEVENT
BEGIN:VEVENT
DTSTART;TZID=America/Chicago:20260612T190000
DTEND;TZID=America/Chicago:20260612T203000
DTSTAMP:20260423T173259
CREATED:20260401T153326Z
LAST-MODIFIED:20260401T153326Z
UID:56223-1781290800-1781296200@theimprovshop.com
SUMMARY:Spit-Take Presents: Finding Florida Man
DESCRIPTION:Join us as Spit-Take uncovers the wildest and most outrageous Florida Man stories. You’ll laugh along with water cooler talk\, wacky characters\, energetic improv\, all set against the backdrop of Florida’s quirkiest headlines.
URL:https://theimprovshop.com/show/spit-take-presents-finding-florida-man-4/
LOCATION:St. Louis\, 3960 Chouteau Ave.\, St. Louis\, MO\, 63110\, United States
CATEGORIES:Improvisation
ATTACH;FMTTYPE=image/png:https://theimprovshop.com/cdn-cgi/imagedelivery/nK-Zp4rePU3J22_LxCmgmQ/theimprovshop.com/2024/08/Copy-of-Retro-Classic-Palm-Beach-Florida-T-Shirt-Real-Estate-Flyer.png/w=9999
END:VEVENT
BEGIN:VEVENT
DTSTART;TZID=America/Chicago:20260612T210000
DTEND;TZID=America/Chicago:20260612T223000
DTSTAMP:20260423T173259
CREATED:20260401T145710Z
LAST-MODIFIED:20260401T145710Z
UID:56175-1781298000-1781303400@theimprovshop.com
SUMMARY:Cagematch
DESCRIPTION:Cagematch\, which was originally created by Kevin Mullaney (former Artistic Director at the UCB Theater)\, returns for the 2026 Regular Season! Cagematch is a friendly\, competitive longform improv show where the audience votes for their favorite team. The winner moves plays again the following week\, always! \nTonight’s challenger:\nDeleted Scenes
URL:https://theimprovshop.com/show/cagematch-20/
LOCATION:St. Louis\, 3960 Chouteau Ave.\, St. Louis\, MO\, 63110\, United States
CATEGORIES:Competition,Improvisation
ATTACH;FMTTYPE=image/jpeg:https://theimprovshop.com/cdn-cgi/imagedelivery/nK-Zp4rePU3J22_LxCmgmQ/theimprovshop.com/2026/01/SIGNAGE-Cagematch-regseason-2026-696x1080-1.jpg/w=9999
END:VEVENT
BEGIN:VEVENT
DTSTART;TZID=America/Chicago:20260612T210000
DTEND;TZID=America/Chicago:20260612T223000
DTSTAMP:20260423T173259
CREATED:20260415T154117Z
LAST-MODIFIED:20260415T154117Z
UID:56606-1781298000-1781303400@theimprovshop.com
SUMMARY:Sound and Color
DESCRIPTION:When the lights are on\, the improvisers create scenes with movement\, in silence. When the lights go off\, they sing their hearts out! \nThe show will feature active\, silent-movie-style physical storytelling that will keep you on the edge of your seat\, interspersed with lush soundscapes of live music\, improvised singing\, sound effects\, and freestyle rapping in the dark! \nLend your eyes and ears to us for a brand new musical improv experience!
URL:https://theimprovshop.com/show/sound-and-color/
LOCATION:St. Louis\, 3960 Chouteau Ave.\, St. Louis\, MO\, 63110\, United States
CATEGORIES:Improvisation,Musical Improv
ATTACH;FMTTYPE=image/png:https://theimprovshop.com/cdn-cgi/imagedelivery/nK-Zp4rePU3J22_LxCmgmQ/theimprovshop.com/2026/04/SOUND-COLOR-2zin-Tarandon.png/w=9999
END:VEVENT
BEGIN:VEVENT
DTSTART;TZID=America/Chicago:20260613T190000
DTEND;TZID=America/Chicago:20260613T210000
DTSTAMP:20260423T173259
CREATED:20260415T152538Z
LAST-MODIFIED:20260415T152538Z
UID:56602-1781377200-1781384400@theimprovshop.com
SUMMARY:Peen Choice 2026
DESCRIPTION:Glitz\, glamour and bits\, its the PEEN CHOICE AWARDS 2026! \nDress to impress on the red carpet and enjoy this fully improvised awards show!
URL:https://theimprovshop.com/show/peen-choice-2026/
LOCATION:St. Louis\, 3960 Chouteau Ave.\, St. Louis\, MO\, 63110\, United States
CATEGORIES:Improvisation,Speciality
ATTACH;FMTTYPE=image/jpeg:https://theimprovshop.com/cdn-cgi/imagedelivery/nK-Zp4rePU3J22_LxCmgmQ/theimprovshop.com/2026/04/peen-choice-2026.jpg/w=9999
END:VEVENT
BEGIN:VEVENT
DTSTART;TZID=America/Chicago:20260615T190000
DTEND;TZID=America/Chicago:20260615T203000
DTSTAMP:20260423T173259
CREATED:20260330T144707Z
LAST-MODIFIED:20260330T144707Z
UID:56086-1781550000-1781555400@theimprovshop.com
SUMMARY:School Night
DESCRIPTION:It’s a School Night! Come out to watch 3 teams\, back-to-back-to-back\, no intermission\, all for $0! \nTeam lineup: TBD \nThis is a free event!
URL:https://theimprovshop.com/show/school-night-11/
LOCATION:St. Louis\, 3960 Chouteau Ave.\, St. Louis\, MO\, 63110\, United States
CATEGORIES:Improvisation
ATTACH;FMTTYPE=image/jpeg:https://theimprovshop.com/cdn-cgi/imagedelivery/nK-Zp4rePU3J22_LxCmgmQ/theimprovshop.com/2024/11/schoolnight.jpg/w=9999
END:VEVENT
BEGIN:VEVENT
DTSTART;TZID=America/Chicago:20260618T190000
DTEND;TZID=America/Chicago:20260618T203000
DTSTAMP:20260423T173259
CREATED:20260401T151743Z
LAST-MODIFIED:20260401T151743Z
UID:56195-1781809200-1781814600@theimprovshop.com
SUMMARY:The Menagerie
DESCRIPTION:Come one! Come all! and catch three local improv teams as they perform in front of a live audience. Just like a zoo!…except there’s no cages or fish tanks.
URL:https://theimprovshop.com/show/the-menagerie-25/
LOCATION:St. Louis\, 3960 Chouteau Ave.\, St. Louis\, MO\, 63110\, United States
CATEGORIES:Improvisation
ATTACH;FMTTYPE=image/jpeg:https://theimprovshop.com/cdn-cgi/imagedelivery/nK-Zp4rePU3J22_LxCmgmQ/theimprovshop.com/2025/06/826334f4-6984-43cf-a01c-d2136cec877d.jpg/w=9999
END:VEVENT
BEGIN:VEVENT
DTSTART;TZID=America/Chicago:20260618T210000
DTEND;TZID=America/Chicago:20260618T223000
DTSTAMP:20260423T173259
CREATED:20260415T154510Z
LAST-MODIFIED:20260415T154510Z
UID:56614-1781816400-1781821800@theimprovshop.com
SUMMARY:The Merry-Go-Round
DESCRIPTION:Step right up for The Merry-Go-Round\, an improv extravaganza! Four local improv teams go round and round and take you on a ride of unscripted fun. Don’t miss the show where anything can happen—except boredom!  \nThis is a free event!
URL:https://theimprovshop.com/show/the-merry-go-round-23/
LOCATION:St. Louis\, 3960 Chouteau Ave.\, St. Louis\, MO\, 63110\, United States
CATEGORIES:Improvisation
ATTACH;FMTTYPE=image/jpeg:https://theimprovshop.com/cdn-cgi/imagedelivery/nK-Zp4rePU3J22_LxCmgmQ/theimprovshop.com/2024/12/merry-go-round.jpg/w=9999
END:VEVENT
BEGIN:VEVENT
DTSTART;TZID=America/Chicago:20260619T190000
DTEND;TZID=America/Chicago:20260619T203000
DTSTAMP:20260423T173259
CREATED:20260420T142059Z
LAST-MODIFIED:20260420T142059Z
UID:56766-1781895600-1781901000@theimprovshop.com
SUMMARY:Class Reunion
DESCRIPTION:Get the band back together with a show dedicated to graduated classes from The Improv Shop!
URL:https://theimprovshop.com/show/class-reunion/
LOCATION:St. Louis\, 3960 Chouteau Ave.\, St. Louis\, MO\, 63110\, United States
CATEGORIES:Improvisation
ATTACH;FMTTYPE=image/jpeg:https://theimprovshop.com/cdn-cgi/imagedelivery/nK-Zp4rePU3J22_LxCmgmQ/theimprovshop.com/2026/04/class-reunion.jpg/w=9999
END:VEVENT
BEGIN:VEVENT
DTSTART;TZID=America/Chicago:20260619T210000
DTEND;TZID=America/Chicago:20260619T223000
DTSTAMP:20260423T173259
CREATED:20260401T145817Z
LAST-MODIFIED:20260401T145817Z
UID:56179-1781902800-1781908200@theimprovshop.com
SUMMARY:Cagematch
DESCRIPTION:Cagematch\, which was originally created by Kevin Mullaney (former Artistic Director at the UCB Theater)\, returns for the 2026 Regular Season! Cagematch is a friendly\, competitive longform improv show where the audience votes for their favorite team. The winner moves plays again the following week\, always! \nTonight’s challenger:\nBoy Broth
URL:https://theimprovshop.com/show/cagematch-21/
LOCATION:St. Louis\, 3960 Chouteau Ave.\, St. Louis\, MO\, 63110\, United States
CATEGORIES:Competition,Improvisation
ATTACH;FMTTYPE=image/jpeg:https://theimprovshop.com/cdn-cgi/imagedelivery/nK-Zp4rePU3J22_LxCmgmQ/theimprovshop.com/2026/01/SIGNAGE-Cagematch-regseason-2026-696x1080-1.jpg/w=9999
END:VEVENT
BEGIN:VEVENT
DTSTART;TZID=America/Chicago:20260620T190000
DTEND;TZID=America/Chicago:20260620T203000
DTSTAMP:20260423T173259
CREATED:20260320T160254Z
LAST-MODIFIED:20260320T160254Z
UID:55923-1781982000-1781987400@theimprovshop.com
SUMMARY:POC Improv League
DESCRIPTION:The first and only improv league with all Person of Color players in St. Louis!\n\nThree new independent teams will debut for a night of joy\, color\, comedy\, and unity.\n\nWe’re in this together <3
URL:https://theimprovshop.com/show/poc-improv-league-7/
LOCATION:St. Louis\, 3960 Chouteau Ave.\, St. Louis\, MO\, 63110\, United States
CATEGORIES:Improvisation
ATTACH;FMTTYPE=image/png:https://theimprovshop.com/wp-content/uploads/2025/07/Screenshot-2025-07-07-at-10.52.24 PM.png
END:VEVENT
BEGIN:VEVENT
DTSTART;TZID=America/Chicago:20260620T210000
DTEND;TZID=America/Chicago:20260620T223000
DTSTAMP:20260423T173259
CREATED:20260401T145318Z
LAST-MODIFIED:20260401T145318Z
UID:56167-1781989200-1781994600@theimprovshop.com
SUMMARY:Harold Houdini
DESCRIPTION:Witness the magic of the Harold! Two teams will escape the constraints of space and time and attempt daring performances of the Harold form.
URL:https://theimprovshop.com/show/harold-houdini-3/
LOCATION:St. Louis\, 3960 Chouteau Ave.\, St. Louis\, MO\, 63110\, United States
CATEGORIES:Improvisation,The Harold
ATTACH;FMTTYPE=image/png:https://theimprovshop.com/cdn-cgi/imagedelivery/nK-Zp4rePU3J22_LxCmgmQ/theimprovshop.com/2026/03/Harold-Houdini-Bailey-Kepford.png/w=9999
END:VEVENT
BEGIN:VEVENT
DTSTART;TZID=America/Chicago:20260620T210000
DTEND;TZID=America/Chicago:20260620T223000
DTSTAMP:20260423T173259
CREATED:20260420T140548Z
LAST-MODIFIED:20260420T140548Z
UID:56762-1781989200-1781994600@theimprovshop.com
SUMMARY:Speed Dating w/ Boyfriends
DESCRIPTION:Your Boyfriends are looking for Boyfriends. Join us as we invite two players to join us with a secret goal\, whoever completes their goal first becomes Boyfriend For A Day!
URL:https://theimprovshop.com/show/speed-dating-w-boyfriends/
LOCATION:St. Louis\, 3960 Chouteau Ave.\, St. Louis\, MO\, 63110\, United States
CATEGORIES:Improvisation
ATTACH;FMTTYPE=image/png:https://theimprovshop.com/cdn-cgi/imagedelivery/nK-Zp4rePU3J22_LxCmgmQ/theimprovshop.com/2026/04/Speed-Dating-w-Boyfriends-Jessica-Silas.png/w=9999
END:VEVENT
BEGIN:VEVENT
DTSTART;TZID=America/Chicago:20260625T190000
DTEND;TZID=America/Chicago:20260625T203000
DTSTAMP:20260423T173259
CREATED:20260401T151849Z
LAST-MODIFIED:20260401T151849Z
UID:56199-1782414000-1782419400@theimprovshop.com
SUMMARY:The Menagerie
DESCRIPTION:Come one! Come all! and catch three local improv teams as they perform in front of a live audience. Just like a zoo!…except there’s no cages or fish tanks.
URL:https://theimprovshop.com/show/the-menagerie-26/
LOCATION:St. Louis\, 3960 Chouteau Ave.\, St. Louis\, MO\, 63110\, United States
CATEGORIES:Improvisation
ATTACH;FMTTYPE=image/jpeg:https://theimprovshop.com/cdn-cgi/imagedelivery/nK-Zp4rePU3J22_LxCmgmQ/theimprovshop.com/2025/06/826334f4-6984-43cf-a01c-d2136cec877d.jpg/w=9999
END:VEVENT
BEGIN:VEVENT
DTSTART;TZID=America/Chicago:20260625T210000
DTEND;TZID=America/Chicago:20260625T223000
DTSTAMP:20260423T173259
CREATED:20260415T154534Z
LAST-MODIFIED:20260415T154534Z
UID:56616-1782421200-1782426600@theimprovshop.com
SUMMARY:The Merry-Go-Round
DESCRIPTION:Step right up for The Merry-Go-Round\, an improv extravaganza! Four local improv teams go round and round and take you on a ride of unscripted fun. Don’t miss the show where anything can happen—except boredom!  \nThis is a free event!
URL:https://theimprovshop.com/show/the-merry-go-round-24/
LOCATION:St. Louis\, 3960 Chouteau Ave.\, St. Louis\, MO\, 63110\, United States
CATEGORIES:Improvisation
ATTACH;FMTTYPE=image/jpeg:https://theimprovshop.com/cdn-cgi/imagedelivery/nK-Zp4rePU3J22_LxCmgmQ/theimprovshop.com/2024/12/merry-go-round.jpg/w=9999
END:VEVENT
BEGIN:VEVENT
DTSTART;TZID=America/Chicago:20260626T190000
DTEND;TZID=America/Chicago:20260626T203000
DTSTAMP:20260423T173259
CREATED:20260420T135938Z
LAST-MODIFIED:20260420T135938Z
UID:56754-1782500400-1782505800@theimprovshop.com
SUMMARY:Our Romantic Evening
DESCRIPTION:Bring a date\, bring your best friend\, or just bring yourself to “Our Romantic Evening”. Each set begins with a romantic monologue unknown to the performers until the lights come up. Our featured performers transform these sparks of inspiration into moments of comedy and connection. Sip on a Cosmopolitan and settle in for a night of love\, laughter\, and improvisation.
URL:https://theimprovshop.com/show/our-romantic-evening-2/
LOCATION:St. Louis\, 3960 Chouteau Ave.\, St. Louis\, MO\, 63110\, United States
CATEGORIES:Improvisation
ATTACH;FMTTYPE=image/jpeg:https://theimprovshop.com/cdn-cgi/imagedelivery/nK-Zp4rePU3J22_LxCmgmQ/theimprovshop.com/2025/06/0fdee033-79bb-4dda-96c9-67793d07ceac.jpg/w=9999
END:VEVENT
BEGIN:VEVENT
DTSTART;TZID=America/Chicago:20260626T210000
DTEND;TZID=America/Chicago:20260626T223000
DTSTAMP:20260423T173259
CREATED:20260401T145958Z
LAST-MODIFIED:20260401T145958Z
UID:56183-1782507600-1782513000@theimprovshop.com
SUMMARY:Cagematch
DESCRIPTION:Cagematch\, which was originally created by Kevin Mullaney (former Artistic Director at the UCB Theater)\, returns for the 2026 Regular Season! Cagematch is a friendly\, competitive longform improv show where the audience votes for their favorite team. The winner moves plays again the following week\, always! \nTonight’s challenger:\nJust Communicating
URL:https://theimprovshop.com/show/cagematch-22/
LOCATION:St. Louis\, 3960 Chouteau Ave.\, St. Louis\, MO\, 63110\, United States
CATEGORIES:Competition,Improvisation
ATTACH;FMTTYPE=image/jpeg:https://theimprovshop.com/cdn-cgi/imagedelivery/nK-Zp4rePU3J22_LxCmgmQ/theimprovshop.com/2026/01/SIGNAGE-Cagematch-regseason-2026-696x1080-1.jpg/w=9999
END:VEVENT
BEGIN:VEVENT
DTSTART;TZID=America/Chicago:20260626T210000
DTEND;TZID=America/Chicago:20260626T223000
DTSTAMP:20260423T173259
CREATED:20260401T152211Z
LAST-MODIFIED:20260401T152211Z
UID:56207-1782507600-1782513000@theimprovshop.com
SUMMARY:Missed Connections
DESCRIPTION:Missed Connections is a long-form improv show inspired by the strange\, sweet\, and sometimes unhinged world of Craigslist Missed Connections. \nUsing real posts pulled from the depths of the internet\, the cast dives into the lives\, motivations\, psychology\, and relationships of the people who feel compelled to shout into the abyss in hopes of finding connection.
URL:https://theimprovshop.com/show/missed-connections-5/
LOCATION:St. Louis\, 3960 Chouteau Ave.\, St. Louis\, MO\, 63110\, United States
CATEGORIES:Improvisation
ATTACH;FMTTYPE=image/jpeg:https://theimprovshop.com/cdn-cgi/imagedelivery/nK-Zp4rePU3J22_LxCmgmQ/theimprovshop.com/2025/12/Missed-Connections-Jack-Jacobsen.jpg/w=9999
END:VEVENT
BEGIN:VEVENT
DTSTART;TZID=America/Chicago:20260627T210000
DTEND;TZID=America/Chicago:20260627T223000
DTSTAMP:20260423T173259
CREATED:20260401T152907Z
LAST-MODIFIED:20260401T152907Z
UID:56215-1782594000-1782599400@theimprovshop.com
SUMMARY:KARAOKEDOKIE
DESCRIPTION:Join us for Karaokedokie! YOU sing the songs\, our talented cast IMPROVISES scenes!
URL:https://theimprovshop.com/show/karaokedokie-5/
LOCATION:St. Louis\, 3960 Chouteau Ave.\, St. Louis\, MO\, 63110\, United States
CATEGORIES:Improvisation,Speciality
ATTACH;FMTTYPE=image/jpeg:https://theimprovshop.com/cdn-cgi/imagedelivery/nK-Zp4rePU3J22_LxCmgmQ/theimprovshop.com/2022/03/SIGNAGE-karaokedokie-696x1080-copy.jpg/w=9999
END:VEVENT
BEGIN:VEVENT
DTSTART;TZID=America/Chicago:20260627T210000
DTEND;TZID=America/Chicago:20260627T223000
DTSTAMP:20260423T173259
CREATED:20260415T154758Z
LAST-MODIFIED:20260415T154758Z
UID:56618-1782594000-1782599400@theimprovshop.com
SUMMARY:Am I the Asshole?
DESCRIPTION:Am I The Asshole is an improv show inspired by your favorite life advice subreddits. Our cast will pull from “real” Reddit stories (found on forums such as r/AmITheAsshole\, r/Relationships\, etc.) to explore the relationships and baffling internal logic of various chronically online strangers. Join us\, comment\, upvote?
URL:https://theimprovshop.com/show/am-i-the-asshole-7/
LOCATION:St. Louis\, 3960 Chouteau Ave.\, St. Louis\, MO\, 63110\, United States
CATEGORIES:Improvisation
ATTACH;FMTTYPE=image/png:https://theimprovshop.com/cdn-cgi/imagedelivery/nK-Zp4rePU3J22_LxCmgmQ/theimprovshop.com/2024/07/FE72C8A5-3FAD-4F0F-B377-C0911A22D98F.png/w=9999
END:VEVENT
BEGIN:VEVENT
DTSTART;TZID=America/Chicago:20260629T190000
DTEND;TZID=America/Chicago:20260629T203000
DTSTAMP:20260423T173259
CREATED:20260330T144741Z
LAST-MODIFIED:20260330T144741Z
UID:56088-1782759600-1782765000@theimprovshop.com
SUMMARY:School Night
DESCRIPTION:It’s a School Night! Come out to watch 3 teams\, back-to-back-to-back\, no intermission\, all for $0! \nTeam lineup: TBD \nThis is a free event!
URL:https://theimprovshop.com/show/school-night-12/
LOCATION:St. Louis\, 3960 Chouteau Ave.\, St. Louis\, MO\, 63110\, United States
CATEGORIES:Improvisation
ATTACH;FMTTYPE=image/jpeg:https://theimprovshop.com/cdn-cgi/imagedelivery/nK-Zp4rePU3J22_LxCmgmQ/theimprovshop.com/2024/11/schoolnight.jpg/w=9999
END:VEVENT
END:VCALENDAR